BEGIN:VCALENDAR
VERSION:2.0
PRODID:-//USEP94 - ECPv6.10.1.1//NONSGML v1.0//EN
CALSCALE:GREGORIAN
METHOD:PUBLISH
X-ORIGINAL-URL:https://usep94.fr
X-WR-CALDESC:Évènements pour USEP94
REFRESH-INTERVAL;VALUE=DURATION:PT1H
X-Robots-Tag:noindex
X-PUBLISHED-TTL:PT1H
BEGIN:VTIMEZONE
TZID:Europe/Paris
BEGIN:DAYLIGHT
TZOFFSETFROM:+0100
TZOFFSETTO:+0200
TZNAME:CEST
DTSTART:20220327T010000
END:DAYLIGHT
BEGIN:STANDARD
TZOFFSETFROM:+0200
TZOFFSETTO:+0100
TZNAME:CET
DTSTART:20221030T010000
END:STANDARD
END:VTIMEZONE
BEGIN:VEVENT
DTSTART;VALUE=DATE:20221004
DTEND;VALUE=DATE:20221204
DTSTAMP:20260419T211855
CREATED:20221122T100824Z
LAST-MODIFIED:20230206T110237Z
UID:10000625-1664841600-1670111999@usep94.fr
SUMMARY:Inscription à l'opération "Foot à l'école" 2022-2023
DESCRIPTION:Fruit d’un partenariat entre le district du Val de Marne de Football\, l’USEP94 et la DSDEN 94 et cadrée par une convention\, cette opération propose aux classes de cycle 3 (CM1 /CM2) un projet autour du football. \nLes élèves seront amenés à vivre un cycle EPS de football d’au moins 6 séances (dont 3 avec un intervenant qualifié) et à réaliser une production culturelle (dessin\, sculpture\, affiche\, chanson\, vidéo\, journal…) sur le thème \n« Quand football et jeux olympiques/paralympiques se rencontrent ». \nDescription de l’opération :\n“Foot à l’école” s’articule autour de 2 axes indissociables et obligatoires : \n\nun axe sportif  ;\nun axe culturel.\n\nUne réunion d’information se déroulera fin janvier\, début février\, au sein des circonscriptions des classes inscrites. \nPour les enseignant(e)s qui le souhaitent\, une formation viendra compléter le dispositif MERCREDI 8 FEVRIER 2023 de 9h00 à 12h00 au gymnase du Parc Interdépartemental des Sports de Choisy le Roi (inscription en ligne sur le site de l’USEP\, à venir). \nPour télécharger la circulaire départementale concernant l’orpération “Foot à l’école” : cliquer ici. \nVOLET SPORTIF :\nMise en place d’un cycle football d’au moins 6 séances à partir du printemps 2023. Le district mettra à disposition des classes inscrites un intervenant qualifié et agréé pour 3 séances.\nLes séances doivent permettre de former des élèves arbitres et de pratiquer un football coopétitif (travail autour de l’équité grâce notamment à un jeu de carte qui permet d’équilibrer le rapport de force entre les équipes).\nUne rencontre finale (départementale ou de circonscription) sera proposée. Elle permettra de mettre les élèves en situation d’arbitres et se déroulera selon le principe du football coopétitif. \nLa rencontre départementale SCOLA-FOOT se déroulera le 9 juin au parc du Tremblay (Champigny-sur-Marne) dans le cadre des Jeux du Val de Marne. (fiche d’inscription en ligne via le site de l’Usep\, à venir)\n \nmatériel : mise à disposition de chasubles\, coupelles\, ballons par le district ou l’USEP 94 pour la mise en place des séances. \nVOLET CULTUREL :\nRéalisation d’une production artistique en lien avec le thème : « Quand football et Jeux Olympiques/paralympiques se rencontrent ». \nDans le contexte des Jeux Olympiques et Paralympiques (J.O.P) organisés à Paris (et sur le territoire français) en 2024\, il s’agira tout d’abord de montrer comment le football et les J.O.P peuvent s’associer en termes d’apprentissages liés aux valeurs\, aux différentes formes de pratiques du football et aux rôles sociaux. Par ailleurs\, la mise en lumière du relais de la flamme olympique devra apparaître afin de garantir la tonalité de l’évènement. \nPour accéder à la grille d’évaluation des productions : cliquer ici. \nPour voir les productions primées en 2021-2022 : \n\nProduction statique de la classe de Nathan COROTTE de l’école élémentaire Romain GARY de Thiais ;\nProduction dynamique de la classe de Stéphanie CORRAZE de l’école élémentaire Jean ROSTAND B de Boissy-Saint-Léger.\n\nExtrait du règlement concernant les productions culturelles : cliquer ici. \nTRANSMISSION DE LA PRODUCTION CULTURELLE : AVANT LE 22 AVRIL 2023 MINUIT \nLes enseignants qui inscrivent leur classe s’engagent donc à mettre en oeuvre ces deux volets et participer à la réunion de circonscription. \nPour consulter l’intégralité du Règlement Foot à l’école : cliquer ici \nPour vous inscrire : \n\nMettre à jour  ou créer sa fiche enseignant depuis la page d’accueil du site usep94.fr.\nDéposer votre liste d’élèves\, en complétant le fichier Excel disponible dans la rubrique “mes élèves”  ;\nCompléter le formulaire d’inscription (bouton vert en haut de cette page).\n\n  \n \nProtocole sanitaire :\nDes adaptations pourront être mises en place en fonction de l’évolution du contexte sanitaire. \nPour toutes précisions\, contactez : \nEric PIEDFER au 06 60 92 66 85 \nBruno GAILHAC au 06 82 05 63 19
URL:https://usep94.fr/evenement/inscription-a-loperation-foot-a-lecole-2022-2023/2022-10-04/
CATEGORIES:CIII
ATTACH;FMTTYPE=image/png:https://usep94.fr/wp-content/uploads/Bandeau-Foot-à-lécole-1020x450.001.png
ORGANIZER;CN="Comit%C3%A9 D%C3%A9partemental USEP 94":MAILTO:usep94.ligue94@gmail.com
END:VEVENT
BEGIN:VEVENT
DTSTART;VALUE=DATE:20221018
DTEND;VALUE=DATE:20221019
DTSTAMP:20260419T211855
CREATED:20220826T174227Z
LAST-MODIFIED:20221208T133812Z
UID:10000547-1666051200-1666137599@usep94.fr
SUMMARY:Défis Rando Nature Octobre
DESCRIPTION:Durant toute une journée\, les enfants effectuent une randonnée pédestre avec découverte du milieu forestier et de différents monuments (aqueduc de la Vanne\, ruines du télégraphe de Chappe\, anciennes carrières de grès\, …)\, encadrés par des guides USEP et accompagnés par les enseignants et accompagnateurs des classes. La randonnée pédestre présente 3 degrés de difficultés : \n– un parcours réservé aux classes de Moyenne et Grande Section\, \n– un parcours à dominante sportive\, \n– un parcours à dominante culturelle et découverte. \nOBLIGATIONS POUR PARTICIPER A CET EVENEMENT : \n\nAssociation USEP (ré)affiliée ;\nIntégralité des enfants adhérents et enregistrés nominativement sur le compte de l’enseignant\, via le site usep94.fr.\n\n \nPour chaque journée\, 100 à 150 enfants de la MS au CM2 peuvent être accueillis soit 4 à 6 classes en moyenne (exceptionnellement\, 7 à 8 classes\, en fonction des effectifs des classes et de la disponibilité des bénévoles). \nAvant la rencontre :  \n\nSe concerter avec le\, la\, les collègue(s) partageant le car avant d’inscrire sa classe ;\nInscrire sa classe à l’évènement\, en indiquant dans le cadre commentaire sur les transports\, avec qui vous partagez le car ;\nSignaler dans le formulaire le nombre d’élèves à besoins particuliers (PAI\, situation de handicap\, …).\n\nL’USEP 94 s’attache à l’inclusion de tous les élèves. Pour les élèves à mobilité réduite\, nous disposons d’une joëlette et pouvons former les élèves de la classe à sa manipulation et mobiliser une équipe spécifique de bénévoles… il vous appartient de nous solliciter ! \n \n\nRéserver le car. Les AS USEP pourront bénéficier d’une aide annuelle au financement du transport dans la limite d’une enveloppe dédiée de 500 €. Nous ne pourrons verser cette aide que sur présentation de facture établie à l’ordre de votre association USEP d’école. (aucun remboursement ne pourra être effectué sur la COOPERATIVE D’ECOLE) ;\nInformer les familles sur la sortie (disposer d’un pique-nique\, d’une bouteille d’eau\, d’un sac à dos\, d’une tenue sportive adaptée\, d’un sac poubelle individuel permettant de porter ses déchets personnels) ;\nTrouver des accompagnateurs capables de marcher 4 à 5 heures sur terrain accidenté à une moyenne de 2/3 km/heure ;\nSensibiliser les élèves à l’élaboration d’un pique-nique 0 déchet (ou presque) et à la charte du promeneur en forêt ;\nExploiter quelques fiches sur le milieu forestier mises à votre disposition dans notre espace de téléchargement ;\n\n \nLe jour de la rencontre : Rendez-vous à 10h00 au Parking de la Canche aux Merciers   coordonnées GPS : 48.390452\,2.552572  Plan d’accès ICI\n \nL’équipe USEP disposera d’un référent Vigipirate – COVID\, Formateur de Premiers Secours qui pourra intervenir en cas de besoin. Tous les guides seront en liaison radio pendant les randonnées.\n \nVous trouverez une information sur les tiques\, potentiellement présentes en forêt à cette période\, lien ICI. \nToute la journée\, les enfants seront sensibilisés aux bonnes pratiques en forêt : respect des chemins balisés\, nettoyage des lieux de pique-nique (“déchet + 1”)\, limitation maximum de l’impact sur les milieux traversés (pas de cueillettes\, collecte limitée pour étude en classe : pommes de pin\, feuilles mortes\, etc). \nA la mi journée\, les différentes classes se retrouveront\, avec chacune un espace dédié pour le pique-nique. \n\nVérifier que tous les participants ont une tenue adaptée et confortable (chaussures de sport ou de marche\, vêtement de pluie\, casquette\, sac à dos avec 2 bretelles : pas de sac à bandoulière)\, un pique-nique\, une bouteille ou gourde d’eau (au moins 0\,5 l.). PAS DE PIQUE-NIQUE COLLECTIF DE CANTINE SCOLAIRE ;\nPrévoir\, une trousse de secours pour les “petits bobos”\, les PAI ainsi que les médicaments nécessaires\, les fiches d’urgence des enfants permettant de contacter les responsables légaux (modèle disponible Lien ICI) ;\nRespecter la charte du promeneur en forêt ;\nRéaliser avec les enfants (“Petits Reporters”) un reportage photos et/ou vidéo.\n\nPour les CE2\, CM1 et CM2\, un micro-chantier ONF (15 minutes) pourra être proposé en fin de randonnée\, dans le cadre de la convention USEP 94/ONF. \n\n \nAprès la rencontre : \n\nExploiter quelques fiches sur le milieu forestier mises à votre disposition dans notre espace de téléchargement ;\nPoursuivre la réflexion sur l’impact carbone de nos modes de déplacement et de consommation à l’aide des fiches thermoplanète (à partir du CE2) mises à disposition dans notre espace de téléchargement ;\nFinaliser le reportage sur la rencontre (productions d’écrits\, productions plastiques…).\n\n \nProtocole sanitaire : \nSelon l’évolution du contexte sanitaire\, la randonnée sera soumise au protocole en vigueur (respect des gestes barrières\, mesures de distanciation physique\, lavage des mains\, port du masque…). \nPour toutes précisions\, contactez : \nEric PIEDFER au 06 60 92 66 85 \nBruno GAILHAC au 06 82 05 63 19
URL:https://usep94.fr/evenement/defis-rando-nature-de-octobre/2022-10-18/
LOCATION:Parking de la Canche aux merciers\, France
CATEGORIES:CI,CII,CIII,TS
ATTACH;FMTTYPE=image/png:https://usep94.fr/wp-content/uploads/Photo-Bandeau-DRN.001.png
ORGANIZER;CN="Comit%C3%A9 D%C3%A9partemental USEP 94":MAILTO:usep94.ligue94@gmail.com
GEO:48.390365166475;2.5536592588956
END:VEVENT
BEGIN:VEVENT
DTSTART;VALUE=DATE:20221018
DTEND;VALUE=DATE:20221019
DTSTAMP:20260419T211855
CREATED:20221013T065700Z
LAST-MODIFIED:20221021T194203Z
UID:10000611-1666051200-1666137599@usep94.fr
SUMMARY:Défi 1 2 3 Courez\, en route vers Paris 2024\, Challenge Jacques DUCASSE / ELA (Sportib\, Fontenay-sous-Bois)
DESCRIPTION:L’USEP vous propose un défi collectif dans le cadre du label Génération 2024 et en perspective des JO de Paris 2024. Ce défi s’inscrit aussi dans le dispositif 30 min d’Activité Physique Quotidienne. \nAlors rejoignez-nous pour : \n\nparticiper à un effort collectif en endurance relais avec d’autres classes ;\ndonner le meilleur de soi en parcourant le plus grand nombre de tours\, chacun à son rythme ;\nfaire preuve de solidarité\, en faisant un don à l’association ELA (si vous le souhaitez). Pour montrer l’exemple\, l’USEP 94 versera 200 € tous les 10 000 km parcourus par des licenciés usépiens ;\nlutter contre la sédentarité en pratiquant la course de longue durée.\n\nPour découvrir cet évènement pouvant accueillir jusqu’à 30 classes par demi-journée :\n\nregardez le film de présentation disponible sur la chaîne Viméo de l’Usep (cliquer ici).\n\nAvant la rencontre : \n\nMettre à jour  ou créer sa fiche enseignant depuis la page d’accueil du site usep94.fr.\nInscrire sa classe à l’évènement\, en précisant le mode transport ;\nSignaler dans le formulaire le nombre d’élèves à besoins particuliers (PAI\, situation de handicap\, …).\n\nL’USEP 94 s’attache à l’inclusion de tous les élèves. Pour les élèves à mobilité réduite\, nous disposons d’une joëlette et pouvons former les élèves de la classe à sa manipulation et mobiliser une équipe spécifique de bénévoles… il vous appartient de nous solliciter ! \n \n\nInformer les familles sur l’événement (disposer  d’une bouteille d’eau\, d’un sac à dos\, d’une tenue sportive adaptée\, proposer aux familles qui le souhaitent d’effectuer un don) ;\nRegarder le tutoriel sur le montage des kits 1 2 3 Courez  (en lien ICI) . Vous verrez ainsi la rapidité de mise en place du dispositif.\nPréparer les élèves à courir longtemps\, de manière progressive\, chacun à son rythme ;\nPrésenter l’association ELA aux élèves ; \nApprendre la chanson d’ELA  (disponible ICI) dont les paroles (ICI) sont tout à fait adaptées à l’ensemble des classes. \n\nLe jour de la rencontre :\n\nInstaller le parcours en suivant les consignes mises à disposition dans le tutoriel.\nAvant le départ de chaque course\, les classes seront invitées à chanter la chanson d’ELA (voir au-dessus) ;\nVeiller au respect des consignes concernant le passage des compteurs et organiser les relais pour qu’il y ait toujours des enfants sur le parcours\, pendant la durée de l’épreuve ;\nSi vous le souhaitez\, réalisez un reportage avec les enfants (“Petits Reporters”).\n\nMettre à disposition une tirelire pour les classes\, les enseignants et accompagnateurs qui souhaiteraient effectuer un don que nous transmettrons à l’association ELA.  \n \nDéroulement de l’épreuve d’endurance relais :\nCeci est une proposition de base\, elle pourra être adaptée par vos soins selon les spécificités locales \n\n2 à 3 créneaux de 45 minutes par demi-journée ;\nMise à disposition des classes d’un circuit de 250 m à 400 m\, pendant 45 minutes ; \nLa distance parcourue par chaque enfant vient s’ajouter à celles des autres\, à l’aide d’un portillon actionné par les coureurs à chaque tour.\nLe cumul de distance est collectif. Le nombre de tours affiché sur les compteurs est additionnée en fin de course puis traduit en kilomètres. La distance finale est donc le fruit de l’ensemble des classes ayant couru sur le créneau horaire.\nLes enseignants gèrent la participation de chacun de leurs élèves pendant les 45 minutes\, l’essentiel étant que le circuit soit toujours occupé par des coureurs de la classe.\nAprès chaque créneau\, relever les compteurs. Calculer la distance parcourue et la transmettre par SMS à Eric PIEDFER-QUÊNEY.\n\nAprès la rencontre :\n\nConsulter l’application Défi afin de suivre l’évolution du cumul de kilomètres parcourus ;\nMettre en place un remue-méninges autour du thème sport et santé à partir de la question ” Pourquoi est-ce bon de faire du sport pour notre santé ?” ;\nFinaliser le reportage sur la rencontre (productions d’écrits\, productions plastiques…).\n\nNous vous transmettrons\, par la suite\, un diplôme de participation et vous tiendrons informés du cumul de distances parcourues ainsi que des dons récoltés pour ELA. \n \nProtocole sanitaire :\nDes adaptations pourront être mises en place en fonction de l’évolution du contexte sanitaire. \nPour toutes précisions\, contactez : \nEric PIEDFER au 06 60 92 66 85 \nBruno GAILHAC au 06 82 05 63 19
URL:https://usep94.fr/evenement/defi-1-2-3-courez-en-route-vers-paris-2024-challenge-jacques-ducasse-ela-sportib-fontenay-sous-bois/2022-10-18/
LOCATION:Stade Pierre de Coubertin\, Fontenay-sous-Bois\, 255 rue la Fontaine\, Fontenay-sous-Bois\, 94120\, France
CATEGORIES:CII,CIII,TS
ATTACH;FMTTYPE=image/png:https://usep94.fr/wp-content/uploads/Bandeau-123-CV-1020x450.001.png
ORGANIZER;CN="Comit%C3%A9 D%C3%A9partemental USEP 94":MAILTO:usep94.ligue94@gmail.com
GEO:48.857692;2.4860402
X-APPLE-STRUCTURED-LOCATION;VALUE=URI;X-ADDRESS=Stade Pierre de Coubertin Fontenay-sous-Bois 255 rue la Fontaine Fontenay-sous-Bois 94120 France;X-APPLE-RADIUS=500;X-TITLE=255 rue la Fontaine:geo:2.4860402,48.857692
END:VEVENT
END:VCALENDAR