BEGIN:VCALENDAR
VERSION:2.0
PRODID:-//USEP94 - ECPv6.10.1.1//NONSGML v1.0//EN
CALSCALE:GREGORIAN
METHOD:PUBLISH
X-ORIGINAL-URL:https://usep94.fr
X-WR-CALDESC:Évènements pour USEP94
REFRESH-INTERVAL;VALUE=DURATION:PT1H
X-Robots-Tag:noindex
X-PUBLISHED-TTL:PT1H
BEGIN:VTIMEZONE
TZID:Europe/Paris
BEGIN:DAYLIGHT
TZOFFSETFROM:+0100
TZOFFSETTO:+0200
TZNAME:CEST
DTSTART:20230326T010000
END:DAYLIGHT
BEGIN:STANDARD
TZOFFSETFROM:+0200
TZOFFSETTO:+0100
TZNAME:CET
DTSTART:20231029T010000
END:STANDARD
END:VTIMEZONE
BEGIN:VEVENT
DTSTART;VALUE=DATE:20230123
DTEND;VALUE=DATE:20230128
DTSTAMP:20260419T160507
CREATED:20230130T082830Z
LAST-MODIFIED:20230328T123813Z
UID:10000661-1674432000-1674863999@usep94.fr
SUMMARY:Citoyen Pour La Vie : J'apprends à porter secours (Chevilly-Larue)
DESCRIPTION:Apprendre à Porter Secours pour devenir Citoyen Pour La Vie ! \nDeux séances d’1h30 associant études de cas\, ateliers de pratique afin de découvrir la chaîne des secours et les premiers gestes de secours. \n\n\n \nNé en 2009 d’une volonté du Conseil Municipal des Enfants d’initier les élèves de CM2 de la ville aux gestes de premiers secours\, l’USEP a mis en place ce dispositif de formation des citoyens de demain. \nPublic concerné : \n\nélèves de CM2 des écoles élémentaires Pierre et Marie Curie\, Louis Pasteur\, Paul Bert A et B de Chevilly-Larue \n\nAvant la formation : \n\nInscrire sa classe à l’évènement ;\nSignaler dans le formulaire le nombre d’élèves à besoins particuliers (PAI\, situation de handicap\, …) ainsi que les adaptions à envisager.\n\n\n\n \nContenu et déroulement de la formation : \n\n2 classes accueillies par créneau d’1h30 ;\n2 séances par classe sur 2 journées différentes (selon planning transmis)\n\nSéance n°1  :\n\n Connaître les numéros d’urgence – la chaine des secours\nProtéger du suraccident\nElaborer  un message d’alerte\n\n\nSéance n°2 : \n\nPasser un message d’alerte à partir de situations d’accidents simulés\nConduite à tenir face à : un saignement important (hémorragie) – une brûlure – un traumatisme du dos\nApprentissage de la conduite à tenir face à une victime qui a perdu connaissance mais qui respire (mise sur le côté : PLS)\n\n\nAprès la formation : \n\nProlongement des apprentissages à l’aide des supports transmis en fin de seconde séance ;\nPossibilité de valider l’attestation Apprendre à Porter Secours dans le LSU\, au regard du contenu délivré.\n\n \nPour toutes précisions\, contactez : \nEric PIEDFER au 06 60 92 66 85 \nBruno GAILHAC au 06 82 05 63 19
URL:https://usep94.fr/evenement/citoyen-pour-la-vie-japprends-a-porter-secours-chevilly-larue/
LOCATION:Ancien Centre de Loisirs de Chevilly-Larue\, 15 Rue de l'Adjudant-Chef Dericbourg\, Chevilly-Larue\, 94550\, France
CATEGORIES:CIII,TS
ATTACH;FMTTYPE=image/png:https://usep94.fr/wp-content/uploads/Bandeau-CPLV-1020x450.001.png
ORGANIZER;CN="Comit%C3%A9 D%C3%A9partemental USEP 94":MAILTO:usep94.ligue94@gmail.com
GEO:48.7724792;2.3556368
X-APPLE-STRUCTURED-LOCATION;VALUE=URI;X-ADDRESS=Ancien Centre de Loisirs de Chevilly-Larue 15 Rue de l'Adjudant-Chef Dericbourg Chevilly-Larue 94550 France;X-APPLE-RADIUS=500;X-TITLE=15 Rue de l'Adjudant-Chef Dericbourg:geo:2.3556368,48.7724792
END:VEVENT
END:VCALENDAR