BEGIN:VCALENDAR
VERSION:2.0
PRODID:-//USEP94 - ECPv6.10.1.1//NONSGML v1.0//EN
CALSCALE:GREGORIAN
METHOD:PUBLISH
X-ORIGINAL-URL:https://usep94.fr
X-WR-CALDESC:Évènements pour USEP94
REFRESH-INTERVAL;VALUE=DURATION:PT1H
X-Robots-Tag:noindex
X-PUBLISHED-TTL:PT1H
BEGIN:VTIMEZONE
TZID:Europe/Paris
BEGIN:DAYLIGHT
TZOFFSETFROM:+0100
TZOFFSETTO:+0200
TZNAME:CEST
DTSTART:20230326T010000
END:DAYLIGHT
BEGIN:STANDARD
TZOFFSETFROM:+0200
TZOFFSETTO:+0100
TZNAME:CET
DTSTART:20231029T010000
END:STANDARD
END:VTIMEZONE
BEGIN:VEVENT
DTSTART;VALUE=DATE:20230404
DTEND;VALUE=DATE:20230405
DTSTAMP:20260419T143109
CREATED:20230309T090916Z
LAST-MODIFIED:20230309T091826Z
UID:10000687-1680566400-1680652799@usep94.fr
SUMMARY:SOP 2023 : En route vers les Jeux à Champigny-sur-Marne
DESCRIPTION:En perspective des JOP de Paris 2024. L’USEP 94 propose aux classes de CE2\, CM1 et ou CM2 des écoles labellisées Génération 2024 de participer à des ateliers issus de disciplines Olympiques ou Paralympiques.\n \nLe thème de cette Semaine Olympique et Paralympique 2023 sera l’inclusion. Une valeur que nous défendons à vos côtés \nAvant la rencontre : \n\nMettre à jour  ou créer sa fiche enseignant depuis la page d’accueil du site usep94.fr.\nSe concerter avec le-la les collègue-s pour l’organisation éventuelle des transports ;\nInscrire sa classe à l’évènement\, en précisant le mode transport ;\nSignaler dans le formulaire le nombre d’élèves à besoins particuliers (PAI\, situation de handicap\, …).\n\nL’USEP 94 s’attache à l’inclusion de tous les élèves… il vous appartient de nous solliciter\, pour envisager les adaptations qui seraient nécessaires ! \n \n\nInformer les familles sur l’événement (disposer  d’une bouteille d’eau\, d’un sac à dos\, d’une tenue sportive adaptée) ;\nPrévoir un ou deux accompanateur-trice-s par classe ;\nConstituer deux équipes mixtes au sein de chaque classe ;\nSensibiliser les élèves aux valeurs de l’Olympisme et du Paralympisme ;\nPréparer un drapeau ou un totem ou une flamme par équipe.\n\n \nLe jour de la rencontre :\nRendez-vous au Stade Léon Duprat de Champigny-sur-Marne  (en respectant les créneaux qui vous seront transmis) \n\nPrévoir\, une trousse de secours pour les “petits bobos”\, les PAI ainsi que les médicaments nécessaires\, les fiches d’urgence des enfants permettant de contacter les responsables légaux (exemple transmis en début d’année) ;\nPasser à l’accueil pour signaler votre arrivée. Afin de garantir la sécurité de tous\, les organisateurs porteront des chasubles rouges\, les enseignants des chasubles vertes et les accompagnateurs des chasubles jaunes (matériel remis à l’accueil\, dans le cadre du protocole Vigipirate) .\nSi vous le souhaitez\, réalisez un reportage avec les enfants (“Petits Reporters”).\n\n \nDéroulement de la rencontre :\n2 classes accueillies par créneau (horaire indicatif : 9h00-10h30\, 10h35-12h05\, 13h30-15h00\, 15h05-16h35). \n\n3 ateliers de 25 minutes accueillant chacun une demi-classe ;\nAtelier 1 : Biathlon tir laser (parcours de course navettes + tir avec carabine laser sur cible type biathlon) ;\nAtelier 2 :  Tir à l’arc SoftArchery (il est préférable que les élèves aient suivi un cycle  SoftArchery\, en amont) ;\nAtelier 3 : Parcours de manipulation d’une joëlette.\n\nConclusion de la rencontre avec 10 min de débat associatif  sur l’inclusion \nAprès la rencontre :\n\nMettre en place un remue-méninges autour de l’olympisme ou de l’inclusion ;\nFinaliser le reportage sur la rencontre (productions d’écrits\, productions plastiques…).\n\n \nProtocole sanitaire :\nDes adaptations pourront être mises en place en fonction de l’évolution du contexte sanitaire. \nPour toutes précisions\, contactez : \nEric PIEDFER au 06 60 92 66 85 \nBruno GAILHAC au 06 82 05 63 19
URL:https://usep94.fr/evenement/sop-2023-en-route-vers-les-jeux-a-champigny-sur-marne/
LOCATION:Stade Léon Duprat – Champigy-sur-Marne\, avenue Eugénie\, Champigny-sur-Marne\, 94500\, France
CATEGORIES:CIII,HTS,TS
ATTACH;FMTTYPE=image/png:https://usep94.fr/wp-content/uploads/Bandeau-SOP-1020x450.001.png
ORGANIZER;CN="Comit%C3%A9 D%C3%A9partemental USEP 94":MAILTO:usep94.ligue94@gmail.com
GEO:48.8153804;2.5559882
X-APPLE-STRUCTURED-LOCATION;VALUE=URI;X-ADDRESS=Stade Léon Duprat – Champigy-sur-Marne avenue Eugénie Champigny-sur-Marne 94500 France;X-APPLE-RADIUS=500;X-TITLE=avenue Eugénie:geo:2.5559882,48.8153804
END:VEVENT
END:VCALENDAR