BEGIN:VCALENDAR
VERSION:2.0
PRODID:-//USEP94 - ECPv6.10.1.1//NONSGML v1.0//EN
CALSCALE:GREGORIAN
METHOD:PUBLISH
X-ORIGINAL-URL:https://usep94.fr
X-WR-CALDESC:Évènements pour USEP94
REFRESH-INTERVAL;VALUE=DURATION:PT1H
X-Robots-Tag:noindex
X-PUBLISHED-TTL:PT1H
BEGIN:VTIMEZONE
TZID:Europe/Paris
BEGIN:DAYLIGHT
TZOFFSETFROM:+0100
TZOFFSETTO:+0200
TZNAME:CEST
DTSTART:20240331T010000
END:DAYLIGHT
BEGIN:STANDARD
TZOFFSETFROM:+0200
TZOFFSETTO:+0100
TZNAME:CET
DTSTART:20241027T010000
END:STANDARD
END:VTIMEZONE
BEGIN:VEVENT
DTSTART;VALUE=DATE:20240516
DTEND;VALUE=DATE:20240517
DTSTAMP:20260420T124652
CREATED:20231112T162128Z
LAST-MODIFIED:20240317T212203Z
UID:10000755-1715817600-1715903999@usep94.fr
SUMMARY:Défis Rando Nature Avril/Mai 2024
DESCRIPTION:Durant toute une journée\, les enfants effectuent une randonnée pédestre avec découverte du milieu forestier et de différents monuments (aqueduc de la Vanne\, ruines du télégraphe de Chappe\, anciennes carrières de grès\, …)\, encadrés par des guides USEP et accompagnés par les enseignants et accompagnateurs des classes. La randonnée pédestre présente 4 degrés de difficultés : \n– un parcours réservé aux classes de Moyenne et Grande Section\, \n– un parcours à dominante sportive\, \n– un parcours à dominante culturelle et découverte\, \n– La grande traversée : parcours partant de la Canche aux Merciers pour rejoindre le Parking de Noisy-sur-Ecole. (nécessite une bonne pratique de la marche de tous les participants\, un peu plus de 3 heures de marche). \nCette dernière formule sera confirmée en fonction des personnes de l’équipe USEP présentes le jour de votre sortie. \nLES ASSOCIATIONS N’AYANT PAS PU PARTICIPER AUX RANDONNÉES EN SEPTEMBRE/OCTOBRE SERONT PRIORITAIRES.\nNOUS VOUS FERONS PARVENIR LE PLANNING DES ATTRIBUTIONS AU DÉBUT DU MOIS DE JANVIER\, POUR QUE VOUS PUISSIEZ BÉNÉFICIER DES MEILLEURS TARIFS DE CAR.\nOBLIGATIONS POUR PARTICIPER A CET ÉVÉNEMENT :\n \n\nAssociation USEP (ré)affiliée ;\nInformations personnelles mises à jour avec numéro de téléphone portable (contact en cas d’urgence). Pas-à-pas pour la création d’un compte USEP (cliquer ICI).\n\nIntégralité des enfants adhérents et enregistrés nominativement sur le compte de l’enseignant\, via le site usep94.fr ;\nFormulaire d’inscription renseigné dans son intégralité.\n\nLES DEMANDES NE SATISFAISANT PAS A CES OBLIGATIONS SERONT REJETÉES. \n \nPour chaque journée\, 100 à 160 enfants de la MS au CM2 peuvent être accueillis soit 4 à 6 classes en moyenne (exceptionnellement\, 7 à 8 classes\, en fonction des effectifs des classes et de la disponibilité des bénévoles). \nAvant la rencontre :  \n\nSe concerter avec le\, la\, les collègue(s) partageant le car avant d’inscrire sa classe ;\nInscrire sa classe à l’évènement\, en indiquant dans le cadre commentaire sur les transports\, avec qui vous partagez le car ;\nSignaler dans le formulaire le nombre d’élèves à besoins particuliers (PAI\, situation de handicap\, …).\n\nL’USEP 94 s’attache à l’inclusion de tous les élèves. Pour les élèves à mobilité réduite\, nous disposons d’une joëlette et pouvons former les élèves de la classe à sa manipulation et mobiliser une équipe spécifique de bénévoles… il vous appartient de nous solliciter\, en nous envoyant un mail à usep94.materiel@gmail.com et copies à epiedfer.usep94.ligue94@gmail.com et bgailhac.usep94.ligue94@gmail.com\n \n \n\nRéserver le car.\nInformer les familles sur la sortie (disposer d’un pique-nique\, d’une bouteille d’eau\, d’un sac à dos avec 2 bretelles\, d’une tenue sportive adaptée\, d’un sac poubelle individuel permettant de porter ses déchets personnels) ;\nTrouver des accompagnateurs capables de marcher 4 à 5 heures sur terrain accidenté à une moyenne de 2/3 km/heure ;\nSensibiliser les élèves à l’élaboration d’un pique-nique 0 déchet (outils disponibles ICI) et à la charte du promeneur en forêt ;\nExploiter quelques fiches sur le milieu forestier mises à votre disposition dans notre espace de téléchargement ;\n\n \nAIDE AUX TRANSPORTS\nUne fois par saison\, les AS USEP peuvent bénéficier d’une aide au financement du transport dans la limite de l’enveloppe annuelle de 8 000 € arrêtée par l’USEP 94 pour l’ensemble des rencontres de Pleine Nature.  \nEn fonction des demandes\, un arbitrage sera effectué et pourra conduire à une aide annuelle entre 100 et 500 euros. Nous ne pourrons verser cette aide que sur présentation de facture établie à l’ordre de votre association USEP d’école. (aucun remboursement ne pourra être effectué sur la COOPERATIVE D’ECOLE). \nNous vous invitons donc vivement à utiliser votre quota de car municipal\, pour organiser cette sortie.\n \nLe jour de la rencontre : Rendez-vous à 10h00 au Parking de la Canche aux Merciers   coordonnées GPS : 48.390452\,2.552572  Plan d’accès ICI\n \nL’équipe USEP disposera d’un référent Vigipirate – COVID\, Formateur de Premiers Secours qui pourra intervenir en cas de besoin. Tous les guides seront en liaison radio pendant les randonnées.\n \nVous trouverez une information sur les tiques\, potentiellement présentes en forêt à cette période\, lien ICI. \nToute la journée\, les enfants seront sensibilisés aux bonnes pratiques en forêt : respect des chemins balisés\, nettoyage des lieux de pique-nique (“déchet + 1”)\, limitation maximum de l’impact sur les milieux traversés (pas de cueillettes\, collecte limitée pour étude en classe : pommes de pin\, feuilles mortes\, etc). \nA la mi journée\, les différentes classes se retrouveront\, avec chacune un espace dédié pour le pique-nique. \n\nVérifier que tous les participants ont une tenue adaptée et confortable (chaussures de sport ou de marche\, vêtement de pluie\, casquette\, sac à dos avec 2 bretelles : pas de sac à bandoulière)\, un pique-nique\, une bouteille ou gourde d’eau (au moins 0\,5 l.). PAS DE PIQUE-NIQUE COLLECTIF DE CANTINE SCOLAIRE ;\nPrévoir\, une trousse de secours pour les “petits bobos”\, les PAI ainsi que les médicaments nécessaires\, les fiches d’urgence des enfants permettant de contacter les responsables légaux (modèle disponible Lien ICI) ;\nRespecter la charte du promeneur en forêt ;\nSi vous le souhaitez\, réaliser avec les enfants (“Petits Reporters”) un reportage photos et/ou vidéo.\n\nPour les CE2\, CM1 et CM2\, un micro-chantier ONF (15 minutes) pourra être proposé en fin de randonnée\, dans le cadre de la convention USEP 94/ONF. \n\n \nAprès la rencontre : \n\nExploiter quelques fiches sur le milieu forestier mises à votre disposition dans notre espace de téléchargement ;\nPoursuivre la réflexion sur l’impact carbone de nos modes de déplacement et de consommation à l’aide des fiches thermoplanète (à télécharger ICI) ou de l’écomobilité (à télécharger ICI) ;\nFinaliser le reportage sur la rencontre (productions d’écrits\, productions plastiques…).\n\n \nProtocole sanitaire : \nSelon l’évolution du contexte sanitaire\, la randonnée sera soumise au protocole en vigueur (respect des gestes barrières\, mesures de distanciation physique\, lavage des mains\, port du masque…). \nPour toutes précisions\, contactez : \nEric PIEDFER au 06 60 92 66 85 \nBruno GAILHAC au 06 82 05 63 19
URL:https://usep94.fr/evenement/defis-rando-nature-avril-mai-2024/2024-05-16/
LOCATION:Parking de la Canche aux merciers\, France
CATEGORIES:CI,CII,CIII,TS
ATTACH;FMTTYPE=image/png:https://usep94.fr/wp-content/uploads/Photo-Bandeau-DRN.001.png
ORGANIZER;CN="Comit%C3%A9 D%C3%A9partemental USEP 94":MAILTO:usep94.ligue94@gmail.com
GEO:48.390365166475;2.5536592588956
END:VEVENT
BEGIN:VEVENT
DTSTART;VALUE=DATE:20240516
DTEND;VALUE=DATE:20240517
DTSTAMP:20260420T124652
CREATED:20240229T075643Z
LAST-MODIFIED:20240522T154129Z
UID:10000784-1715817600-1715903999@usep94.fr
SUMMARY:Défi Course d'Orientation Génération 2024 (Ptits Bonis)
DESCRIPTION:L’USEP vous propose un défi Course d’Orientation dans le cadre du label Génération 2024 et en perspective des JO de Paris 2024.\n \nUne activité adaptable à tous les niveaux de classe pour : \n\napprendre à se repérer dans l’espace ;\nélaborer et mémoriser un itinéraire ;\ncollaborer et mettre en place des stratégies ;\n\nlutter contre la sédentarité en pratiquant la course d’orientation.\n\n \nPrésentation du Défi CO G2024 Mots/parcours USEP94 extrait de la chaîne UFOLEP94 – USEP94 sur Vimeo. \nAvant la rencontre : \n\nMettre à jour  ou créer sa fiche enseignant depuis la page d’accueil du site usep94.fr.\nInscrire sa classe à l’évènement.\n\nL’USEP 94 s’attache à l’inclusion de tous les élèves. Pour les élèves à mobilité réduite\, nous disposons d’une joëlette et pouvons former les élèves de la classe à sa manipulation et mobiliser une équipe spécifique de bénévoles… il vous appartient de nous solliciter ! \n \n\nRegarder le film de présentation de la course d’orientation (cf. lien au-dessus)\n\nTélécharger les différents outils sur la CORFID (disponibles ICI);\nPrésenter le dispositif aux élèves ainsi que les outils qu’ils devront manipuler.\n\nLe jour de la rencontre : Rendez-vous au lieu défini avec l’équipe USEP   (selon le planning établi par vos soins en lien avec Eric PIEDFER-QUENEY)\n\nPrévoir\, une trousse de secours pour les “petits bobos”\, les PAI ainsi que les médicaments nécessaires\, les fiches d’urgence des enfants permettant de contacter les responsables légaux (exemple transmis en début d’année) ;\nPasser à l’accueil pour signaler votre arrivée. Afin de garantir la sécurité de tous\, les organisateurs porteront des chasubles rouges\, les enseignants des chasubles vertes et les accompagnateurs des chasubles jaunes (matériel remis à l’accueil\,dans le cadre du protocole Vigipirate) ;\n\n \nDéroulement de l’épreuve :\nCeci est une proposition de base\, elle pourra être adaptée par vos soins selon les spécificités locales \n\n2 à 3 créneaux de 50 minutes par demi-journée ;\nAccueil d’une classe par créneau (avec possibilité de tutorat\, selon votre organisation) ; \nRemise des puces électroniques et rappel des consignes qui auront été expliquées en classe en amont ;\nLancement de l’activité : selon le niveau de classe\, recherche d’une illustration\, d’une série d’illustrations ou d’une suite ordonnée de lettres composant un mot ; \nRetour à la table de jeu pour vérifier si l’élève a réussi son 1er défi ;\nEffaçage de la puce  ;\nRemise ou choix d’un nouveau défi ;\nLes enseignants gèrent la participation de chacun de leurs élèves pendant les 50 minutes.\n\nAprès la rencontre :\n\nEnvisager les prolongements autour de la découverte d’épreuves olympiques\, d’évènements ayant marqué l’histoire des J.O. .\n\nSi vous réalisez un reportage ou une production autour de cette rencontre\, merci de le/la transmettre à Isabelle GROS : igros.usep94.ligue94@gmail.com .\n \n \nProtocole sanitaire :\nCette activité est compatible avec les différents niveaux du protocole sanitaire\, tant que les activités sportives sont autorisées (1 classe par créneau\, désinfection du matériel après chaque créneau\, absence de brassage).\n \nPour toutes précisions\, contactez : \nEric PIEDFER au 06 60 92 66 85 \nBruno GAILHAC au 06 82 05 63 19
URL:https://usep94.fr/evenement/defi-course-dorientation-generation-2024-ptits-bonis/
CATEGORIES:CI,TS
ATTACH;FMTTYPE=image/png:https://usep94.fr/wp-content/uploads/Bandeau-CORFID-1020x450.001.png
ORGANIZER;CN="Comit%C3%A9 D%C3%A9partemental USEP 94":MAILTO:usep94.ligue94@gmail.com
END:VEVENT
END:VCALENDAR