BEGIN:VCALENDAR
VERSION:2.0
PRODID:-//USEP94 - ECPv6.10.1.1//NONSGML v1.0//EN
CALSCALE:GREGORIAN
METHOD:PUBLISH
X-ORIGINAL-URL:https://usep94.fr
X-WR-CALDESC:Évènements pour USEP94
REFRESH-INTERVAL;VALUE=DURATION:PT1H
X-Robots-Tag:noindex
X-PUBLISHED-TTL:PT1H
BEGIN:VTIMEZONE
TZID:Europe/Paris
BEGIN:DAYLIGHT
TZOFFSETFROM:+0100
TZOFFSETTO:+0200
TZNAME:CEST
DTSTART:20240331T010000
END:DAYLIGHT
BEGIN:STANDARD
TZOFFSETFROM:+0200
TZOFFSETTO:+0100
TZNAME:CET
DTSTART:20241027T010000
END:STANDARD
END:VTIMEZONE
BEGIN:VEVENT
DTSTART;TZID=Europe/Paris:20240514T090000
DTEND;TZID=Europe/Paris:20240514T120000
DTSTAMP:20260420T023311
CREATED:20240327T155307Z
LAST-MODIFIED:20240618T151906Z
UID:10000806-1715677200-1715688000@usep94.fr
SUMMARY:Course solidaire : COURSE CONTRE LA FAIM (Alfortville)
DESCRIPTION:En collaboration avec la circonscription d’Alfortville\, l’USEP vous propose un défi collectif qui s’inscrit dans le dispositif 30 min d’Activité Physique Quotidienne associé à une sensibilisation à la lutte contre la faim ses causes et ses conséquences. Alors rejoignez-nous pour : \n\nparticiper à un effort collectif en endurance relais avec d’autres classes de la GS au CM2 ;\ndonner le meilleur de soi en parcourant le plus grand nombre de tours\, chacun à son rythme ;\nlutter contre la sédentarité en pratiquant la course de longue durée.\n\nPour découvrir comment se déroule ce genre d’évènement pouvant accueillir jusqu’à 30 classes par demi-journée :\n\nregardez le film de présentation disponible sur la chaîne Viméo de l’Usep (cliquer ici).\n\nAvant la rencontre : \nMettre à jour  ou créer sa fiche enseignant depuis la page d’accueil du site usep94.fr. (pas-à-pas pour créer un compte ICI). Compléter les informations complémentaires sur le profil des enfants à besoins spécifiques pour lesquels\, des adaptations seraient nécessaires et nous contacter par mail). \nDANS LE CADRE DU PLAN VIGIPIRATE\, il est indispensable que les listes d’élèves et les coordonnées téléphoniques personnelles des enseignant-e-s soient renseignées sur le compte enseignant. \n\nInscrire sa classe à l’évènement\, en formulant 3 voeux de créneaux ;\n\nL’USEP 94 s’attache à l’inclusion de tous les élèves. Pour les élèves à mobilité réduite\, nous disposons d’une joëlette et pouvons former les élèves de la classe à sa manipulation et mobiliser une équipe spécifique de bénévoles… il vous appartient de nous solliciter ! \n \n\nInformer les familles sur la sortie (disposer  d’une bouteille d’eau\, d’un sac à dos\, d’une tenue sportive adaptée\, proposer aux familles qui le souhaitent d’effectuer un don) ;\nTrouver des accompagnateurs les adultes pourront participer à la course ;\nRegarder le tutoriel sur le montage des kits 1 2 3 Courez  (en lien ICI) . Ne tenez compte que des consignes de passage des compteurs et d’utilisation de l’application Défi. Nous nous chargerons de l’installation du parcours et des kits de compteurs.\nPréparer les élèves à courir longtemps\, de manière progressive\, chacun à son rythme ;\nMener une sensibilisation à la lutte contre de la faim\, ses causes et ses conséquences ; \nApprendre la chanson des Enfantastiques “Pour un monde Nouveau” dont les paroles et la version chantée sont disponibles sur le site de l’Académie de Versailles (ICI). \n\nLe jour de la rencontre : Rendez-vous au Stade Val de Seine (plan google maps ICI) (selon le planning qui vous sera transmis)\n\nPrévoir\, une trousse de secours pour les “petits bobos”\, les PAI ainsi que les médicaments nécessaires\, les fiches d’urgence des enfants permettant de contacter les responsables légaux (exemple transmis en début d’année) ;\nPasser à l’accueil pour signaler votre arrivée. Afin de garantir la sécurité de tous\, les organisateurs porteront des chasubles rouges\, les enseignants des chasubles vertes et les accompagnateurs des chasubles jaunes (matériel remis à l’accueil\,dans le cadre du protocole Vigipirate) ;\nAvant le départ de chaque course\, les classes seront invitées à chanter la chanson des Enfantastiques “Pour un monde nouveau” (voir au-dessus) ;\nVeiller au respect des consignes concernant le passage des compteurs et organiser les relais pour qu’il y ait toujours des enfants sur le parcours\, pendant la durée de l’épreuve ;\nSi vous le souhaitez\, réalisez avec les enfants (“Petits Reporters”) un reportage photos et/ou vidéo.\n\nLes classes ayant réalisé un appel aux dons transmettront ceux-ci\, via la coopérative d’école\, à l’association ACTION CONTRE LA FAIM.  \n \nDéroulement de l’épreuve d’endurance relais :\n\n3 créneaux de 45 minutes par demi-journée ;\nMise à disposition des classes d’un circuit de 300 à 400 m\, pendant 45 minutes ; \nLa distance parcourue par chaque enfant vient s’ajouter à celles des autres\, à l’aide d’un portillon actionné par les coureurs à chaque tour.\nLe cumul de distance est collectif. Le nombre de tours affiché sur les compteurs est additionnée en fin de course puis traduit en kilomètres. La distance finale est donc le fruit de l’ensemble des classes ayant couru sur le créneau horaire.\nLes enseignants gèrent la participation de chacun de leurs élèves pendant les 45 minutes\, l’essentiel étant que le circuit soit toujours occupé par des coureurs de la classe.\n\nAprès la rencontre :\n\nMettre en place un remue-méninges autour du thème sport et santé à partir de la question ” Pourquoi est-ce bon de faire du sport pour notre santé ?” ;\nProlonger la réflexion autour des modes de déplacement et leur impact sur l’environnement en jouant à la Batamobilité (CLIQUER ICI)\, ou de l’incidence de nos gestes quotidiens sur le réchauffement de la planète avec le Thermoplanète à partir du CE2 (CLIQUER ICI).\nFinaliser le reportage sur la rencontre (productions d’écrits\, productions plastiques…).\n\nPar la suite\, un diplôme de participation indiquant le nombre de kilomètres parcourus vous sera transmis par la Circonscription ou l’USEP 94.\n \n\n\n \nProtocole sanitaire :\nDes adaptations pourront être mises en place en fonction de l’évolution du contexte sanitaire. \nPour toutes précisions\, contactez : \nEric PIEDFER au 06 60 92 66 85 \nBruno GAILHAC au 06 82 05 63 19
URL:https://usep94.fr/evenement/course-solidaire-course-contre-la-faim-alfortville/
LOCATION:Stade Val de Seine (Alfortville)\, 3 allée Jean-Baptiste Preux\, ALFORTVILLE\, 94140\, France
CATEGORIES:CI,CII,CIII,TS
ATTACH;FMTTYPE=image/jpeg:https://usep94.fr/wp-content/uploads/Bandeau-course-contre-la-faim-1020x450.001.jpeg
ORGANIZER;CN="Comit%C3%A9 D%C3%A9partemental USEP 94":MAILTO:usep94.ligue94@gmail.com
GEO:48.777089297711;2.4243148962906
X-APPLE-STRUCTURED-LOCATION;VALUE=URI;X-ADDRESS=Stade Val de Seine (Alfortville) 3 allée Jean-Baptiste Preux ALFORTVILLE 94140 France;X-APPLE-RADIUS=500;X-TITLE=3 allée Jean-Baptiste Preux:geo:2.4243148962906,48.777089297711
END:VEVENT
END:VCALENDAR