BEGIN:VCALENDAR
VERSION:2.0
PRODID:-//USEP94 - ECPv6.10.1.1//NONSGML v1.0//EN
CALSCALE:GREGORIAN
METHOD:PUBLISH
X-ORIGINAL-URL:https://usep94.fr
X-WR-CALDESC:Évènements pour USEP94
REFRESH-INTERVAL;VALUE=DURATION:PT1H
X-Robots-Tag:noindex
X-PUBLISHED-TTL:PT1H
BEGIN:VTIMEZONE
TZID:Europe/Paris
BEGIN:DAYLIGHT
TZOFFSETFROM:+0100
TZOFFSETTO:+0200
TZNAME:CEST
DTSTART:20230326T010000
END:DAYLIGHT
BEGIN:STANDARD
TZOFFSETFROM:+0200
TZOFFSETTO:+0100
TZNAME:CET
DTSTART:20231029T010000
END:STANDARD
BEGIN:DAYLIGHT
TZOFFSETFROM:+0100
TZOFFSETTO:+0200
TZNAME:CEST
DTSTART:20240331T010000
END:DAYLIGHT
BEGIN:STANDARD
TZOFFSETFROM:+0200
TZOFFSETTO:+0100
TZNAME:CET
DTSTART:20241027T010000
END:STANDARD
END:VTIMEZONE
BEGIN:VEVENT
DTSTART;TZID=Europe/Paris:20230914T000000
DTEND;TZID=Europe/Paris:20240424T235900
DTSTAMP:20260420T101141
CREATED:20230904T144403Z
LAST-MODIFIED:20240421T154732Z
UID:10000715-1694649600-1714003140@usep94.fr
SUMMARY:L'aventure SpéléoBox USEP 2023-2024
DESCRIPTION:AVANT DE COMPLETER VOTRE FORMULAIRE D’INSCRIPTION\, RECUPEREZ AUPRES DE VOTRE CORRESPONDANT USEP D’ECOLE LA DATE A LAQUELLE LA SPELEOBOX SERA DANS VOTRE ECOLE !\n(date arrêtée en concertation avec l’USEP 94)\n\n \nVotre association a décidé de réserver la spéléobox pour une journée formidable et faire vivre à vos licenciés une aventure inoubliable !\n \nOBLIGATIONS POUR PARTICIPER A CET EVENEMENT :\n\nAssociation USEP (ré)affiliée ;\nRéserver une date\, le plus tôt possible\, auprès de l’USEP 94 en utilisant le mail usep94.materiel@gmail.com ;\nIntégralité des enfants adhérents et enregistrés nominativement sur le compte de l’enseignant\, via le site usep94.fr ;\n\nAu moins 1 enseignant sur 2 encadrant la Spéléobox doit avoir suivi une formation sur la sécurité et le fonctionnement de la Spéléobox depuis moins de 4 ans.\n\nAvant la rencontre : \n\nSe concerter avec les collègues ;\nInscrire sa classe à l’évènement ;\nPlanifier les créneaux ;\nAnticiper le lieu d’installation de la remorque.\n\nL’USEP 94 s’attache à l’inclusion de tous les élèves. Si la SpéléoBox est mise à disposition\, au sein de l’école\, il est impératif qu’aucune discrimination ne soit reprochée à l’USEP ce qui induit une\néquité entre les classes d’un même niveau pour l’accès à la SpéléoBox.\nToutes les classes doivent donc avoir 100% d’élèves adhérents. (ex : CM2 A avec 100% d’élèves adhérents USEP et CM2 B pas d’adhérents USEP = la spéléobox ne peut être proposée aux CM2 de l’école)\n \n \nLe jour de la rencontre : \n\nLa spéléobox sera livrée\, à l’école ou au lieu défini en amont\, entre 7h30 et 8h00 pour être installée par vos soins avant le début de la classe. \n\nPrévoir 3 à 4 personnes pour l’installation de la spéléobox à son arrivée ;\nOrganiser la surveillance : la surveillance doit être permanente de l’installation jusqu’à l’enlèvement (du retard est possible\, prévoir une marge d’au moins 1 heure…) ;\nSur le temps de pratique des enfants : il doit toujours y avoir une personne formée par l’USEP pour contrôler la mise en oeuvre scrupuleuse des règles d’hygiène\, de sécurité et détecter toute anomalie ;\nOrganiser le rangement de la spéléobox et prévoir la présence d’1 ou 2 personnes afin de nous aider à récupérer et enlever la spéléobox en fin de journée ;\nRéaliser\, si vous le souhaitez\, un reportage sur l’événement (Petits Reporters).\n\nAprès la rencontre :\n\nFinaliser le reportage sur la rencontre (productions d’écrits\, productions plastiques…) et nous le faire parvenir à igros.usep94.ligue94@gmail.com .\n\nProtocole sanitaire : \nSelon l’évolution du contexte sanitaire\, la randonnée sera soumise au protocole en vigueur (respect des gestes barrières\, mesures de distanciation physique\, lavage des mains\, port du masque…). \nPour toutes précisions\, contactez : \nEric PIEDFER au 06 60 92 66 85 \nBruno GAILHAC au 06 82 05 63 19
URL:https://usep94.fr/evenement/laventure-speleobox-usep-2023-2024/
CATEGORIES:CI,CII,CIII,TS
ATTACH;FMTTYPE=image/png:https://usep94.fr/wp-content/uploads/Bandeau-evenement-site-usep-SB.png
ORGANIZER;CN="Comit%C3%A9 D%C3%A9partemental USEP 94":MAILTO:usep94.ligue94@gmail.com
END:VEVENT
BEGIN:VEVENT
DTSTART;VALUE=DATE:20240308
DTEND;VALUE=DATE:20240309
DTSTAMP:20260420T101142
CREATED:20240301T070648Z
LAST-MODIFIED:20240426T071119Z
UID:10000786-1709856000-1709942399@usep94.fr
SUMMARY:Citoyen Pour La Vie : J'apprends à porter secours (Santeny)
DESCRIPTION:Apprendre à Porter Secours pour devenir Citoyen Pour La Vie ! \nDeux séances d’1h30 associant études de cas\, ateliers de pratique afin de découvrir la chaîne des secours et les premiers gestes de secours. \nPublic concerné : \n\nélèves de CM2 de l’école Les Quarante Arpents de Santeny\n\n\nAvant la formation : \n\nInscrire sa classe à l’évènement\n\n\n\n \nContenu et déroulement de la formation : \n\n1 classe accueillie par créneau d’1h30 ;\n2 séances par classe sur la journée\n\nSéance n°1  :\n\n Connaître les numéros d’urgence – la chaine des secours\nProtéger du suraccident\nElaborer  un message d’alerte\n\n\nSéance n°2 : \n\nPasser un message d’alerte à partir de situations d’accidents simulés\nConduite à tenir face à : un saignement important (hémorragie) – une brûlure – un traumatisme du dos\nApprentissage de la conduite à tenir face à une victime qui a perdu connaissance mais qui respire (mise sur le côté : PLS)\n\n\nAprès la formation : \n\nProlongement des apprentissages à l’aide des supports transmis en fin de seconde séance ;\nPossibilité de valider l’attestation Apprendre à Porter Secours dans le LSU\, au regard du contenu délivré.\n\n \nPour toutes précisions\, contactez : \nEric PIEDFER au 06 60 92 66 85 \nBruno GAILHAC au 06 82 05 63 19
URL:https://usep94.fr/evenement/citoyen-pour-la-vie-japprends-a-porter-secours-santeny/
CATEGORIES:CIII,TS
ATTACH;FMTTYPE=image/png:https://usep94.fr/wp-content/uploads/Bandeau-CPLV-1020x450.001.png
ORGANIZER;CN="Comit%C3%A9 D%C3%A9partemental USEP 94":MAILTO:usep94.ligue94@gmail.com
END:VEVENT
END:VCALENDAR