BEGIN:VCALENDAR
VERSION:2.0
PRODID:-//USEP94 - ECPv6.10.1.1//NONSGML v1.0//EN
CALSCALE:GREGORIAN
METHOD:PUBLISH
X-WR-CALNAME:USEP94
X-ORIGINAL-URL:https://usep94.fr
X-WR-CALDESC:Évènements pour USEP94
REFRESH-INTERVAL;VALUE=DURATION:PT1H
X-Robots-Tag:noindex
X-PUBLISHED-TTL:PT1H
BEGIN:VTIMEZONE
TZID:Europe/Paris
BEGIN:DAYLIGHT
TZOFFSETFROM:+0100
TZOFFSETTO:+0200
TZNAME:CEST
DTSTART:20240331T010000
END:DAYLIGHT
BEGIN:STANDARD
TZOFFSETFROM:+0200
TZOFFSETTO:+0100
TZNAME:CET
DTSTART:20241027T010000
END:STANDARD
BEGIN:DAYLIGHT
TZOFFSETFROM:+0100
TZOFFSETTO:+0200
TZNAME:CEST
DTSTART:20250330T010000
END:DAYLIGHT
BEGIN:STANDARD
TZOFFSETFROM:+0200
TZOFFSETTO:+0100
TZNAME:CET
DTSTART:20251026T010000
END:STANDARD
END:VTIMEZONE
BEGIN:VEVENT
DTSTART;TZID=Europe/Paris:20240912T000000
DTEND;TZID=Europe/Paris:20250503T235900
DTSTAMP:20260419T202430
CREATED:20240827T102751Z
LAST-MODIFIED:20240827T112147Z
UID:10000846-1726099200-1746316740@usep94.fr
SUMMARY:L'aventure SpéléoBox USEP 2024-2025
DESCRIPTION:AVANT DE COMPLÉTER VOTRE FORMULAIRE D’INSCRIPTION\, RÉCUPÉREZ AUPRÈS DE VOTRE CORRESPONDANT USEP D’ÉCOLE LA DATE A LAQUELLE LA SPÉLÉOBOX SERA DANS VOTRE ÉCOLE !\n(date arrêtée en concertation avec l’USEP 94)\n\n \nVotre association a décidé de réserver la spéléobox pour une journée formidable et faire vivre à vos licenciés une aventure inoubliable !\n \nOBLIGATIONS POUR PARTICIPER A CET EVENEMENT :\n\nAssociation USEP (ré)affiliée ;\nRéserver une date\, le plus tôt possible\, auprès de l’USEP 94 en utilisant le mail usep94.materiel@gmail.com ;\nIntégralité des enfants adhérents et enregistrés nominativement sur le compte de l’enseignant\, via le site usep94.fr ;\n\nAu moins 1 enseignant sur 2 encadrant la Spéléobox doit avoir suivi une formation sur la sécurité et le fonctionnement de la Spéléobox depuis moins de 4 ans. Date de la formation 2024-2025 : Mercredi 11 septembre de 13h30 à 16h30.\n\n\nAvant la rencontre : \n\nSe concerter avec les collègues ;\nInscrire sa classe à l’évènement ;\nPlanifier les créneaux (prévoir 1 créneau d’une heure/classe) ;\nAnticiper le lieu d’installation de la remorque ;\n\nPrendre connaissance\, puis compléter et retourner la convention et son annexe\, avant la date retenue à usep94.materiel@gmail.com.\n\nL’USEP 94 s’attache à l’inclusion de tous les élèves.  \nSi la SpéléoBox est mise à disposition\, au sein de l’école\, il est impératif qu’aucune discrimination ne soit reprochée à l’USEP\, ce qui induit une équité entre les classes d’un même niveau pour l’accès à la SpéléoBox.\nToutes les classes concernées doivent donc avoir 100% d’élèves adhérents. (ex : CM2 A avec 100% d’élèves adhérents USEP et CM2 B pas d’adhérents USEP = la spéléobox ne peut être proposée aux CM2 de l’école)\n \n \nLe jour de la rencontre : \n\nLa spéléobox sera livrée\, à l’école ou au lieu défini en amont\, entre 7h30 et 8h00 pour être installée par vos soins avant le début de la classe. \n\nPrévoir 3 à 4 personnes pour l’installation de la spéléobox à son arrivée ;\nOrganiser la surveillance : la surveillance doit être permanente de l’installation jusqu’à l’enlèvement (du retard est possible\, prévoir une marge d’au moins 1 heure…) ;\nSur le temps de pratique des enfants : il doit toujours y avoir une personne formée par l’USEP pour contrôler la mise en oeuvre scrupuleuse des règles d’hygiène\, de sécurité et détecter toute anomalie ;\nOrganiser le rangement de la spéléobox et prévoir la présence d’1 ou 2 personnes afin de nous aider à récupérer et enlever la spéléobox en fin de journée ;\nRéaliser\, si vous le souhaitez\, un reportage sur l’événement (Petits Reporters).\n\nAprès la rencontre :\n\nFinaliser le reportage sur la rencontre (productions d’écrits\, productions plastiques…) et nous le faire parvenir à igros.usep94.ligue94@gmail.com .\n\nProtocole sanitaire : \nSelon l’évolution du contexte sanitaire\, la randonnée sera soumise au protocole en vigueur (respect des gestes barrières\, mesures de distanciation physique\, lavage des mains\, port du masque…). \nPour toutes précisions\, contactez : \nEric PIEDFER au 06 60 92 66 85 \nBruno GAILHAC au 06 82 05 63 19
URL:https://usep94.fr/evenement/laventure-speleobox-usep-2024-2025/
CATEGORIES:CI,CII,CIII,TS
ATTACH;FMTTYPE=image/png:https://usep94.fr/wp-content/uploads/Bandeau-evenement-site-usep-SB.png
ORGANIZER;CN="Comit%C3%A9 D%C3%A9partemental USEP 94":MAILTO:usep94.ligue94@gmail.com
END:VEVENT
BEGIN:VEVENT
DTSTART;VALUE=DATE:20241105
DTEND;VALUE=DATE:20241106
DTSTAMP:20260419T202430
CREATED:20241104T072626Z
LAST-MODIFIED:20241104T073316Z
UID:10000880-1730764800-1730851199@usep94.fr
SUMMARY:Défi Course d'Orientation Génération 2024 (Les P'tits Champy)
DESCRIPTION:L’USEP vous propose un défi Course d’Orientation dans le cadre du label Génération 2024 et en perspective des JO de Paris 2024.\n \nUne activité adaptable à tous les niveaux de classe pour : \n\napprendre à se repérer dans l’espace ;\nélaborer et mémoriser un itinéraire ;\ncollaborer et mettre en place des stratégies ;\n\nlutter contre la sédentarité en pratiquant la course d’orientation.\n\n \nPrésentation du Défi CO G2024 Mots/parcours USEP94 extrait de la chaîne UFOLEP94 – USEP94 sur Vimeo. \nAvant la rencontre : \n\nMettre à jour  ou créer sa fiche enseignant depuis la page d’accueil du site usep94.fr.\nInscrire sa classe à l’évènement.\n\nL’USEP 94 s’attache à l’inclusion de tous les élèves. Pour les élèves à mobilité réduite\, nous disposons d’une joëlette et pouvons former les élèves de la classe à sa manipulation et mobiliser une équipe spécifique de bénévoles… il vous appartient de nous solliciter ! \n \n\nRegarder le film de présentation de la course d’orientation (cf. lien au-dessus)\n\nTélécharger les différents outils sur la CORFID (disponibles ICI);\nPrésenter le dispositif aux élèves ainsi que les outils qu’ils devront manipuler.\n\nLe jour de la rencontre : Rendez-vous au stade   (selon le planning établi par vos soins en lien avec Eric PIEDFER-QUENEY)\n\nPrévoir\, une trousse de secours pour les “petits bobos”\, les PAI ainsi que les médicaments nécessaires\, les fiches d’urgence des enfants permettant de contacter les responsables légaux (exemple transmis en début d’année) ;\nPasser à l’accueil pour signaler votre arrivée. Afin de garantir la sécurité de tous\, les organisateurs porteront des chasubles rouges\, les enseignants des chasubles vertes et les accompagnateurs des chasubles jaunes (matériel remis à l’accueil\,dans le cadre du protocole Vigipirate) ;\n\n \nDéroulement de l’épreuve :\nCeci est une proposition de base\, elle pourra être adaptée par vos soins selon les spécificités locales \n\n2 à 3 créneaux de 50 minutes par demi-journée ;\nAccueil d’une classe par créneau (avec possibilité de tutorat\, selon votre organisation) ; \nRemise des puces électroniques et rappel des consignes qui auront été expliquées en classe en amont ;\nLancement de l’activité : selon le niveau de classe\, recherche d’une illustration\, d’une série d’illustrations ou d’une suite ordonnée de lettres composant un mot ; \nRetour à la table de jeu pour vérifier si l’élève a réussi son 1er défi ;\nEffaçage de la puce  ;\nRemise ou choix d’un nouveau défi ;\nLes enseignants gèrent la participation de chacun de leurs élèves pendant les 50 minutes.\n\nAprès la rencontre :\n\nEnvisager les prolongements autour de la découverte d’épreuves olympiques\, d’évènements ayant marqué l’histoire des J.O. .\n\nSi vous réalisez un reportage ou une production autour de cette rencontre\, merci de le/la transmettre à Isabelle GROS : igros.usep94.ligue94@gmail.com .\n \n \nProtocole sanitaire :\nCette activité est compatible avec les différents niveaux du protocole sanitaire\, tant que les activités sportives sont autorisées (1 classe par créneau\, désinfection du matériel après chaque créneau\, absence de brassage).\n \nPour toutes précisions\, contactez : \nEric PIEDFER au 06 60 92 66 85 \nBruno GAILHAC au 06 82 05 63 19
URL:https://usep94.fr/evenement/defi-course-dorientation-generation-2024-les-petits-champy/
CATEGORIES:CII,CIII,TS
ATTACH;FMTTYPE=image/png:https://usep94.fr/wp-content/uploads/Bandeau-CORFID-1020x450.001.png
ORGANIZER;CN="Comit%C3%A9 D%C3%A9partemental USEP 94":MAILTO:usep94.ligue94@gmail.com
END:VEVENT
END:VCALENDAR