BEGIN:VCALENDAR
VERSION:2.0
PRODID:-//USEP94 - ECPv6.10.1.1//NONSGML v1.0//EN
CALSCALE:GREGORIAN
METHOD:PUBLISH
X-WR-CALNAME:USEP94
X-ORIGINAL-URL:https://usep94.fr
X-WR-CALDESC:Évènements pour USEP94
REFRESH-INTERVAL;VALUE=DURATION:PT1H
X-Robots-Tag:noindex
X-PUBLISHED-TTL:PT1H
BEGIN:VTIMEZONE
TZID:Europe/Paris
BEGIN:DAYLIGHT
TZOFFSETFROM:+0100
TZOFFSETTO:+0200
TZNAME:CEST
DTSTART:20250330T010000
END:DAYLIGHT
BEGIN:STANDARD
TZOFFSETFROM:+0200
TZOFFSETTO:+0100
TZNAME:CET
DTSTART:20251026T010000
END:STANDARD
BEGIN:DAYLIGHT
TZOFFSETFROM:+0100
TZOFFSETTO:+0200
TZNAME:CEST
DTSTART:20260329T010000
END:DAYLIGHT
BEGIN:STANDARD
TZOFFSETFROM:+0200
TZOFFSETTO:+0100
TZNAME:CET
DTSTART:20261025T010000
END:STANDARD
END:VTIMEZONE
BEGIN:VEVENT
DTSTART;TZID=Europe/Paris:20250922T000000
DTEND;TZID=Europe/Paris:20260703T235900
DTSTAMP:20260420T012509
CREATED:20250828T104543Z
LAST-MODIFIED:20260413T133843Z
UID:10001043-1758499200-1783123140@usep94.fr
SUMMARY:L'aventure SpéléoBox USEP 2025-2026
DESCRIPTION:AVANT DE COMPLÉTER VOTRE FORMULAIRE D’INSCRIPTION\, RÉCUPÉREZ AUPRÈS DE VOTRE CORRESPONDANT USEP D’ÉCOLE LA DATE A LAQUELLE LA SPÉLÉOBOX SERA DANS VOTRE ÉCOLE !\n(date arrêtée en concertation avec l’USEP 94)\n\n \nVotre association a décidé de réserver la spéléobox pour une journée formidable et faire vivre à vos licenciés une aventure inoubliable !\n \nOBLIGATIONS POUR PARTICIPER A CET ÉVÉNEMENT :\n\nAssociation USEP (ré)affiliée ;\nAu regard des dates qui seront très prochainement proposer par l’USEP 94\, réserver une date\, le plus tôt possible\,  en utilisant le mail usep94.materiel@gmail.com ;\nIntégralité des enfants adhérents et enregistrés nominativement sur le compte de l’enseignant\, via le site usep94.fr ;\n\nAu moins 1 enseignant sur 2 encadrant la Spéléobox doit avoir suivi une formation sur la sécurité et le fonctionnement de la Spéléobox depuis moins de 4 ans. \n\n\nAvant la rencontre : \n\nSe concerter avec les collègues ;\nInscrire sa classe à l’évènement ;\nPlanifier les créneaux (prévoir 1 créneau d’une heure/classe) ;\nAnticiper le lieu d’installation de la remorque *;\n\nPrendre connaissance\, puis compléter et retourner la convention et son annexe\, avant la date retenue à usep94.materiel@gmail.com.\n\nL’USEP 94 s’attache à l’inclusion de tous les élèves.  \n* Si la SpéléoBox est mise à disposition\, au sein de l’école\, il est impératif qu’aucune discrimination ne soit reprochée à l’USEP\, ce qui induit une équité entre les classes d’un même niveau pour l’accès à la SpéléoBox.\nToutes les classes concernées doivent donc avoir 100% d’élèves adhérents. (ex : CM2 A avec 100% d’élèves adhérents USEP et CM2 B pas d’adhérents USEP = la spéléobox ne peut être proposée aux CM2 de l’école)\n \n \nLe jour de la rencontre : \n\nLa spéléobox sera livrée\, à l’école ou au lieu défini en amont\, entre 7h30 et 8h00 pour être installée par vos soins avant le début de la classe. \n\nPrévoir 3 à 4 personnes pour l’installation de la spéléobox à son arrivée ;\nOrganiser la surveillance : la surveillance doit être permanente de l’installation jusqu’à l’enlèvement (du retard est possible\, prévoir une marge d’au moins 1 heure…) ;\nSur le temps de pratique des enfants : il doit toujours y avoir une personne formée par l’USEP pour contrôler la mise en oeuvre scrupuleuse des règles d’hygiène\, de sécurité et détecter toute anomalie ;\nOrganiser le rangement de la spéléobox et prévoir la présence d’1 ou 2 personnes afin de nous aider à récupérer et enlever la spéléobox en fin de journée ;\nRéaliser\, si vous le souhaitez\, un reportage sur l’événement (Petits Reporters).\n\nAprès la rencontre :\n\nFinaliser le reportage sur la rencontre (productions d’écrits\, productions plastiques…) et nous le faire parvenir à igros.usep94.ligue94@gmail.com .\n\nProtocole sanitaire : \nSelon l’évolution du contexte sanitaire\, la randonnée sera soumise au protocole en vigueur (respect des gestes barrières\, mesures de distanciation physique\, lavage des mains\, port du masque…). \nPour toutes précisions\, contactez : \nBruno GAILHAC au 06 82 05 63 19
URL:https://usep94.fr/evenement/laventure-speleobox-usep-2025-2026/
CATEGORIES:CI,CII,CIII,TS
ATTACH;FMTTYPE=image/png:https://usep94.fr/wp-content/uploads/Bandeau-evenement-site-usep-SB.png
ORGANIZER;CN="Comit%C3%A9 D%C3%A9partemental USEP 94":MAILTO:usep94.ligue94@gmail.com
END:VEVENT
BEGIN:VEVENT
DTSTART;VALUE=DATE:20260601
DTEND;VALUE=DATE:20260602
DTSTAMP:20260420T012509
CREATED:20251218T150018Z
LAST-MODIFIED:20260313T154055Z
UID:10001092-1780272000-1780358399@usep94.fr
SUMMARY:Ateliers HIP HOP des Jeux du Val de Marne 2026 à Champigny
DESCRIPTION:Attention : INSCRIPTIONS OUVERTES JUSQU’AU MARDI 20/03/2026 MINUIT\n\n\n\n \nLE HIP HOP a brillé aux Jeux Olympiques de Paris 2024. Nous proposons aux classes qui ont mis en place un module d’apprentissage HIP HOP de nous rejoindre au Parc du Tremblay de Champigny-sur-Marne\, dans le cadre des Jeux du Val de Marne.  \nAvant la rencontre : \n\nMettre à jour  ou créer sa fiche enseignant depuis la page d’accueil du site usep94.fr\, en précisant le nombre d’enfants à besoins spécifiques (PAI\, situation de handicap\,…)\nSe concerter avec le\, la\, les collègue(s) partageant le car avant d’inscrire sa classe ;\nInscrire sa classe à l’évènement\, en précisant le mode transport ;\n\nL’USEP 94 s’attache à l’inclusion de tous les élèves. Il vous appartient de nous solliciter afin que nous puissions vous aider ! \n\nInformer les familles sur la sortie (disposer  d’une bouteille d’eau\, envisager une tenue…) ;\nTrouver des accompagnateurs les adultes pourront participer aux danses ;\nMettre en place un module d’apprentissage HIP HOP à l’aide des outils transmis à la suite de la formation proposée par Iffra DIA.  \n\nDes précisions sur les modalités des battles et ateliers seront transmises aux classes inscrites\, en fin de période 4. \nLe jour de la rencontre : \nRendez-vous au Parc Interdépartemental des Sports du Tremblay à Champigny-sur-Marne (lien vers itinéraire Google Maps ICI  (en respectant les horaires du planning qui vous sera transmis) \n\nPrévoir\, une trousse de secours pour les “petits bobos”\, les PAI ainsi que les médicaments nécessaires\, les fiches d’urgence des enfants permettant de contacter les responsables légaux (exemple transmis en début d’année) ;\nPasser à l’accueil pour signaler votre arrivée. Afin de garantir la sécurité de tous\, les organisateurs porteront des chasubles rouges\, les enseignants des chasubles orange et les accompagnateurs des chasubles jaunes (matériel remis à l’accueil\, dans le cadre du protocole Vigipirate) .\n\nUne couverture sanitaire sera assurée par la Protection Civile ou la Croix Rouge Française en collaboration avec les services publics d’urgence. En cas de nécessité\, les enfants seront évacués sur les urgences pédiatriques de l’hôpital le plus proche (en général : Hôpital Saint-Camille à Bry-sur-Marne). Il est souhaitable qu’un enfant évacué soit accompagné d’un adulte autre que l’enseignant(e) qui doit rester avec sa classe en termes de responsabilité. Cela nécessite d’en informer vos accompagnateurs. \n \nDéroulement de cette rencontre :\n\n3 créneaux sur la journée\, 2 à 3 classes accueillies par créneau (10h30-12h00\, 13h00-14h30\, 14h40-16h10) ;\nMise en place de battle ;\nApprentissage d’une courte variation dans le cadre d’un atelier mené par un danseur/chorégraphe ;\nQuizz culture Hip-Hop.\nSi vous le souhaitez\, réalisation avec les enfants (“Petits Reporters”) d’un reportage photos et/ou vidéo.\nA la fin de chaque créneau : Remise des récompenses offertes par le Conseil Départemental (1 seule récompense sera remise par enfant présent\, sauf si la récompense a été remise à la classe dans le cadre d’une autre action Jeux du Val de Marne) .\n\nAprès la rencontre :\n\nFinaliser le reportage sur la rencontre (productions d’écrits\, productions plastiques…). Ces productions pourront nous être transmises par voie numérique à Isabelle GROS igros.usep94.ligue94@gmail.com\nTransmettre la facture de car acquittée par vos soins (mention acquittée ou facture + photocopie du chèque correspondant au règlement) avant le 2 JUILLET 2026.\n\n\n \n\n\n\n\nAide financière aux transports\n\nUne participation financière de l’USEP est prévue\, dans les conditions suivantes : \n– Les classes qui s’inscrivent s’engagent à gérer leurs transports :  \n\nchoix du cariste\,\norganisation des rotations\,\nassociation éventuelle avec d’autres écoles\, pour mutualiser le coût …\n\n– Transmission du devis à l’USEP 94 avant le 07/04/2026 \n– Présence sur le site le jour prévu\, \n– Envoi de la facture acquittée ou\, à défaut\, de la photocopie de la facture et du chèque de règlement avant le 2 juillet 2026. \nLe remboursement ne pourra être fait qu’au profit d’une coopérative d’école ou d’une association USEP\, exclusivement par virement (transmettre un IBAN). \nIl est soumis à l’accord de la commission des finances du Comité Départemental USEP sur les bases de 200 € maximum par classe. \nCe montant pourra être actualisé à la hausse à l’appui des devis reçus dans les délais et dans la limite de l’enveloppe budgétaire consacrée aux transports.  \nLes retardataires se verront attribuer une participation limitée\, dans la mesure du reliquat budgétaire. \nLes remboursements interviendront à la rentrée scolaire\, à condition que la facture acquittée soit parvenue dans les délais et sous réserve que l’USEP ait touché la subvention du Conseil Départemental.\n\n\n\n  \nProtocole sanitaire :\nDes adaptations pourront être mises en place en fonction de l’évolution du contexte sanitaire. \nPour toutes précisions\, contactez : \nBruno GAILHAC au 06 82 05 63 19
URL:https://usep94.fr/evenement/ateliers-hip-hop-des-jeux-du-val-de-marne-2026-a-champigny/
LOCATION:Parc Interdépartemental des Sports du Tremblay – Champigny-sur-Marne\, 161 Boulevard de Stalingrad\, Champigny-sur-Marne\, 94500\, France
CATEGORIES:CII,CIII,TS
ATTACH;FMTTYPE=image/png:https://usep94.fr/wp-content/uploads/Bandeau-HIP-HOP-JVM-1020x450.001.png
ORGANIZER;CN="Comit%C3%A9 D%C3%A9partemental USEP 94":MAILTO:usep94.ligue94@gmail.com
GEO:48.8276041;2.4935315
X-APPLE-STRUCTURED-LOCATION;VALUE=URI;X-ADDRESS=Parc Interdépartemental des Sports du Tremblay – Champigny-sur-Marne 161 Boulevard de Stalingrad Champigny-sur-Marne 94500 France;X-APPLE-RADIUS=500;X-TITLE=161 Boulevard de Stalingrad:geo:2.4935315,48.8276041
END:VEVENT
BEGIN:VEVENT
DTSTART;VALUE=DATE:20260601
DTEND;VALUE=DATE:20260602
DTSTAMP:20260420T012509
CREATED:20251218T153303Z
LAST-MODIFIED:20260402T151111Z
UID:10001095-1780272000-1780358399@usep94.fr
SUMMARY:Scola Mini-Hand\, Jeux du Val de Marne 2026 à Bonneuil-sur-Marne
DESCRIPTION:Pour vous inscrire\, vous devez vous connecter à votre compte usep 94 \nSi vous ne disposez pas encore d’un compte\, suivez le pas-à-pas disponible ICI \nAttention : INSCRIPTIONS OUVERTES JUSQU’AU 13/03/2026 minuit\n\n\n\n \nDans le cadre des Jeux du Val de Marne\, pour clôturer votre module Handball\, l’USEP vous propose 2 journées de rencontres Mini-Hand sur gazon\, en partenariat avec le Comité Départemental de Handball du Val-de-Marne.\n \nRENCONTRE OUVERTE A TOUTES LES CLASSES DE CM1 ET CM2 des écoles publiques du département. \nAvant la rencontre : \n\nMettre à jour  ou créer sa fiche enseignant depuis la page d’accueil du site usep94.fr. (indiquer les informations concernant le profil des élèves à besoins particuliers pour lesquels une adaption serait nécessaire) ;\nDéposer sa liste d’élèves dans votre espace MES ELEVES (modèle fichier .xls à compléter et déposer ICI);\nInscrire sa classe à l’évènement.\n\nL’USEP 94 s’attache à l’inclusion de tous les élèves. Il vous appartient de nous solliciter pour envisager les adaptations nécessaires ! \n\nRéserver le car\, dès confirmation de la date retenue par l’USEP 94 ;\n\nTransmettre le devis du transporteur à l’USEP à usep94.materiel@gmail.com et copie à bgailhac.usep94.ligue94@gmail.com pour étude de la commission des finances avant le 07/04/2025 ;\nInformer les familles sur la sortie (disposer d’un pique-nique\, d’une bouteille d’eau\, d’un sac à dos\, d’une tenue sportive adaptée\, d’une casquette\,…) ;\nTrouver 2 ou 3 accompagnateurs qui prendront en charge une équipe dans ses déplacements  ;\n\n\nMettre en place un module d’apprentissage Handball (ressources disponibles ICI) ;\n\nConstituer 3 ou 4 équipes  mixtes de 7 à 8 joueurs.\n\n \nLe jour de la rencontre :\n9h00-10h00 : Accueil des classes au Complexe Sportif Léo LAGRANGE de Bonneuil-sur-Marne (pour consulter l’itinéraire via GoogleMaps cliquer ICI)\n\n\nPrévoir\, une trousse de secours pour les “petits bobos”\, les PAI ainsi que les médicaments nécessaires\, les fiches d’urgence des enfants permettant de contacter les responsables légaux (exemple transmis en début d’année) ;\nPasser à l’accueil pour signaler votre arrivée. Afin de garantir la sécurité de tous\, les organisateurs porteront des chasubles rouges\, les enseignants des chasubles orange et les accompagnateurs des chasubles jaunes (matériel remis à l’accueil\,dans le cadre du protocole Vigipirate) ;\n\nAFIN D’ÊTRE EN CONFORMITÉ AVEC LES DEMANDES DE LA PRÉFECTURE\, DANS LE CADRE DU PLAN VIIGPIRATE URGENCE ATTENTAT : \n\n\n\nVérifiez que votre liste d’élèves est bien renseignée sur votre compte usep. Le jour de votre venue\, vous devrez remettre à l’accueil une liste des élèves présents comportant NOM de l’enseignant – ECOLE – VILLE + NOM – Prénom- Date de Naissance – Sexe de chaque enfant. Vous devrez également en conserver une avec vous.\nPour les classes effectuant le déplacement à vélo : Transmettre l’itinéraire depuis votre école jusqu’au lieu de l’événement pour le 01/05/2026\, dernier délai.\n\n\nSi vous le souhaitez\, réaliser un reportage photo ou vidéo avec un groupe de petits reporters.\n\n \nDéroulement de la journée :\n9h00-10h00 : Accueil des classes et remise d’un lot de Tee-shirts qui servira de maillot pour les équipes. (maillot conservé en fin de journée). La classe sera affectée sur sa zone et ses terrains pour la journée. Sur chaque zone\, des responsables du CD Handball 94\, de l’USEP et de la section sportive scolaire Handball du collège Pissarro gèreront le mouvement des équipes. \n10h30-12h00 : Matchs selon le planning qui vous sera communiqué. \n12h00-13h30 : Pause déjeuner \n13h30-15h00 : Matchs (suite) \nLes rencontres seront arbitrées par de Jeunes Officiels UNSS et de Jeunes Officiels USEP issus des associations d’école USEP\, préalablement formés lors d’un stage organisé conjointement par l’UNSS et la section sportive scolaire Handball du collège PISSARRO de St Maur\, le Comité Départemental de Handball et l’USEP. (formation réservée aux AS USEP qui le souhaiteraient sur un mercredi de mai).  \nNB : Précisez aux accompagnateurs de la classe le dispositif d’arbitrage mis en place\, l’importance de ne pas intervenir dans les décisions ! Bien entendu\, durant toute la manifestation\, la classe reste sous la responsabilité de l’enseignant.  \nLes matchs dureront entre 8 et 10 min. Pendant que 2 équipes jouent\, 2 autres se préparent et les 2 dernières se reposent. Ce dispositif est le même sur tous les terrains. Chaque équipe jouera à 5 reprises durant la journée. \n  \n15h15 : Cérémonie de clôture\, remise de récompenses (lot de ballons – sous réserve) et d’un goûter offerts par le Comité Départemental de Handball. \nAprès la rencontre :\n\nFinaliser le reportage\, réaliser des productions écrites ou plastiques autour de la rencontre.\n\nSi vous réalisez un reportage ou une production autour de cette rencontre\, merci de le/la transmettre à Isabelle GROS : igros.usep94.ligue94@gmail.com .\n \n \n \n\n\n\n\n\nAide financière aux transports\n\nDans le cadre des Jeux du Val de Marne\, une participation financière de l’USEP ou du CD Handball est prévue\, dans les conditions suivantes :  \n– Les classes qui s’inscrivent s’engagent à gérer leurs transports :  \n\nchoix du cariste\,\norganisation des rotations\,\nassociation éventuelle avec d’autres écoles\, pour mutualiser le coût …\n\n– Transmission du devis à l’USEP 94 avant le 07/04/2026 \n– Présence sur le site le jour prévu\, \n– Envoi de la facture acquittée ou\, à défaut\, de la photocopie de la facture et du chèque de règlement avant le 2 juillet 2026. \nLe remboursement ne pourra être fait qu’au profit d’une coopérative d’école ou d’une association USEP\, exclusivement par virement (transmettre un IBAN). \nIl est soumis à l’accord de la commission des finances du Comité Départemental USEP sur les bases de 200 € maximum par classe. \nCe montant pourra être actualisé à la hausse à l’appui des devis reçus dans les délais et dans la limite de l’enveloppe budgétaire consacrée aux transports.  \nLes retardataires se verront attribuer une participation limitée\, dans la mesure du reliquat budgétaire. \nLes remboursements interviendront à la rentrée scolaire\, à condition que la facture acquittée soit parvenue dans les délais et sous réserve que l’USEP ait touché la subvention Conseil Départemental.\n\n\n\n\nProtocole sanitaire :\nSelon l’évolution du contexte sanitaire\, nous veillerons d’adapter cette rencontre au protocole en vigueur. \nPour toutes précisions\, contactez : \nBruno GAILHAC au 06 82 05 63 19
URL:https://usep94.fr/evenement/scola-mini-hand-jeux-du-val-de-marne-a-bonneuil-sur-marne-2/2026-06-01/
LOCATION:Complexe sportif Léo Lagrange – Bonneuil-sur-Marne\, 1 Rue Jean Catelas\, Bonneuil-sur-Marne\, 94380\, France
CATEGORIES:CIII,HTS,TS
ATTACH;FMTTYPE=image/png:https://usep94.fr/wp-content/uploads/Bandeau-Scola-Mini-Hand-JVM-1020x450.001.png
ORGANIZER;CN="Comit%C3%A9 D%C3%A9partemental USEP 94":MAILTO:usep94.ligue94@gmail.com
GEO:48.762656624076;2.4800283210052
X-APPLE-STRUCTURED-LOCATION;VALUE=URI;X-ADDRESS=Complexe sportif Léo Lagrange – Bonneuil-sur-Marne 1 Rue Jean Catelas Bonneuil-sur-Marne 94380 France;X-APPLE-RADIUS=500;X-TITLE=1 Rue Jean Catelas:geo:2.4800283210052,48.762656624076
END:VEVENT
END:VCALENDAR