BEGIN:VCALENDAR
VERSION:2.0
PRODID:-//USEP94 - ECPv6.10.1.1//NONSGML v1.0//EN
CALSCALE:GREGORIAN
METHOD:PUBLISH
X-WR-CALNAME:USEP94
X-ORIGINAL-URL:https://usep94.fr
X-WR-CALDESC:Évènements pour USEP94
REFRESH-INTERVAL;VALUE=DURATION:PT1H
X-Robots-Tag:noindex
X-PUBLISHED-TTL:PT1H
BEGIN:VTIMEZONE
TZID:Europe/Paris
BEGIN:DAYLIGHT
TZOFFSETFROM:+0100
TZOFFSETTO:+0200
TZNAME:CEST
DTSTART:20220327T010000
END:DAYLIGHT
BEGIN:STANDARD
TZOFFSETFROM:+0200
TZOFFSETTO:+0100
TZNAME:CET
DTSTART:20221030T010000
END:STANDARD
END:VTIMEZONE
BEGIN:VEVENT
DTSTART;VALUE=DATE:20221005
DTEND;VALUE=DATE:20221006
DTSTAMP:20260419T173832
CREATED:20220918T144825Z
LAST-MODIFIED:20220922T085549Z
UID:10000572-1664928000-1665014399@usep94.fr
SUMMARY:Formation Savoir Rouler A Vélo
DESCRIPTION:Lancé en 2019\, le dispositif « Savoir Rouler à Vélo » a pour objectif de garantir à chaque enfant l’acquisition de savoirs sportifs fondamentaux indispensables pour son épanouissement\, sa santé\, son autonomie et sa sécurité.\nCette action à destination des enfants de 6 à 11 ans est un axe majeur du plan vélo et mobilités actives lancé en 2018 visant à tripler\, d’ici 2024\, la part du vélo dans les déplacements de tous les jours. \nLieu de la formation :\nParc Interdépartemental Des Sports de Choisy. L’accueil se fera au Gymnase situé au pied de la Gare du RER D Créteil-Pompadour. (plan ici) \nContenu de la formation :\n\nPrésentation du dispositif SRAV ;\nMise en place de situations d’apprentissage visant le savoir pédaler\, le savoir circuler permettant d’aborder dans un 3ème temps le savoir rouler à vélo ;\nPoint sur les conditions de pratique du vélo sur les temps scolaires et périscolaires ;\nRéflexion sur la mise en place et la validation du bloc 3 du SRAV (circulation sur route) autour des écoles du Val-de-Marne ;\nPrésentation d’outils conçus par l’USEP et l’UFOLEP.\n\n \nHoraires de la formation :\nA partir de 9h00 : Accueil des participants \n9h30-12h30 : Partie 1 de la formation \n12h30-13h30 : Pause repas (prévoir un pique-nique) Nous nous chargerons du café. \n13h30-16h30 : Partie 2 de la formation \nDes temps de pratique seront proposés. Il est important de disposer d’une tenue adaptée à la pratique du vélo (en extérieur et/ou en intérieur). N’hésitez pas à venir avec votre vélo et votre casque\, dans la mesure du possible. \nConditions d’inscriptions :\nAfin d’être couverts en cas d’accident\, les participants à cette formation devront : \n\nêtre licenciés à l’USEP ;\n\nou \n\ndisposer d’un ordre de mission de leur employeur (inscription via GAIA\, si ce temps a été programmé par la circonscription\, autre si employeur municipal).\n\nToutes les inscriptions passent par le formulaire en ligne (onglet vert en haut de cette page). \nPour vous accueillir dans les meilleures conditions\, merci de compléter l’ensemble des informations du formulaire. \nPour toutes précisions\, contactez : \nEric PIEDFER au 06 60 92 66 85 \nBruno GAILHAC au 06 82 05 63 19
URL:https://usep94.fr/evenement/formation-savoir-rouler-a-velo/
LOCATION:Gymnase du Parc Interdépartemental des Sports de Choisy-le-Roi\, au pied de la Gare du RER D CRETEIL POMPADOUR\, France
CATEGORIES:FORMATION
ATTACH;FMTTYPE=image/png:https://usep94.fr/wp-content/uploads/Bandeau-SRAV-1020x450.001.png
ORGANIZER;CN="Comit%C3%A9 D%C3%A9partemental USEP 94":MAILTO:usep94.ligue94@gmail.com
GEO:48.771195;2.434458
X-APPLE-STRUCTURED-LOCATION;VALUE=URI;X-ADDRESS=Gymnase du Parc Interdépartemental des Sports de Choisy-le-Roi au pied de la Gare du RER D CRETEIL POMPADOUR France;X-APPLE-RADIUS=500;X-TITLE=au pied de la Gare du RER D CRETEIL POMPADOUR:geo:2.434458,48.771195
END:VEVENT
BEGIN:VEVENT
DTSTART;TZID=Europe/Paris:20221012T133000
DTEND;TZID=Europe/Paris:20221012T163000
DTSTAMP:20260419T173832
CREATED:20221006T093830Z
LAST-MODIFIED:20221011T073657Z
UID:10000603-1665581400-1665592200@usep94.fr
SUMMARY:Formation Escrime "Premières Touches"
DESCRIPTION:Vous souhaitez mettre en œuvre un cycle d’apprentissage à destination de vos élèves dans une discipline olympique ?\n\nVenez apprendre à croiser le fer en toute sécurité\, grâce au kit et à la démarche “Premières Touches” .\n \n« Ce matériel permet de supprimer les contraintes d’espace spécifique électrifié et de minimiser les risques physiques liés à la lame des fleurets\, épées ou sabres de l’escrime traditionnelle. \nL’utilisation de ce nouveau matériel adapté garantit un niveau de sécurité tel que l’encadrement renforcé n’est plus une obligation au regard de la sécurité. » (note de service n° 200-097 du 17-8-2009 parue au BO n°33 du 10/09/2009)\n \nLieu de la formation :\nParc Interdépartemental Des Sports de Choisy. L’accueil se fera au Gymnase situé au pied de la Gare du RER D Créteil-Pompadour. (plan ici) \nContenu de la formation :\nCette formation s’appuiera sur la démarche pédagogique experte de Jean-Pierre PHILIPPON ancien Conseiller Technique Sportif à la FFE chargé de mission pour le développement de l’escrime scolaire : \n\nMise en place de situations d’apprentissage progressives et pistes d’adaptation ;\nPrésentation des ressources et outils conçus par la Fédération Française d’Escrime ;\nGestion du matériel (entretien et mesures d’hygiène liées à la crise sanitaire)\nPistes pour mettre en place une Rencontre Sportive Associative autour de l’escrime.\n\n \nHoraires de la formation :\n13h30 : Accueil des participants \n13h45-16h30 : Formation \nDes temps de pratique seront proposés. Il est important de disposer d’une tenue adaptée à la pratique sportive en salle :  \n\nchaussures de sport en salle ou propres ; \npantalon de survêtement ;\nveste de survêtement car les vestes du kit destinées aux enfants risquent d’être trop petites ;\nune bouteille d’eau. \n\nConditions d’inscriptions :\nAfin d’être couverts en cas d’accident\, les participants à cette formation devront : \n\nêtre licenciés à l’USEP ;\n\nou \n\ndisposer d’un ordre de mission de leur employeur (inscription via GAIA\, si ce temps a été programmé par la circonscription\, autre si employeur municipal).\n\nToutes les inscriptions passent par le formulaire en ligne (bouton vert ou orange selon votre statut en haut de cette page). \nPour vous accueillir dans les meilleures conditions\, merci de compléter l’ensemble des informations du formulaire. \nSi vous avez des enfants\, vous pouvez les emmener avec vous. Ils resteront sous votre responsabilité ; et seront les utilisateurs -TEST- enfants du groupe. Merci\, toutefois de l’indiquer dans sur le formulaire d’inscription en précisant le nombre et l’âge. \nPour découvrir l’escrime scolaire “Premières Touches”\, visitez le blog de Jean-Pierre PHILIPPON \nhttps://enseignerlescrime.fr/2021/09/19/escrime-a-lecole-primaire-2/ \nPour toutes précisions\, contactez : \nEric PIEDFER au 06 60 92 66 85 \nBruno GAILHAC au 06 82 05 63 19
URL:https://usep94.fr/evenement/formation-escrime-premieres-touches/
LOCATION:Gymnase du Parc Interdépartemental des Sports de Choisy-le-Roi\, au pied de la Gare du RER D CRETEIL POMPADOUR\, France
CATEGORIES:FORMATION,HTS
ATTACH;FMTTYPE=image/png:https://usep94.fr/wp-content/uploads/Bandeau-Formation-Escrime-PT-1020x450.001.png
ORGANIZER;CN="Comit%C3%A9 D%C3%A9partemental USEP 94":MAILTO:usep94.ligue94@gmail.com
GEO:48.771195;2.434458
X-APPLE-STRUCTURED-LOCATION;VALUE=URI;X-ADDRESS=Gymnase du Parc Interdépartemental des Sports de Choisy-le-Roi au pied de la Gare du RER D CRETEIL POMPADOUR France;X-APPLE-RADIUS=500;X-TITLE=au pied de la Gare du RER D CRETEIL POMPADOUR:geo:2.434458,48.771195
END:VEVENT
BEGIN:VEVENT
DTSTART;TZID=Europe/Paris:20221019T090000
DTEND;TZID=Europe/Paris:20221019T123000
DTSTAMP:20260419T173832
CREATED:20221006T070926Z
LAST-MODIFIED:20221018T193547Z
UID:10000602-1666170000-1666182600@usep94.fr
SUMMARY:Formation Rugby "Toucher 2'' "
DESCRIPTION:Vous souhaitez mettre en œuvre un cycle d’apprentissage à destination de vos élèves en rugby ?\n\nVenez découvrir le rugby ” Toucher 2” “\, une approche ludique\, sans plaquage\, limitant les contacts.\n \nLe principe est simple : dès que le porteur du ballon est touché\, il peut continuer à se déplacer\, mais a deux secondes pour faire une passe. À l’issue de ce délai\, s’il ne l’a pas fait\, la balle est rendue à l’adversaire. \nLe rapport de force\, souvent inégal\, est nivelé par ce contact aménagé\, qui amène une passe favorisant le jeu collectif. \nCette approche du rugby apporte une vraie dynamique. Tous les enfants peuvent\, plus librement\, s’engager dans l’action\, prendre plus de plaisir et marquer plus d’essais ! \nLieu de la formation :\nParc Interdépartemental Des Sports de Choisy. L’accueil se fera au Gymnase situé au pied de la Gare du RER D Créteil-Pompadour. (plan ici) \nContenu de la formation :\nCette formation s’appuiera sur une  démarche pédagogique co-construite entre la FFR\, l’USEP et l’UNSS : \n\nMise en place de situations d’apprentissage progressives et pistes d’adaptation ;\nPrésentation des ressources et outils pour la mise en place d’un module en vue d’une rencontre sportive au cours de laquelle les enfants seront amenés à jouer différents rôles sociaux (joueurs\, arbitres\, chronométreurs\, marqueurs).\n\n \nHoraires de la formation :\n9h00-9h15 : Accueil des participants \n9h15-12h30 : Formation \nDes temps de pratique seront proposés. Il est important de disposer d’une tenue adaptée à la pratique sportive en salle :  \n\nchaussures de sport en salle ou propres ; \nsurvêtement ou short ;\nune bouteille d’eau. \n\nConditions d’inscriptions :\nAfin d’être couverts en cas d’accident\, les participants à cette formation devront : \n\nêtre licenciés à l’USEP ;\n\nou \n\ndisposer d’un ordre de mission de leur employeur (inscription via GAIA\, si ce temps a été programmé par la circonscription\, autre si employeur municipal).\n\nToutes les inscriptions passent par le formulaire en ligne (bouton vert ou orange selon votre statut en haut de cette page). \nPour vous accueillir dans les meilleures conditions\, merci de compléter l’ensemble des informations du formulaire. \nSi vous avez des enfants\, vous pouvez les emmener avec vous. Ils resteront sous votre responsabilité ; et seront les utilisateurs -TEST- enfants du groupe. Merci\, toutefois de l’indiquer dans sur le formulaire d’inscription en précisant le nombre et l’âge. \nPour découvrir les règles du rugby ” Toucher 2” “\, suivez ce lien : \nhttps://www.youtube.com/watch?v=DpgTW3Pi0dg\n \nPour toutes précisions\, contactez : \nEric PIEDFER au 06 60 92 66 85 \nBruno GAILHAC au 06 82 05 63 19
URL:https://usep94.fr/evenement/formation-rugby-toucher-2/
LOCATION:Gymnase du Parc Interdépartemental des Sports de Choisy-le-Roi\, au pied de la Gare du RER D CRETEIL POMPADOUR\, France
CATEGORIES:FORMATION
ATTACH;FMTTYPE=image/png:https://usep94.fr/wp-content/uploads/Bandeau-Formation-Rugby-1020x450.001.png
ORGANIZER;CN="Comit%C3%A9 D%C3%A9partemental USEP 94":MAILTO:usep94.ligue94@gmail.com
GEO:48.771195;2.434458
X-APPLE-STRUCTURED-LOCATION;VALUE=URI;X-ADDRESS=Gymnase du Parc Interdépartemental des Sports de Choisy-le-Roi au pied de la Gare du RER D CRETEIL POMPADOUR France;X-APPLE-RADIUS=500;X-TITLE=au pied de la Gare du RER D CRETEIL POMPADOUR:geo:2.434458,48.771195
END:VEVENT
BEGIN:VEVENT
DTSTART;TZID=Europe/Paris:20221019T133000
DTEND;TZID=Europe/Paris:20221019T163000
DTSTAMP:20260419T173832
CREATED:20221006T121534Z
LAST-MODIFIED:20221017T153453Z
UID:10000604-1666186200-1666197000@usep94.fr
SUMMARY:Formation Tir à l'arc - Soft Archery
DESCRIPTION:Vous souhaitez engager votre classe dans la pratique d’un sport olympique nécessitant précision et maîtrise de soi ?\n\nVenez découvrir et vous former au tir à l’arc SoftArchery .\n \nL’utilisation du matériel de SoftArchery est une véritable avancée pour une pratique en milieu scolaire et l’organisation d’épreuves combinées de type biathlon (course/tir à l’arc). \nLe prêt du matériel USEP de SoftArchery n’est possible que pour les enseignants ayant suivi la formation au moins une fois. \nLieu de la formation :\nParc Interdépartemental Des Sports de Choisy. L’accueil se fera au Gymnase situé au pied de la Gare du RER D Créteil-Pompadour. (plan ici) \nContenu de la formation :\nCette formation s’appuiera sur une  démarche pédagogique simple respectant les normes d’encadrement du tir à l’arc : \n\nDécouverte et utilisation du matériel de SorftArchery (réglementation\, adaptation de l’activité en fonction du contexte sanitaire)\nMise en place de situations d’apprentissage progressives et pistes d’adaptation ;\nPrésentation des ressources et outils pour la mise en place d’un module en vue d’une rencontre sportive\n\nLa mise en action de cette formation se fera par le biais d’une activité  “course d’orientation” avec puce électronique. \n \nHoraires de la formation :\n13h30-13h45 : Accueil des participants \n13h45-16h30 : Formation \nDes temps de pratique seront proposés. Il est important de disposer d’une tenue adaptée à la pratique sportive en salle :  \n\nchaussures de sport en salle ou propres ; \npantalon et veste de survêtement à manches longues\, (près du corps si possible) ;\nune bouteille d’eau. \n\nConditions d’inscriptions :\nAfin d’être couverts en cas d’accident\, les participants à cette formation devront : \n\nêtre licenciés à l’USEP ;\n\nou \n\ndisposer d’un ordre de mission de leur employeur (inscription via GAIA\, si ce temps a été programmé par la circonscription\, autre si employeur municipal).\n\nToutes les inscriptions passent par le formulaire en ligne (bouton vert ou orange selon votre statut en haut de cette page). \nPour vous accueillir dans les meilleures conditions\, merci de compléter l’ensemble des informations du formulaire. \nSi vous avez des enfants\, vous pouvez les emmener avec vous. Ils resteront sous votre responsabilité ; et seront les utilisateurs -TEST- enfants du groupe. Merci\, toutefois de l’indiquer dans sur le formulaire d’inscription en précisant le nombre et l’âge. \nPour toutes précisions\, contactez : \nEric PIEDFER au 06 60 92 66 85 \nBruno GAILHAC au 06 82 05 63 19
URL:https://usep94.fr/evenement/formation-tir-a-l-arc/
LOCATION:Gymnase du Parc Interdépartemental des Sports de Choisy-le-Roi\, au pied de la Gare du RER D CRETEIL POMPADOUR\, France
CATEGORIES:FORMATION
ATTACH;FMTTYPE=image/png:https://usep94.fr/wp-content/uploads/Bandeau-Formation-Tir-à-larc-1020x450.001.png
ORGANIZER;CN="Comit%C3%A9 D%C3%A9partemental USEP 94":MAILTO:usep94.ligue94@gmail.com
GEO:48.771195;2.434458
X-APPLE-STRUCTURED-LOCATION;VALUE=URI;X-ADDRESS=Gymnase du Parc Interdépartemental des Sports de Choisy-le-Roi au pied de la Gare du RER D CRETEIL POMPADOUR France;X-APPLE-RADIUS=500;X-TITLE=au pied de la Gare du RER D CRETEIL POMPADOUR:geo:2.434458,48.771195
END:VEVENT
END:VCALENDAR