BEGIN:VCALENDAR
VERSION:2.0
PRODID:-//USEP94 - ECPv6.10.1.1//NONSGML v1.0//EN
CALSCALE:GREGORIAN
METHOD:PUBLISH
X-WR-CALNAME:USEP94
X-ORIGINAL-URL:https://usep94.fr
X-WR-CALDESC:Évènements pour USEP94
REFRESH-INTERVAL;VALUE=DURATION:PT1H
X-Robots-Tag:noindex
X-PUBLISHED-TTL:PT1H
BEGIN:VTIMEZONE
TZID:Europe/Paris
BEGIN:DAYLIGHT
TZOFFSETFROM:+0100
TZOFFSETTO:+0200
TZNAME:CEST
DTSTART:20220327T010000
END:DAYLIGHT
BEGIN:STANDARD
TZOFFSETFROM:+0200
TZOFFSETTO:+0100
TZNAME:CET
DTSTART:20221030T010000
END:STANDARD
END:VTIMEZONE
BEGIN:VEVENT
DTSTART;TZID=Europe/Paris:20221201T183000
DTEND;TZID=Europe/Paris:20221201T203000
DTSTAMP:20260419T173832
CREATED:20221007T060958Z
LAST-MODIFIED:20221129T083727Z
UID:10000607-1669919400-1669926600@usep94.fr
SUMMARY:Formation Danses Traditionnelles Maternelles à Choisy-le-Roi
DESCRIPTION:Agir ensemble à travers les danses traditionnelles\, un projet fédérateur source de bien être\n\nEntrez dans la danse et venez vous former autour d’un répertoire de musiques de nos régions et d’autres pays.\n \nDanser : un moyen de pratiquer 30 minutes d’Activité Physique Quotidienne\, dans la joie et la bonne humeur ! \nLe répertoire proposé servira de support aux rencontres “Tous au bal USEP” qui se dérouleront au printemps 2023\, en présence des musiciens et danseurs de la Faribole. \nLieu de la formation :\nGymnase du Parc Interdépartemental des Sports de Choisy-le-Roi (plan ici) \nContenu de la formation :\nCette formation à destination des enseignants des écoles élémentaires a pour objectifs de : \n\nFormer les participants à la conduite d’un module de danse collective ; \nDonner des moyens de construire un projet autour du vivre ensemble ;\nSe préparer à la rencontre départementale de danse « Tous au Bal USEP » animé par des musiciens.\n\nMarianne HASSID\, Conseillère Pédagogique Départementale pour l’EPS vous proposera de \n –   une appropriation et une structuration des apprentissages autour d’un répertoire commun de danses collectives ;  \n–   une méthodologie pour créer collectivement une danse à partir d’une musique commune. \n \nHoraires de la formation :\n18h30-20h30 : Formation \nUn temps de pratique vous sera proposé. Il est important de disposer d’une tenue adaptée à la pratique sportive en salle :  \n\nchaussures de sport en salle ou propres ; \nune bouteille d’eau. \n\nConditions d’inscriptions :\nAfin d’être couverts en cas d’accident\, les participants à cette formation devront : \n\nêtre licenciés à l’USEP ;\n\nou \n\ndisposer d’un ordre de mission de leur employeur (inscription via GAIA\, si ce temps a été programmé par la circonscription).\n\nCette formation départementale est co-organisée par la DSDEN\, l’USEP et les conseillers pédagogiques. Il est obligatoire de procéder à une double inscription Site USEP + GAIA (Module 22D0940060\, Session 15908\, Groupe 1) afin d’être assuré. A défaut\, nous ne pourrons vous accueillir. \n \nToutes les inscriptions passent par le formulaire en ligne (bouton vert en haut de cette page). \nLes titulaires d’une licence USEP bien qu’assurés par l’Usep sont encouragés à s’inscrire aussi via GAIA. \nPour toutes précisions\, contactez : \nEric PIEDFER au 06 60 92 66 85 \nBruno GAILHAC au 06 82 05 63 19
URL:https://usep94.fr/evenement/formation-danses-traditionnelles-maternelles-a-choisy-le-roi/
LOCATION:Gymnase du Parc Interdépartemental des Sports de Choisy-le-Roi\, au pied de la Gare du RER D CRETEIL POMPADOUR\, France
CATEGORIES:FORMATION,HTS
ATTACH;FMTTYPE=image/png:https://usep94.fr/wp-content/uploads/Bandeau-Formation-Danses-Traditionnelles-1020x450.001.png
ORGANIZER;CN="Comit%C3%A9 D%C3%A9partemental USEP 94":MAILTO:usep94.ligue94@gmail.com
GEO:48.771195;2.434458
X-APPLE-STRUCTURED-LOCATION;VALUE=URI;X-ADDRESS=Gymnase du Parc Interdépartemental des Sports de Choisy-le-Roi au pied de la Gare du RER D CRETEIL POMPADOUR France;X-APPLE-RADIUS=500;X-TITLE=au pied de la Gare du RER D CRETEIL POMPADOUR:geo:2.434458,48.771195
END:VEVENT
BEGIN:VEVENT
DTSTART;VALUE=DATE:20221207
DTEND;VALUE=DATE:20221208
DTSTAMP:20260419T173832
CREATED:20220920T092505Z
LAST-MODIFIED:20220920T092931Z
UID:10000596-1670371200-1670457599@usep94.fr
SUMMARY:Formation Savoir Rouler A Vélo
DESCRIPTION:Lancé en 2019\, le dispositif « Savoir Rouler à Vélo » a pour objectif de garantir à chaque enfant l’acquisition de savoirs sportifs fondamentaux indispensables pour son épanouissement\, sa santé\, son autonomie et sa sécurité.\nCette action à destination des enfants de 6 à 11 ans est un axe majeur du plan vélo et mobilités actives lancé en 2018 visant à tripler\, d’ici 2024\, la part du vélo dans les déplacements de tous les jours. \nLieu de la formation :\nParc Interdépartemental Des Sports de Choisy. L’accueil se fera au Gymnase situé au pied de la Gare du RER D Créteil-Pompadour. (plan ici) \nContenu de la formation :\n\nPrésentation du dispositif SRAV ;\nMise en place de situations d’apprentissage visant le savoir pédaler\, le savoir circuler permettant d’aborder dans un 3ème temps le savoir rouler à vélo ;\nPoint sur les conditions de pratique du vélo sur les temps scolaires et périscolaires ;\nRéflexion sur la mise en place et la validation du bloc 3 du SRAV (circulation sur route) autour des écoles du Val-de-Marne ;\nPrésentation d’outils conçus par l’USEP et l’UFOLEP.\n\n \nHoraires de la formation :\nA partir de 9h00 : Accueil des participants \n9h30-12h30 : Partie 1 de la formation \n12h30-13h30 : Pause repas (prévoir un pique-nique) Nous nous chargerons du café. \n13h30-16h30 : Partie 2 de la formation \nDes temps de pratique seront proposés. Il est important de disposer d’une tenue adaptée à la pratique du vélo (en extérieur et/ou en intérieur). N’hésitez pas à venir avec votre vélo et votre casque\, dans la mesure du possible. \nConditions d’inscriptions :\nAfin d’être couverts en cas d’accident\, les participants à cette formation devront : \n\nêtre licenciés à l’USEP ;\n\nou \n\ndisposer d’un ordre de mission de leur employeur (inscription via GAIA\, si ce temps a été programmé par la circonscription\, autre si employeur municipal).\n\nToutes les inscriptions passent par le formulaire en ligne (onglet vert en haut de cette page). \nPour vous accueillir dans les meilleures conditions\, merci de compléter l’ensemble des informations du formulaire. \nPour toutes précisions\, contactez : \nEric PIEDFER au 06 60 92 66 85 \nBruno GAILHAC au 06 82 05 63 19
URL:https://usep94.fr/evenement/formation-savoir-rouler-a-velo-5/
LOCATION:Gymnase du Parc Interdépartemental des Sports de Choisy-le-Roi\, au pied de la Gare du RER D CRETEIL POMPADOUR\, France
CATEGORIES:FORMATION
ATTACH;FMTTYPE=image/png:https://usep94.fr/wp-content/uploads/Bandeau-SRAV-1020x450.001.png
ORGANIZER;CN="Comit%C3%A9 D%C3%A9partemental USEP 94":MAILTO:usep94.ligue94@gmail.com
GEO:48.771195;2.434458
X-APPLE-STRUCTURED-LOCATION;VALUE=URI;X-ADDRESS=Gymnase du Parc Interdépartemental des Sports de Choisy-le-Roi au pied de la Gare du RER D CRETEIL POMPADOUR France;X-APPLE-RADIUS=500;X-TITLE=au pied de la Gare du RER D CRETEIL POMPADOUR:geo:2.434458,48.771195
END:VEVENT
END:VCALENDAR