BEGIN:VCALENDAR
VERSION:2.0
PRODID:-//USEP94 - ECPv6.10.1.1//NONSGML v1.0//EN
CALSCALE:GREGORIAN
METHOD:PUBLISH
X-ORIGINAL-URL:https://usep94.fr
X-WR-CALDESC:Évènements pour USEP94
REFRESH-INTERVAL;VALUE=DURATION:PT1H
X-Robots-Tag:noindex
X-PUBLISHED-TTL:PT1H
BEGIN:VTIMEZONE
TZID:Europe/Paris
BEGIN:DAYLIGHT
TZOFFSETFROM:+0100
TZOFFSETTO:+0200
TZNAME:CEST
DTSTART:20230326T010000
END:DAYLIGHT
BEGIN:STANDARD
TZOFFSETFROM:+0200
TZOFFSETTO:+0100
TZNAME:CET
DTSTART:20231029T010000
END:STANDARD
END:VTIMEZONE
BEGIN:VEVENT
DTSTART;TZID=Europe/Paris:20230104T133000
DTEND;TZID=Europe/Paris:20230104T163000
DTSTAMP:20260419T160818
CREATED:20221110T140317Z
LAST-MODIFIED:20221215T163725Z
UID:10000624-1672839000-1672849800@usep94.fr
SUMMARY:Formation Double-Dutch
DESCRIPTION:Vous souhaitez mettre en œuvre une action auprès de vos élèves\, dans le cadre de 30 minutes d’Activité Physique Quotidienne.\nVenez apprendre à entrer dans les cordes\, à les tourner et à faire des figures simples afin de pouvoir par la suite initier vos élèves à cette discipline qui passionnera petits et grands\, filles comme garçons. \nDans plusieurs associations d’école USEP\, les enfants sont déjà convaincus et les cordes remplacent au fur et à mesure les ballons. Venez nombreux pour cette initiation qui se fera dans le sport et la bonne humeur ! \nLieu de la formation :\nParc Interdépartemental Des Sports de Choisy. L’accueil se fera au Gymnase situé au pied de la Gare du RER D Créteil-Pompadour. (plan ici) \nContenu de la formation :\nCette formation sera encadrée et animée par la Fédération Française de Double-Dutch Jump Rope et par des membres de l’équipe Ebene \, Championne du monde en 2007 et 2011… Nos Parrains sportifs de haut niveau ! \n\nMise en place de situations d’apprentissage progressives et pistes d’adaptation ;\nPrésentation des ressources et outils conçus par la Fédération Française de Double-Dutch Jump Rope.\nPrésentation d’une progression spécifique écoles\, en vue de la rencontre finale Scola-Jump qui se déroulera en fin d’année\, dans le cadre des Jeux du Val-de-Marne (juin).\n\n \nHoraires de la formation :\nA partir de 13h15 : Accueil des participants \n13h30-16h30 : Formation \nDes temps de pratique seront proposés. Il est important de disposer d’une tenue adaptée à la pratique sportive en salle (chaussures de sport en salle ou propre)\, ainsi que d’une bouteille d’eau.  \nConditions d’inscriptions :\nAfin d’être couverts en cas d’accident\, les participants à cette formation devront : \n\nêtre licenciés à l’USEP ;\n\nou \n\ndisposer d’un ordre de mission de leur employeur (inscription via GAIA\, si ce temps a été programmé par la circonscription\, autre si employeur municipal).\n\nToutes les inscriptions passent par le formulaire en ligne (bouton vert ou orange selon votre statut en haut de cette page). \nPour vous accueillir dans les meilleures conditions\, merci de compléter l’ensemble des informations du formulaire. \nSi vous avez des enfants\, vous pouvez les emmener avec vous. Ils resteront sous votre responsabilité ; et seront les utilisateurs -TEST- enfants du groupe. Merci\, toutefois de l’indiquer dans sur le formulaire d’inscription en précisant le nombre et l’âge. \nPour découvrir le Double-Dutch\, en savoir plus et voir des vidéos \nhttp://www.youtube.com/watch?v=bDOBcBKRENw%20 \nhttp://www.youtube.com/watch?v=rZSHKE1ju2Q \nPour toutes précisions\, contactez : \nEric PIEDFER au 06 60 92 66 85 \nBruno GAILHAC au 06 82 05 63 19
URL:https://usep94.fr/evenement/formation-double-dutch-2/
LOCATION:Gymnase du Parc Interdépartemental des Sports de Choisy-le-Roi\, au pied de la Gare du RER D CRETEIL POMPADOUR\, France
CATEGORIES:FORMATION,HTS
ATTACH;FMTTYPE=image/png:https://usep94.fr/wp-content/uploads/Bandeau-Double-Dutch-1020x450.001.png
ORGANIZER;CN="Comit%C3%A9 D%C3%A9partemental USEP 94":MAILTO:usep94.ligue94@gmail.com
GEO:48.771195;2.434458
X-APPLE-STRUCTURED-LOCATION;VALUE=URI;X-ADDRESS=Gymnase du Parc Interdépartemental des Sports de Choisy-le-Roi au pied de la Gare du RER D CRETEIL POMPADOUR France;X-APPLE-RADIUS=500;X-TITLE=au pied de la Gare du RER D CRETEIL POMPADOUR:geo:2.434458,48.771195
END:VEVENT
BEGIN:VEVENT
DTSTART;TZID=Europe/Paris:20230111T133000
DTEND;TZID=Europe/Paris:20230111T163000
DTSTAMP:20260419T160818
CREATED:20221202T144546Z
LAST-MODIFIED:20230109T103050Z
UID:10000627-1673443800-1673454600@usep94.fr
SUMMARY:Formation Activités d'Orientation à la maternelle
DESCRIPTION:Vous souhaitez mettre en œuvre des activités d’orientation et une rencontre sportive associative Orientation.\nVenez découvrir les situations et outils proposes par l’USEP Nationale. \nDe nombreuses pistes à destination de tous. Un bon moyen de rendre l’enfant acteur de ses apprentissages en tenant différents rôles sociaux.\n \nLieu de la formation :\nParc Interdépartemental Des Sports de Choisy. L’accueil se fera au Gymnase situé au pied de la Gare du RER D Créteil-Pompadour. (plan ici) \nContenu de la formation :\n\nMise en place de situations d’apprentissage progressives et pistes d’adaptation ;\nPrésentation d’organisations possibles dans la perspective d’une Rencontre Sportive Associative au sein de vos associations.\n\n\n \nHoraires de la formation :\nA partir de 13h15 : Accueil des participants \n13h30-16h30 : Formation \nDes temps de pratique seront proposés. Il est important de disposer d’une tenue adaptée à la pratique sportive en salle (chaussures de sport en salle ou propre)\, ainsi que d’une bouteille d’eau.  \nConditions d’inscriptions :\nAfin d’être couverts en cas d’accident\, les participants à cette formation devront : \n\nêtre licenciés à l’USEP ;\n\nToutes les inscriptions passent par le formulaire en ligne (bouton vert en haut de cette page). \nPour vous accueillir dans les meilleures conditions\, merci de compléter l’ensemble des informations du formulaire. \nSi vous avez des enfants\, vous pouvez les emmener avec vous. Ils resteront sous votre responsabilité ; et seront les utilisateurs -TEST- enfants du groupe. Merci\, toutefois de l’indiquer sur le formulaire d’inscription en précisant le nombre et l’âge. \nPour toutes précisions\, contactez : \nEric PIEDFER au 06 60 92 66 85 \nBruno GAILHAC au 06 82 05 63 19
URL:https://usep94.fr/evenement/formation-activites-dorientation-a-la-maternelle/
LOCATION:Gymnase du Parc Interdépartemental des Sports de Choisy-le-Roi\, au pied de la Gare du RER D CRETEIL POMPADOUR\, France
CATEGORIES:FORMATION,HTS
ATTACH;FMTTYPE=image/png:https://usep94.fr/wp-content/uploads/Bandeau-Formation-Orientation-Mater-1020x450.001.png
ORGANIZER;CN="Comit%C3%A9 D%C3%A9partemental USEP 94":MAILTO:usep94.ligue94@gmail.com
GEO:48.771195;2.434458
X-APPLE-STRUCTURED-LOCATION;VALUE=URI;X-ADDRESS=Gymnase du Parc Interdépartemental des Sports de Choisy-le-Roi au pied de la Gare du RER D CRETEIL POMPADOUR France;X-APPLE-RADIUS=500;X-TITLE=au pied de la Gare du RER D CRETEIL POMPADOUR:geo:2.434458,48.771195
END:VEVENT
BEGIN:VEVENT
DTSTART;TZID=Europe/Paris:20230111T133000
DTEND;TZID=Europe/Paris:20230111T163000
DTSTAMP:20260419T160818
CREATED:20221205T135649Z
LAST-MODIFIED:20230112T090218Z
UID:10000628-1673443800-1673454600@usep94.fr
SUMMARY:Formation Danse Hip-Hop
DESCRIPTION:Le breaking issu de la culture Hip-Hop fera son entrée aux Jeux Olympiques de Paris 2024.\n\nVenez vous initier à la danse Hip-Hop en compagnie d’Iffra DIA\, chorégraphe et danseur du collectif FAIR-E au CCN de Rennes et de Bretagne. \n Ce « passeur de culture(s) »\, comme il aime à se définir\, porte un regard singulier et humaniste sur la danse orienté vers l’introspection\, l’instant et la transmission. \nPour découvrir l’artiste :\nIffra DIA\, pionnier du hip hop \nPage du Centre Chorégraphique National de Rennes et de Bretagne \nLieu de la formation :\nParc Interdépartemental Des Sports de Choisy. L’accueil se fera au Gymnase situé au pied de la Gare du RER D Créteil-Pompadour. (plan ici) \nContenu de la formation :\n\nAlternance d’apports culturels sur la naissance du hip hop et d’ateliers de pratique simple et ludique afin de ressentir et comprendre la logique du mouvement ;\nPrésentation de l’organisation de la rencontre “Danse Hip Hop” qui se déroulera en juin 2023\, au parc du Tremblay de Champigny-sur-Marne\, dans le cadre des Jeux du Val de Marne.\n\n\n \nHoraires de la formation :\nA partir de 13h15 : Accueil des participants \n13h30-16h30 : Formation \nDes temps de pratique seront proposés. Il est important de disposer d’une tenue adaptée à la pratique sportive en salle (chaussures de sport en salle ou propre)\, ainsi que d’une bouteille d’eau.  \nConditions d’inscriptions :\nAfin d’être couverts en cas d’accident\, les participants à cette formation devront : \n\nêtre licenciés à l’USEP ;\n\nToutes les inscriptions passent par le formulaire en ligne (bouton vert en haut de cette page). \nPour vous accueillir dans les meilleures conditions\, merci de compléter l’ensemble des informations du formulaire. \nSi vous avez des enfants\, vous pouvez les emmener avec vous. Ils resteront sous votre responsabilité ; et seront les utilisateurs -TEST- enfants du groupe. Merci\, toutefois de l’indiquer sur le formulaire d’inscription en précisant le nombre et l’âge. \nPour toutes précisions\, contactez : \nEric PIEDFER au 06 60 92 66 85 \nBruno GAILHAC au 06 82 05 63 19
URL:https://usep94.fr/evenement/formation-danse-hip-hop/
LOCATION:Gymnase du Parc Interdépartemental des Sports de Choisy-le-Roi\, au pied de la Gare du RER D CRETEIL POMPADOUR\, France
CATEGORIES:FORMATION,HTS
ATTACH;FMTTYPE=image/png:https://usep94.fr/wp-content/uploads/Bandeau-Formation-Danse-HIP-HOP-1020x450.001.png
ORGANIZER;CN="Comit%C3%A9 D%C3%A9partemental USEP 94":MAILTO:usep94.ligue94@gmail.com
GEO:48.771195;2.434458
X-APPLE-STRUCTURED-LOCATION;VALUE=URI;X-ADDRESS=Gymnase du Parc Interdépartemental des Sports de Choisy-le-Roi au pied de la Gare du RER D CRETEIL POMPADOUR France;X-APPLE-RADIUS=500;X-TITLE=au pied de la Gare du RER D CRETEIL POMPADOUR:geo:2.434458,48.771195
END:VEVENT
BEGIN:VEVENT
DTSTART;TZID=Europe/Paris:20230118T090000
DTEND;TZID=Europe/Paris:20230118T123000
DTSTAMP:20260419T160818
CREATED:20221205T163200Z
LAST-MODIFIED:20230113T134904Z
UID:10000630-1674032400-1674045000@usep94.fr
SUMMARY:Formation Rouler-Glisser
DESCRIPTION:Vous souhaitez pratiquer le roller avec vos élèves et participer au patinthlon au mois de juin ?\n\nVenez découvrir les situations d’apprentissage issues du livret Rouler-Glisser co-rédigé par l’USEP et Fédérations les Françaises de Roller & Skateboard\, des Sports de Glace et de Hockey sur Glace.\n \nLieu de la formation :\nParc Interdépartemental Des Sports de Choisy. L’accueil se fera au Gymnase situé au pied de la Gare du RER D Créteil-Pompadour. (plan ici) \nContenu de la formation :\n\nPrésentation du dispositif Rouler-Glisser ;\nMise en place de situations d’apprentissage progressives ;\nPrésentation de l’organisation du Patinthlon à destination des classes de Cycle 2 et Cycle 3 qui se déroulera en juin 2023\, au Parc Interdépartemental des Sports de Choisy\, dans le cadre des Jeux du Val de Marne.\n\n\n \nHoraires de la formation :\nA partir de 9h00 : Accueil des participants \n9h15-12h30 : Formation \nDes temps de pratique seront proposés. Il est important de disposer d’une tenue adaptée à la pratique sportive en salle (+ rollers et protections)\, ainsi que d’une bouteille d’eau.  \nConditions d’inscriptions :\nAfin d’être couverts en cas d’accident\, les participants à cette formation devront : \n\nêtre licenciés à l’USEP ;\n\nToutes les inscriptions passent par le formulaire en ligne (bouton vert en haut de cette page). \nPour vous accueillir dans les meilleures conditions\, merci de compléter l’ensemble des informations du formulaire. \nSi vous avez des enfants\, vous pouvez les emmener avec vous. Ils resteront sous votre responsabilité ; et seront les utilisateurs -TEST- enfants du groupe. Merci\, toutefois de l’indiquer sur le formulaire d’inscription en précisant le nombre et l’âge. \nPour toutes précisions\, contactez : \nEric PIEDFER au 06 60 92 66 85 \nBruno GAILHAC au 06 82 05 63 19
URL:https://usep94.fr/evenement/formation-rouler-glisser/
LOCATION:Gymnase du Parc Interdépartemental des Sports de Choisy-le-Roi\, au pied de la Gare du RER D CRETEIL POMPADOUR\, France
CATEGORIES:CII,CIII,FORMATION,HTS
ATTACH;FMTTYPE=image/png:https://usep94.fr/wp-content/uploads/Bandeau-Formation-Rouler-Glisser1020x450.001.png
ORGANIZER;CN="Comit%C3%A9 D%C3%A9partemental USEP 94":MAILTO:usep94.ligue94@gmail.com
GEO:48.771195;2.434458
X-APPLE-STRUCTURED-LOCATION;VALUE=URI;X-ADDRESS=Gymnase du Parc Interdépartemental des Sports de Choisy-le-Roi au pied de la Gare du RER D CRETEIL POMPADOUR France;X-APPLE-RADIUS=500;X-TITLE=au pied de la Gare du RER D CRETEIL POMPADOUR:geo:2.434458,48.771195
END:VEVENT
BEGIN:VEVENT
DTSTART;TZID=Europe/Paris:20230118T133000
DTEND;TZID=Europe/Paris:20230118T163000
DTSTAMP:20260419T160818
CREATED:20221208T153712Z
LAST-MODIFIED:20230109T103421Z
UID:10000646-1674048600-1674059400@usep94.fr
SUMMARY:Formation Escrime "Premières Touches" Janvier
DESCRIPTION:Vous souhaitez mettre en œuvre un cycle d’apprentissage à destination de vos élèves dans une discipline olympique ?\n\nVenez apprendre à croiser le fer en toute sécurité\, grâce au kit et à la démarche “Premières Touches” .\n \n« Ce matériel permet de supprimer les contraintes d’espace spécifique électrifié et de minimiser les risques physiques liés à la lame des fleurets\, épées ou sabres de l’escrime traditionnelle. \nL’utilisation de ce nouveau matériel adapté garantit un niveau de sécurité tel que l’encadrement renforcé n’est plus une obligation au regard de la sécurité. » (note de service n° 200-097 du 17-8-2009 parue au BO n°33 du 10/09/2009)\n \nLieu de la formation :\nParc Interdépartemental Des Sports de Choisy. L’accueil se fera au Gymnase situé au pied de la Gare du RER D Créteil-Pompadour. (plan ici) \nContenu de la formation :\nCette formation s’appuiera sur la démarche pédagogique experte de Jean-Pierre PHILIPPON ancien Conseiller Technique Sportif à la FFE chargé de mission pour le développement de l’escrime scolaire : \n\nMise en place de situations d’apprentissage progressives et pistes d’adaptation ;\nPrésentation des ressources et outils conçus par la Fédération Française d’Escrime ;\nGestion du matériel (entretien et mesures d’hygiène liées à la crise sanitaire)\nPistes pour mettre en place une Rencontre Sportive Associative autour de l’escrime.\n\n \nHoraires de la formation :\n13h30 : Accueil des participants \n13h45-16h30 : Formation \nDes temps de pratique seront proposés. Il est important de disposer d’une tenue adaptée à la pratique sportive en salle :  \n\nchaussures de sport en salle ou propres ; \npantalon de survêtement ;\nveste de survêtement car les vestes du kit destinées aux enfants risquent d’être trop petites ;\nune bouteille d’eau. \n\nConditions d’inscriptions :\nAfin d’être couverts en cas d’accident\, les participants à cette formation devront : \n\nêtre licenciés à l’USEP.\n\nToutes les inscriptions passent par le formulaire en ligne (bouton vert en haut de cette page). \nPour vous accueillir dans les meilleures conditions\, merci de compléter l’ensemble des informations du formulaire. \nSi vous avez des enfants\, vous pouvez les emmener avec vous. Ils resteront sous votre responsabilité ; et seront les utilisateurs -TEST- enfants du groupe. Merci\, toutefois de l’indiquer dans sur le formulaire d’inscription en précisant le nombre et l’âge. \nPour découvrir l’escrime scolaire “Premières Touches”\, visitez le blog de Jean-Pierre PHILIPPON \nhttps://enseignerlescrime.fr/2021/09/19/escrime-a-lecole-primaire-2/ \nPour toutes précisions\, contactez : \nEric PIEDFER au 06 60 92 66 85 \nBruno GAILHAC au 06 82 05 63 19
URL:https://usep94.fr/evenement/formation-escrime-premieres-touches-janvier/
LOCATION:Gymnase du Parc Interdépartemental des Sports de Choisy-le-Roi\, au pied de la Gare du RER D CRETEIL POMPADOUR\, France
CATEGORIES:FORMATION,HTS
ATTACH;FMTTYPE=image/png:https://usep94.fr/wp-content/uploads/Bandeau-Formation-Escrime-PT-1020x450.001.png
ORGANIZER;CN="Comit%C3%A9 D%C3%A9partemental USEP 94":MAILTO:usep94.ligue94@gmail.com
GEO:48.771195;2.434458
X-APPLE-STRUCTURED-LOCATION;VALUE=URI;X-ADDRESS=Gymnase du Parc Interdépartemental des Sports de Choisy-le-Roi au pied de la Gare du RER D CRETEIL POMPADOUR France;X-APPLE-RADIUS=500;X-TITLE=au pied de la Gare du RER D CRETEIL POMPADOUR:geo:2.434458,48.771195
END:VEVENT
BEGIN:VEVENT
DTSTART;TZID=Europe/Paris:20230125T133000
DTEND;TZID=Europe/Paris:20230125T163000
DTSTAMP:20260419T160818
CREATED:20221212T063639Z
LAST-MODIFIED:20221212T072656Z
UID:10000649-1674653400-1674664200@usep94.fr
SUMMARY:Formation : Organiser une rencontre sportive associative olympique
DESCRIPTION:Vous souhaitez que vos élèves fassent leurs Jeux ?\n\nVenez découvrir et partager des ressources\, des outils pour construire un événement sportif dans le cadre de la Semaine Olympique et Paralympique 2023 qui se déroulera du 3 au 7 avril.\n \nLieu de la formation :\nParc Interdépartemental Des Sports de Choisy. L’accueil se fera au Gymnase situé au pied de la Gare du RER D Créteil-Pompadour. (plan ici) \nContenu de la formation :\n\nPrésentation du principe de Rencontre Sportive Associative (enfants auteurs et acteurs de leur pratique) ;\nMise en place d’ateliers de découverte de pratiques handisport. \n\n \nHoraires de la formation :\n13h30 : Accueil des participants \n13h45-16h30 : Formation \nDes temps de pratique seront proposés. Il est important de disposer d’une tenue adaptée à la pratique sportive en salle \, ainsi que d’une bouteille d’eau.\n \nConditions d’inscriptions :\nAfin d’être couverts en cas d’accident\, les participants à cette formation devront : \n\nêtre licenciés à l’USEP ;\n\nToutes les inscriptions passent par le formulaire en ligne (bouton vert en haut de cette page). \nPour vous accueillir dans les meilleures conditions\, merci de compléter l’ensemble des informations du formulaire. \nSi vous avez des enfants\, vous pouvez les emmener avec vous. Ils resteront sous votre responsabilité ; et seront les utilisateurs -TEST- enfants du groupe. Merci\, toutefois de l’indiquer sur le formulaire d’inscription en précisant le nombre et l’âge. \nPour toutes précisions\, contactez : \nEric PIEDFER au 06 60 92 66 85 \nBruno GAILHAC au 06 82 05 63 19
URL:https://usep94.fr/evenement/formation-organiser-une-rencontre-sportive-associative-olympique/
LOCATION:Gymnase du Parc Interdépartemental des Sports de Choisy-le-Roi\, au pied de la Gare du RER D CRETEIL POMPADOUR\, France
CATEGORIES:CI,CII,CIII,FORMATION,HTS
ATTACH;FMTTYPE=image/png:https://usep94.fr/wp-content/uploads/Bandeau-Formation-Oganiser-RSAO-1020x450.001.png
ORGANIZER;CN="Comit%C3%A9 D%C3%A9partemental USEP 94":MAILTO:usep94.ligue94@gmail.com
GEO:48.771195;2.434458
X-APPLE-STRUCTURED-LOCATION;VALUE=URI;X-ADDRESS=Gymnase du Parc Interdépartemental des Sports de Choisy-le-Roi au pied de la Gare du RER D CRETEIL POMPADOUR France;X-APPLE-RADIUS=500;X-TITLE=au pied de la Gare du RER D CRETEIL POMPADOUR:geo:2.434458,48.771195
END:VEVENT
END:VCALENDAR