BEGIN:VCALENDAR
VERSION:2.0
PRODID:-//USEP94 - ECPv6.10.1.1//NONSGML v1.0//EN
CALSCALE:GREGORIAN
METHOD:PUBLISH
X-ORIGINAL-URL:https://usep94.fr
X-WR-CALDESC:Évènements pour USEP94
REFRESH-INTERVAL;VALUE=DURATION:PT1H
X-Robots-Tag:noindex
X-PUBLISHED-TTL:PT1H
BEGIN:VTIMEZONE
TZID:Europe/Paris
BEGIN:DAYLIGHT
TZOFFSETFROM:+0100
TZOFFSETTO:+0200
TZNAME:CEST
DTSTART:20230326T010000
END:DAYLIGHT
BEGIN:STANDARD
TZOFFSETFROM:+0200
TZOFFSETTO:+0100
TZNAME:CET
DTSTART:20231029T010000
END:STANDARD
END:VTIMEZONE
BEGIN:VEVENT
DTSTART;VALUE=DATE:20231108
DTEND;VALUE=DATE:20231109
DTSTAMP:20260419T163736
CREATED:20230907T070412Z
LAST-MODIFIED:20230907T070412Z
UID:10000726-1699401600-1699487999@usep94.fr
SUMMARY:Formation Savoir Rouler A Vélo
DESCRIPTION:Lancé en 2019\, le dispositif « Savoir Rouler à Vélo » a pour objectif de garantir à chaque enfant l’acquisition de savoirs sportifs fondamentaux indispensables pour son épanouissement\, sa santé\, son autonomie et sa sécurité.\nCette action à destination des enfants de 6 à 11 ans est un axe majeur du plan vélo et mobilités actives lancé en 2018 visant à tripler\, d’ici 2024\, la part du vélo dans les déplacements de tous les jours. \nLieu de la formation :\nParc Interdépartemental Des Sports de Choisy. L’accueil se fera au Gymnase situé au pied de la Gare du RER D Créteil-Pompadour. (plan ici) \nContenu de la formation :\n\nPrésentation du dispositif SRAV ;\nMise en place de situations d’apprentissage visant le savoir pédaler\, le savoir circuler permettant d’aborder dans un 3ème temps le savoir rouler à vélo ;\nPoint sur les conditions de pratique du vélo sur les temps scolaires et périscolaires ;\nRéflexion sur la mise en place et la validation du bloc 3 du SRAV (circulation sur route) autour des écoles du Val-de-Marne ;\nPrésentation d’outils conçus par l’USEP et l’UFOLEP.\n\n \nHoraires de la formation :\nA partir de 9h00 : Accueil des participants \n9h30-12h30 : Partie 1 de la formation \n12h30-13h30 : Pause repas (prévoir un pique-nique) Nous nous chargerons du café. \n13h30-16h30 : Partie 2 de la formation \nDes temps de pratique seront proposés. Il est important de disposer d’une tenue adaptée à la pratique du vélo (en extérieur et/ou en intérieur). N’hésitez pas à venir avec votre vélo et votre casque\, dans la mesure du possible. \nConditions d’inscriptions :\nAfin d’être couverts en cas d’accident\, les participants à cette formation devront : \n\nêtre licenciés à l’USEP ;\n\nou \n\ndisposer d’un ordre de mission de leur employeur (inscription via GAIA\, si ce temps a été programmé par la circonscription\, autre si employeur municipal).\n\nToutes les inscriptions passent par le formulaire en ligne (onglet vert en haut de cette page). Pour accéder à ce formulaire vous devrez vous connecter à votre compte USEP. Pour créer votre compte\, suivez le Pas-à-Pas (cliquez ICI).\n \nPour vous accueillir dans les meilleures conditions\, merci de compléter l’ensemble des informations du formulaire. \nPour toutes précisions\, contactez : \nEric PIEDFER au 06 60 92 66 85 \nBruno GAILHAC au 06 82 05 63 19
URL:https://usep94.fr/evenement/formation-savoir-rouler-a-velo-7/
LOCATION:Gymnase du Parc Interdépartemental des Sports de Choisy-le-Roi\, au pied de la Gare du RER D CRETEIL POMPADOUR\, France
CATEGORIES:FORMATION,HTS
ATTACH;FMTTYPE=image/png:https://usep94.fr/wp-content/uploads/Bandeau-SRAV-1020x450.001.png
ORGANIZER;CN="Comit%C3%A9 D%C3%A9partemental USEP 94":MAILTO:usep94.ligue94@gmail.com
GEO:48.771195;2.434458
X-APPLE-STRUCTURED-LOCATION;VALUE=URI;X-ADDRESS=Gymnase du Parc Interdépartemental des Sports de Choisy-le-Roi au pied de la Gare du RER D CRETEIL POMPADOUR France;X-APPLE-RADIUS=500;X-TITLE=au pied de la Gare du RER D CRETEIL POMPADOUR:geo:2.434458,48.771195
END:VEVENT
BEGIN:VEVENT
DTSTART;VALUE=DATE:20231115
DTEND;VALUE=DATE:20231116
DTSTAMP:20260419T163736
CREATED:20230907T070630Z
LAST-MODIFIED:20230907T070630Z
UID:10000727-1700006400-1700092799@usep94.fr
SUMMARY:Formation Savoir Rouler A Vélo
DESCRIPTION:Lancé en 2019\, le dispositif « Savoir Rouler à Vélo » a pour objectif de garantir à chaque enfant l’acquisition de savoirs sportifs fondamentaux indispensables pour son épanouissement\, sa santé\, son autonomie et sa sécurité.\nCette action à destination des enfants de 6 à 11 ans est un axe majeur du plan vélo et mobilités actives lancé en 2018 visant à tripler\, d’ici 2024\, la part du vélo dans les déplacements de tous les jours. \nLieu de la formation :\nParc Interdépartemental Des Sports de Choisy. L’accueil se fera au Gymnase situé au pied de la Gare du RER D Créteil-Pompadour. (plan ici) \nContenu de la formation :\n\nPrésentation du dispositif SRAV ;\nMise en place de situations d’apprentissage visant le savoir pédaler\, le savoir circuler permettant d’aborder dans un 3ème temps le savoir rouler à vélo ;\nPoint sur les conditions de pratique du vélo sur les temps scolaires et périscolaires ;\nRéflexion sur la mise en place et la validation du bloc 3 du SRAV (circulation sur route) autour des écoles du Val-de-Marne ;\nPrésentation d’outils conçus par l’USEP et l’UFOLEP.\n\n \nHoraires de la formation :\nA partir de 9h00 : Accueil des participants \n9h30-12h30 : Partie 1 de la formation \n12h30-13h30 : Pause repas (prévoir un pique-nique) Nous nous chargerons du café. \n13h30-16h30 : Partie 2 de la formation \nDes temps de pratique seront proposés. Il est important de disposer d’une tenue adaptée à la pratique du vélo (en extérieur et/ou en intérieur). N’hésitez pas à venir avec votre vélo et votre casque\, dans la mesure du possible. \nConditions d’inscriptions :\nAfin d’être couverts en cas d’accident\, les participants à cette formation devront : \n\nêtre licenciés à l’USEP ;\n\nou \n\ndisposer d’un ordre de mission de leur employeur (inscription via GAIA\, si ce temps a été programmé par la circonscription\, autre si employeur municipal).\n\nToutes les inscriptions passent par le formulaire en ligne (onglet vert en haut de cette page). Pour accéder à ce formulaire vous devrez vous connecter à votre compte USEP. Pour créer votre compte\, suivez le Pas-à-Pas (cliquez ICI).\n \nPour vous accueillir dans les meilleures conditions\, merci de compléter l’ensemble des informations du formulaire. \nPour toutes précisions\, contactez : \nEric PIEDFER au 06 60 92 66 85 \nBruno GAILHAC au 06 82 05 63 19
URL:https://usep94.fr/evenement/formation-savoir-rouler-a-velo-8/
LOCATION:Gymnase du Parc Interdépartemental des Sports de Choisy-le-Roi\, au pied de la Gare du RER D CRETEIL POMPADOUR\, France
CATEGORIES:FORMATION,HTS
ATTACH;FMTTYPE=image/png:https://usep94.fr/wp-content/uploads/Bandeau-SRAV-1020x450.001.png
ORGANIZER;CN="Comit%C3%A9 D%C3%A9partemental USEP 94":MAILTO:usep94.ligue94@gmail.com
GEO:48.771195;2.434458
X-APPLE-STRUCTURED-LOCATION;VALUE=URI;X-ADDRESS=Gymnase du Parc Interdépartemental des Sports de Choisy-le-Roi au pied de la Gare du RER D CRETEIL POMPADOUR France;X-APPLE-RADIUS=500;X-TITLE=au pied de la Gare du RER D CRETEIL POMPADOUR:geo:2.434458,48.771195
END:VEVENT
BEGIN:VEVENT
DTSTART;TZID=Europe/Paris:20231123T183000
DTEND;TZID=Europe/Paris:20231123T203000
DTSTAMP:20260419T163736
CREATED:20231015T140642Z
LAST-MODIFIED:20231122T063715Z
UID:10000741-1700764200-1700771400@usep94.fr
SUMMARY:Formation Danses Traditionnelles Cycles 2 et 3 à Chennevières-sur-Marne
DESCRIPTION:Agir ensemble à travers les danses traditionnelles\, un projet fédérateur source de bien être\n\nEntrez dans la danse et venez vous former autour d’un répertoire de musiques de nos régions et d’autres pays.\n \nDanser : un moyen de pratiquer 30 minutes d’Activité Physique Quotidienne\, dans la joie et la bonne humeur ! \nLe répertoire proposé servira de support aux rencontres “Tous au bal USEP” que vous pourrez organiser localement au cours de l’année avec notre soutien en termes de sonorisation et d’animation (selon nos disponibilités).\n \nLieu de la formation :\nEcole élémentaire les Hauts de Chennevières\, 11 rue Clément  Ader 94430 Chennevières sur Marne.  (plan ici) \nContenu de la formation :\nCette formation à destination des enseignants des écoles élémentaires a pour objectifs de : \n\nFormer les participants à la conduite d’un module de danse collective ; \nDonner des moyens de construire un projet autour du vivre ensemble ;\nSe préparer à organiser une rencontre de danse « Tous au Bal USEP » avec le soutien logistique de l’USEP 94.\n\nMarianne HASSID\, Conseillère Pédagogique Départementale pour l’EPS vous proposera de \n –   une appropriation et une structuration des apprentissages autour d’un répertoire commun de danses collectives ;  \n–   une méthodologie pour créer collectivement une danse à partir d’une musique commune. \n \nHoraires de la formation :\n18h30-20h30 : Formation \nUn temps de pratique vous sera proposé. Il est important de disposer d’une tenue adaptée à la pratique sportive en salle :  \n\nchaussures de sport en salle ou propres ; \nune bouteille d’eau. \n\nConditions d’inscriptions :\nAfin d’être couverts en cas d’accident\, les participants à cette formation devront : \n\nêtre licenciés à l’USEP ;\n\nou \n\ndisposer d’un ordre de mission de leur employeur (inscription via GAIA\, si ce temps a été programmé par la circonscription).\n\nCette formation départementale est co-organisée par la DSDEN\, l’USEP et les conseillers pédagogiques. Il est obligatoire de procéder à une double inscription Site USEP + GAIA afin d’être assuré. A défaut\, nous ne pourrons vous accueillir. \n \nToutes les inscriptions passent par le formulaire en ligne (bouton vert en haut de cette page). \nLes titulaires d’une licence USEP bien qu’assurés par l’Usep sont encouragés à s’inscrire aussi via GAIA. \nPour toutes précisions\, contactez : \nEric PIEDFER au 06 60 92 66 85 \nBruno GAILHAC au 06 82 05 63 19
URL:https://usep94.fr/evenement/formation-danses-traditionnelles-cycles-2-et-3-a-chennevieres-sur-marne-2/
LOCATION:Ecole élémentaire Les Hauts de Chennevières\, 11 rue Clément Ader\, Chennevières sur Marne\, 94430\, France
CATEGORIES:FORMATION,HTS
ATTACH;FMTTYPE=image/png:https://usep94.fr/wp-content/uploads/Bandeau-Formation-Danses-Traditionnelles-1020x450.001.png
ORGANIZER;CN="Comit%C3%A9 D%C3%A9partemental USEP 94":MAILTO:usep94.ligue94@gmail.com
GEO:48.79961;2.553626
X-APPLE-STRUCTURED-LOCATION;VALUE=URI;X-ADDRESS=Ecole élémentaire Les Hauts de Chennevières 11 rue Clément Ader Chennevières sur Marne 94430 France;X-APPLE-RADIUS=500;X-TITLE=11 rue Clément Ader:geo:2.553626,48.79961
END:VEVENT
BEGIN:VEVENT
DTSTART;VALUE=DATE:20231128
DTEND;VALUE=DATE:20231129
DTSTAMP:20260419T163736
CREATED:20240301T093728Z
LAST-MODIFIED:20240501T094549Z
UID:10000790-1701129600-1701215999@usep94.fr
SUMMARY:Formation Projet Olympique AS LES ANATOLES
DESCRIPTION:En perspective des JOP de Paris 2024\, l’USEP 94 soutient le projet de l’AS LES ANATOLES de Champigny-sur-Marne.\n\n3 temps de formation seront proposés aux enseignants de l’école Anatole France A afin de préparer leur événement sportif. \n \nLieu et dates des formations :\nà l’école Anatole France A de Champigny-sur-Marne \nles 28/11/2023 – 04/03/2024 – 18/03/2024 \nPour toutes précisions\, contactez : \nEric PIEDFER au 06 60 92 66 85
URL:https://usep94.fr/evenement/formation-projet-olympique-as-les-anatoles/2023-11-28/
CATEGORIES:CII,CIII,FORMATION
ORGANIZER;CN="Comit%C3%A9 D%C3%A9partemental USEP 94":MAILTO:usep94.ligue94@gmail.com
END:VEVENT
BEGIN:VEVENT
DTSTART;TZID=Europe/Paris:20231129T090000
DTEND;TZID=Europe/Paris:20231129T120000
DTSTAMP:20260419T163736
CREATED:20231109T104035Z
LAST-MODIFIED:20231109T104545Z
UID:10000743-1701248400-1701259200@usep94.fr
SUMMARY:Formation Danse Hip-Hop
DESCRIPTION:Le breaking issu de la culture Hip-Hop fera son entrée aux Jeux Olympiques de Paris 2024.\n\nVenez vous initier à la danse Hip-Hop en compagnie d’Iffra DIA\, chorégraphe et danseur du collectif FAIR-E au CCN de Rennes et de Bretagne. \n Ce « passeur de culture(s) »\, comme il aime à se définir\, porte un regard singulier et humaniste sur la danse orienté vers l’introspection\, l’instant et la transmission. \nPour découvrir l’artiste :\nIffra DIA\, pionnier du hip hop \nPage du Centre Chorégraphique National de Rennes et de Bretagne \nLieu de la formation :\nParc Interdépartemental Des Sports de Choisy. L’accueil se fera au Gymnase situé au pied de la Gare du RER D Créteil-Pompadour. (plan ici) \nContenu de la formation :\n\nAlternance d’apports culturels sur la naissance du hip hop et d’ateliers de pratique simple et ludique afin de ressentir et comprendre la logique du mouvement ;\nPrésentation de l’organisation de la rencontre “Danse Hip Hop” qui se déroulera en juin 2023\, au parc du Tremblay de Champigny-sur-Marne\, dans le cadre des Jeux du Val de Marne.\n\n\n \nHoraires de la formation :\nA partir de 8h50 : Accueil des participants \n9h00-12h00 : Formation \nDes temps de pratique seront proposés. Il est important de disposer d’une tenue adaptée à la pratique sportive en salle (chaussures de sport en salle ou propre)\, ainsi que d’une bouteille d’eau. \nConditions d’inscriptions :\nAfin d’être couverts en cas d’accident\, les participants à cette formation devront : \n\nêtre licenciés à l’USEP ;\n\nToutes les inscriptions passent par le formulaire en ligne (bouton vert en haut de cette page). \nPour vous accueillir dans les meilleures conditions\, merci de compléter l’ensemble des informations du formulaire. \nSi vous avez des enfants\, vous pouvez les emmener avec vous. Ils resteront sous votre responsabilité ; et seront les utilisateurs -TEST- enfants du groupe. Merci\, toutefois de l’indiquer sur le formulaire d’inscription en précisant le nombre et l’âge. \nPour toutes précisions\, contactez : \nEric PIEDFER au 06 60 92 66 85 \nBruno GAILHAC au 06 82 05 63 19
URL:https://usep94.fr/evenement/formation-danse-hip-hop-2/
LOCATION:Gymnase du Parc Interdépartemental des Sports de Choisy-le-Roi\, au pied de la Gare du RER D CRETEIL POMPADOUR\, France
CATEGORIES:FORMATION,HTS
ATTACH;FMTTYPE=image/png:https://usep94.fr/wp-content/uploads/Bandeau-Formation-Danse-HIP-HOP-1020x450.001.png
ORGANIZER;CN="Comit%C3%A9 D%C3%A9partemental USEP 94":MAILTO:usep94.ligue94@gmail.com
GEO:48.771195;2.434458
X-APPLE-STRUCTURED-LOCATION;VALUE=URI;X-ADDRESS=Gymnase du Parc Interdépartemental des Sports de Choisy-le-Roi au pied de la Gare du RER D CRETEIL POMPADOUR France;X-APPLE-RADIUS=500;X-TITLE=au pied de la Gare du RER D CRETEIL POMPADOUR:geo:2.434458,48.771195
END:VEVENT
BEGIN:VEVENT
DTSTART;TZID=Europe/Paris:20231129T133000
DTEND;TZID=Europe/Paris:20231129T163000
DTSTAMP:20260419T163736
CREATED:20231110T152524Z
LAST-MODIFIED:20231110T162048Z
UID:10000744-1701264600-1701275400@usep94.fr
SUMMARY:Formation Chase Tag et Kinball
DESCRIPTION:A l’Usep\, le kinball on connaît mais le Chase Tag\, késako ?\n\nVous avez conservé une âme d’enfant\, alors venez découvrir les jeux de poursuite à travers le chase tag et de coopération avec le kinball. \nLieu de la formation :\nParc Interdépartemental Des Sports de Choisy. L’accueil se fera au Gymnase situé au pied de la Gare du RER D Créteil-Pompadour. (plan ici) \nContenu de la formation :\n\nDécouverte de ces activités par des temps de pratique alternés de temps réflexifs permettant la mise en place de modules d’apprentissage.\n\n\n \nHoraires de la formation :\nA partir de 13h20 : Accueil des participants \n13h30 – 16h30 : Formation \nDes temps de pratique seront proposés. Il est important de disposer d’une tenue adaptée à la pratique sportive en salle (chaussures de sport en salle ou propre)\, ainsi que d’une bouteille d’eau. \nConditions d’inscriptions :\nAfin d’être couverts en cas d’accident\, les participants à cette formation devront : \n\nêtre licenciés à l’USEP ;\n\nToutes les inscriptions passent par le formulaire en ligne (bouton vert en haut de cette page). \nPour vous accueillir dans les meilleures conditions\, merci de compléter l’ensemble des informations du formulaire. \nSi vous avez des enfants\, vous pouvez les emmener avec vous. Ils resteront sous votre responsabilité ; et seront les utilisateurs -TEST- enfants du groupe. Merci\, toutefois de l’indiquer sur le formulaire d’inscription en précisant le nombre et l’âge. \nPour toutes précisions\, contactez : \nEric PIEDFER au 06 60 92 66 85 \nBruno GAILHAC au 06 82 05 63 19
URL:https://usep94.fr/evenement/formation-chase-tag-et-kinball/
LOCATION:Gymnase du Parc Interdépartemental des Sports de Choisy-le-Roi\, au pied de la Gare du RER D CRETEIL POMPADOUR\, France
CATEGORIES:FORMATION,HTS
ATTACH;FMTTYPE=image/png:https://usep94.fr/wp-content/uploads/Bandeau-Formation-Chase-Tag-Kinball-1020x450.001.png
ORGANIZER;CN="Comit%C3%A9 D%C3%A9partemental USEP 94":MAILTO:usep94.ligue94@gmail.com
GEO:48.771195;2.434458
X-APPLE-STRUCTURED-LOCATION;VALUE=URI;X-ADDRESS=Gymnase du Parc Interdépartemental des Sports de Choisy-le-Roi au pied de la Gare du RER D CRETEIL POMPADOUR France;X-APPLE-RADIUS=500;X-TITLE=au pied de la Gare du RER D CRETEIL POMPADOUR:geo:2.434458,48.771195
END:VEVENT
BEGIN:VEVENT
DTSTART;TZID=Europe/Paris:20231130T183000
DTEND;TZID=Europe/Paris:20231130T203000
DTSTAMP:20260419T163736
CREATED:20231015T142630Z
LAST-MODIFIED:20231015T142932Z
UID:10000742-1701369000-1701376200@usep94.fr
SUMMARY:Formation Danses Traditionnelles Cycles 2 et 3 à Chevilly-Larue
DESCRIPTION:Agir ensemble à travers les danses traditionnelles\, un projet fédérateur source de bien être\nEntrez dans la danse et venez vous former autour d’un répertoire de musiques de nos régions et d’autres pays. \nDanser : un moyen de pratiquer 30 minutes d’Activité Physique Quotidienne\, dans la joie et la bonne humeur ! \nLe répertoire proposé servira de support aux rencontres “Tous au bal USEP” que vous pourrez organiser localement au cours de l’année avec notre soutien en termes de sonorisation et d’animation (selon nos disponibilités). \nLieu de la formation :\nEcole élémentaire Paul Bert A\, 17 rue du Nivernais\, 94550 Chevilly-Larue.  (plan ici) \nContenu de la formation :\nCette formation à destination des enseignants des écoles élémentaires a pour objectifs de : \n\nFormer les participants à la conduite d’un module de danse collective ; \nDonner des moyens de construire un projet autour du vivre ensemble ;\nSe préparer à organiser une rencontre de danse « Tous au Bal USEP » avec le soutien logistique de l’USEP 94.\n\nMarianne HASSID\, Conseillère Pédagogique Départementale pour l’EPS vous proposera de \n –   une appropriation et une structuration des apprentissages autour d’un répertoire commun de danses collectives ;  \n–   une méthodologie pour créer collectivement une danse à partir d’une musique commune. \n																														 \nHoraires de la formation :\n18h30-20h30 : Formation \nUn temps de pratique vous sera proposé. Il est important de disposer d’une tenue adaptée à la pratique sportive en salle :  \n\nchaussures de sport en salle ou propres ; \nune bouteille d’eau. \n\nConditions d’inscriptions :\nAfin d’être couverts en cas d’accident\, les participants à cette formation devront : \n\nêtre licenciés à l’USEP ;\n\nou \n\ndisposer d’un ordre de mission de leur employeur (inscription via GAIA\, si ce temps a été programmé par la circonscription).\n\nCette formation départementale est co-organisée par la DSDEN\, l’USEP et les conseillers pédagogiques. Il est obligatoire de procéder à une double inscription Site USEP + GAIA afin d’être assuré. A défaut\, nous ne pourrons vous accueillir.  \nToutes les inscriptions passent par le formulaire en ligne (bouton vert en haut de cette page). \nLes titulaires d’une licence USEP bien qu’assurés par l’Usep sont encouragés à s’inscrire aussi via GAIA. \nPour toutes précisions\, contactez : \nEric PIEDFER au 06 60 92 66 85 \nBruno GAILHAC au 06 82 05 63 19
URL:https://usep94.fr/evenement/formation-danses-traditionnelles-cycles-2-et-3-a-chevilly-larue-2/
LOCATION:Ecole élémentaire Paul Bert A\, Chevilly-Larue\, 17 rue du Nivernais\, Chevilly-Larue\, 94550\, France
CATEGORIES:FORMATION,HTS
ATTACH;FMTTYPE=image/png:https://usep94.fr/wp-content/uploads/Bandeau-Formation-Danses-Traditionnelles-1020x450.001.png
ORGANIZER;CN="Comit%C3%A9 D%C3%A9partemental USEP 94":MAILTO:usep94.ligue94@gmail.com
GEO:48.7732276;2.3565505
X-APPLE-STRUCTURED-LOCATION;VALUE=URI;X-ADDRESS=Ecole élémentaire Paul Bert A Chevilly-Larue 17 rue du Nivernais Chevilly-Larue 94550 France;X-APPLE-RADIUS=500;X-TITLE=17 rue du Nivernais:geo:2.3565505,48.7732276
END:VEVENT
END:VCALENDAR