BEGIN:VCALENDAR
VERSION:2.0
PRODID:-//USEP94 - ECPv6.10.1.1//NONSGML v1.0//EN
CALSCALE:GREGORIAN
METHOD:PUBLISH
X-WR-CALNAME:USEP94
X-ORIGINAL-URL:https://usep94.fr
X-WR-CALDESC:Évènements pour USEP94
REFRESH-INTERVAL;VALUE=DURATION:PT1H
X-Robots-Tag:noindex
X-PUBLISHED-TTL:PT1H
BEGIN:VTIMEZONE
TZID:Europe/Paris
BEGIN:DAYLIGHT
TZOFFSETFROM:+0100
TZOFFSETTO:+0200
TZNAME:CEST
DTSTART:20230326T010000
END:DAYLIGHT
BEGIN:STANDARD
TZOFFSETFROM:+0200
TZOFFSETTO:+0100
TZNAME:CET
DTSTART:20231029T010000
END:STANDARD
END:VTIMEZONE
BEGIN:VEVENT
DTSTART;TZID=Europe/Paris:20230104T133000
DTEND;TZID=Europe/Paris:20230104T163000
DTSTAMP:20260419T174958
CREATED:20221110T140317Z
LAST-MODIFIED:20221215T163725Z
UID:10000624-1672839000-1672849800@usep94.fr
SUMMARY:Formation Double-Dutch
DESCRIPTION:Vous souhaitez mettre en œuvre une action auprès de vos élèves\, dans le cadre de 30 minutes d’Activité Physique Quotidienne.\nVenez apprendre à entrer dans les cordes\, à les tourner et à faire des figures simples afin de pouvoir par la suite initier vos élèves à cette discipline qui passionnera petits et grands\, filles comme garçons. \nDans plusieurs associations d’école USEP\, les enfants sont déjà convaincus et les cordes remplacent au fur et à mesure les ballons. Venez nombreux pour cette initiation qui se fera dans le sport et la bonne humeur ! \nLieu de la formation :\nParc Interdépartemental Des Sports de Choisy. L’accueil se fera au Gymnase situé au pied de la Gare du RER D Créteil-Pompadour. (plan ici) \nContenu de la formation :\nCette formation sera encadrée et animée par la Fédération Française de Double-Dutch Jump Rope et par des membres de l’équipe Ebene \, Championne du monde en 2007 et 2011… Nos Parrains sportifs de haut niveau ! \n\nMise en place de situations d’apprentissage progressives et pistes d’adaptation ;\nPrésentation des ressources et outils conçus par la Fédération Française de Double-Dutch Jump Rope.\nPrésentation d’une progression spécifique écoles\, en vue de la rencontre finale Scola-Jump qui se déroulera en fin d’année\, dans le cadre des Jeux du Val-de-Marne (juin).\n\n \nHoraires de la formation :\nA partir de 13h15 : Accueil des participants \n13h30-16h30 : Formation \nDes temps de pratique seront proposés. Il est important de disposer d’une tenue adaptée à la pratique sportive en salle (chaussures de sport en salle ou propre)\, ainsi que d’une bouteille d’eau.  \nConditions d’inscriptions :\nAfin d’être couverts en cas d’accident\, les participants à cette formation devront : \n\nêtre licenciés à l’USEP ;\n\nou \n\ndisposer d’un ordre de mission de leur employeur (inscription via GAIA\, si ce temps a été programmé par la circonscription\, autre si employeur municipal).\n\nToutes les inscriptions passent par le formulaire en ligne (bouton vert ou orange selon votre statut en haut de cette page). \nPour vous accueillir dans les meilleures conditions\, merci de compléter l’ensemble des informations du formulaire. \nSi vous avez des enfants\, vous pouvez les emmener avec vous. Ils resteront sous votre responsabilité ; et seront les utilisateurs -TEST- enfants du groupe. Merci\, toutefois de l’indiquer dans sur le formulaire d’inscription en précisant le nombre et l’âge. \nPour découvrir le Double-Dutch\, en savoir plus et voir des vidéos \nhttp://www.youtube.com/watch?v=bDOBcBKRENw%20 \nhttp://www.youtube.com/watch?v=rZSHKE1ju2Q \nPour toutes précisions\, contactez : \nEric PIEDFER au 06 60 92 66 85 \nBruno GAILHAC au 06 82 05 63 19
URL:https://usep94.fr/evenement/formation-double-dutch-2/
LOCATION:Gymnase du Parc Interdépartemental des Sports de Choisy-le-Roi\, au pied de la Gare du RER D CRETEIL POMPADOUR\, France
CATEGORIES:FORMATION,HTS
ATTACH;FMTTYPE=image/png:https://usep94.fr/wp-content/uploads/Bandeau-Double-Dutch-1020x450.001.png
ORGANIZER;CN="Comit%C3%A9 D%C3%A9partemental USEP 94":MAILTO:usep94.ligue94@gmail.com
GEO:48.771195;2.434458
X-APPLE-STRUCTURED-LOCATION;VALUE=URI;X-ADDRESS=Gymnase du Parc Interdépartemental des Sports de Choisy-le-Roi au pied de la Gare du RER D CRETEIL POMPADOUR France;X-APPLE-RADIUS=500;X-TITLE=au pied de la Gare du RER D CRETEIL POMPADOUR:geo:2.434458,48.771195
END:VEVENT
END:VCALENDAR