BEGIN:VCALENDAR
VERSION:2.0
PRODID:-//USEP94 - ECPv6.10.1.1//NONSGML v1.0//EN
CALSCALE:GREGORIAN
METHOD:PUBLISH
X-WR-CALNAME:USEP94
X-ORIGINAL-URL:https://usep94.fr
X-WR-CALDESC:Évènements pour USEP94
REFRESH-INTERVAL;VALUE=DURATION:PT1H
X-Robots-Tag:noindex
X-PUBLISHED-TTL:PT1H
BEGIN:VTIMEZONE
TZID:Europe/Paris
BEGIN:DAYLIGHT
TZOFFSETFROM:+0100
TZOFFSETTO:+0200
TZNAME:CEST
DTSTART:20260329T010000
END:DAYLIGHT
BEGIN:STANDARD
TZOFFSETFROM:+0200
TZOFFSETTO:+0100
TZNAME:CET
DTSTART:20261025T010000
END:STANDARD
END:VTIMEZONE
BEGIN:VEVENT
DTSTART;TZID=Europe/Paris:20260211T090000
DTEND;TZID=Europe/Paris:20260211T120000
DTSTAMP:20260419T144343
CREATED:20260114T175204Z
LAST-MODIFIED:20260114T175458Z
UID:10001168-1770800400-1770811200@usep94.fr
SUMMARY:Formation Rouler à la Maternelle
DESCRIPTION:Pour vous inscrire\, vous devez vous connecter à votre compte usep 94 \nSi vous ne disposez pas encore d’un compte\, suivez le pas-à-pas disponible ICI \nAttention : INSCRIPTIONS OUVERTES JUSQU’AU 07/02/2026 MINUIT\n\n\n\nLe « Savoir Rouler à Vélo » a pour objectif de garantir à chaque enfant l’acquisition de savoirs sportifs fondamentaux indispensables pour son épanouissement\, sa santé\, son autonomie et sa sécurité.\nCette action à destination des enfants de 6 à 11 ans est un axe majeur du plan vélo et mobilités actives lancé en 2018.  \nToutefois\, l’école maternelle à un rôle important à jouer en amont de ce dispositif à travers la mise en place d’activités de “Rouler à Vélo”. Cette formation a pour but d’interroger les pratiques et le matériel mis à disposition dans les écoles maternelles.\n \nLieu de la formation :\nParc Interdépartemental Des Sports de Choisy. L’accueil se fera au Gymnase situé au pied de la Gare du RER D Créteil-Pompadour. (plan ici) \nContenu de la formation :\n\nPoint sur les conditions de pratique du vélo sur les temps scolaires et périscolaires ;\nMise en place de situations d’apprentissage visant le savoir pédaler ;\nPrésentation d’outils conçus par l’USEP et l’UFOLEP.\n\n \nHoraires de la formation :\nA partir de 9h00 : Accueil des participants \n9h15-12h00 : Alternance de temps de pratique et d’apports théoriques. Il est important de disposer d’une tenue adaptée à la pratique du vélo (en extérieur et/ou en intérieur). N’hésitez pas à venir avec votre casque\, dans la mesure du possible. \nConditions d’inscriptions :\nAfin d’être couverts en cas d’accident\, les participants à cette formation devront : \n\nêtre licenciés à l’USEP ;\n\nou \n\ndisposer d’un ordre de mission de leur employeur (inscription via GAIA\, si ce temps a été programmé par la circonscription).\n\nToutes les inscriptions passent par le formulaire en ligne (bouton vert en haut de cette page). \nPour vous accueillir dans les meilleures conditions\, merci de compléter l’ensemble des informations du formulaire. \nPour toutes précisions\, contactez : \nBruno GAILHAC au 06 82 05 63 19
URL:https://usep94.fr/evenement/formation-rouler-a-la-maternelle-3/
LOCATION:Gymnase du Parc Interdépartemental des Sports de Choisy-le-Roi\, au pied de la Gare du RER D CRETEIL POMPADOUR\, France
CATEGORIES:FORMATION,HTS
ATTACH;FMTTYPE=image/png:https://usep94.fr/wp-content/uploads/Bandeau-Formation-Rouler-a-Maternelle1020x450.001.png
ORGANIZER;CN="Comit%C3%A9 D%C3%A9partemental USEP 94":MAILTO:usep94.ligue94@gmail.com
GEO:48.771195;2.434458
X-APPLE-STRUCTURED-LOCATION;VALUE=URI;X-ADDRESS=Gymnase du Parc Interdépartemental des Sports de Choisy-le-Roi au pied de la Gare du RER D CRETEIL POMPADOUR France;X-APPLE-RADIUS=500;X-TITLE=au pied de la Gare du RER D CRETEIL POMPADOUR:geo:2.434458,48.771195
END:VEVENT
BEGIN:VEVENT
DTSTART;TZID=Europe/Paris:20260211T133000
DTEND;TZID=Europe/Paris:20260211T163000
DTSTAMP:20260419T144343
CREATED:20260114T174157Z
LAST-MODIFIED:20260206T140956Z
UID:10001167-1770816600-1770827400@usep94.fr
SUMMARY:Formation Danse Hip-Hop
DESCRIPTION:ATTENTION : INSCRIPTIONS OUVERTES JUSQU’AU SAMEDI 07/02/2026 MINUIT \n\n\n\nLe breaking issu de la culture Hip-Hop a fait  son entrée aux Jeux Olympiques de Paris 2024.\n\nVenez vous initier à la danse Hip-Hop en compagnie d’Iffra DIA\, chorégraphe et danseur du collectif FAIR-E au CCN de Rennes et de Bretagne. \n Ce « passeur de culture(s) »\, comme il aime à se définir\, porte un regard singulier et humaniste sur la danse orienté vers l’introspection\, l’instant et la transmission. \nPour découvrir l’artiste :\nIffra DIA\, pionnier du hip hop \nPage du Centre Chorégraphique National de Rennes et de Bretagne \nLieu de la formation :\nParc Interdépartemental Des Sports de Choisy. L’accueil se fera au Gymnase situé au pied de la Gare du RER D Créteil-Pompadour. (plan ici) \nContenu de la formation :\n\nAlternance d’apports culturels sur la naissance du hip hop et d’ateliers de pratique simple et ludique afin de ressentir et comprendre la logique du mouvement ;\nPrésentation de l’organisation de la rencontre “Danse Hip Hop” qui se déroulera en juin 2025\, au parc du Tremblay de Champigny-sur-Marne\, dans le cadre des Jeux du Val de Marne.\n\n\n \nHoraires de la formation :\nA partir de 13h20: Accueil des participants \n13h30 – 16h30 : Formation \nDes temps de pratique seront proposés. Il est important de disposer d’une tenue adaptée à la pratique sportive en salle (chaussures de sport en salle ou propre)\, ainsi que d’une bouteille d’eau.  \nConditions d’inscriptions :\nAfin d’être couverts en cas d’accident\, les participants à cette formation devront : \n\nêtre licenciés à l’USEP ;\n\nToutes les inscriptions passent par le formulaire en ligne (bouton vert en haut de cette page). \nPour vous accueillir dans les meilleures conditions\, merci de compléter l’ensemble des informations du formulaire. \nSi vous avez des enfants\, vous pouvez les emmener avec vous. Ils resteront sous votre responsabilité ; et seront les utilisateurs -TEST- enfants du groupe. Merci\, toutefois de l’indiquer sur le formulaire d’inscription en précisant le nombre et l’âge dans la case commentaire. \nPour toutes précisions\, contactez : \nBruno GAILHAC au 06 82 05 63 19
URL:https://usep94.fr/evenement/formation-danse-hip-hop-4/
LOCATION:Gymnase du Parc Interdépartemental des Sports de Choisy-le-Roi\, au pied de la Gare du RER D CRETEIL POMPADOUR\, France
CATEGORIES:FORMATION,HTS
ATTACH;FMTTYPE=image/png:https://usep94.fr/wp-content/uploads/Bandeau-Formation-Danse-HIP-HOP-1020x450.001.png
ORGANIZER;CN="Comit%C3%A9 D%C3%A9partemental USEP 94":MAILTO:usep94.ligue94@gmail.com
GEO:48.771195;2.434458
X-APPLE-STRUCTURED-LOCATION;VALUE=URI;X-ADDRESS=Gymnase du Parc Interdépartemental des Sports de Choisy-le-Roi au pied de la Gare du RER D CRETEIL POMPADOUR France;X-APPLE-RADIUS=500;X-TITLE=au pied de la Gare du RER D CRETEIL POMPADOUR:geo:2.434458,48.771195
END:VEVENT
END:VCALENDAR