BEGIN:VCALENDAR
VERSION:2.0
PRODID:-//USEP94 - ECPv6.10.1.1//NONSGML v1.0//EN
CALSCALE:GREGORIAN
METHOD:PUBLISH
X-WR-CALNAME:USEP94
X-ORIGINAL-URL:https://usep94.fr
X-WR-CALDESC:Évènements pour USEP94
REFRESH-INTERVAL;VALUE=DURATION:PT1H
X-Robots-Tag:noindex
X-PUBLISHED-TTL:PT1H
BEGIN:VTIMEZONE
TZID:Europe/Paris
BEGIN:DAYLIGHT
TZOFFSETFROM:+0100
TZOFFSETTO:+0200
TZNAME:CEST
DTSTART:20220327T010000
END:DAYLIGHT
BEGIN:STANDARD
TZOFFSETFROM:+0200
TZOFFSETTO:+0100
TZNAME:CET
DTSTART:20221030T010000
END:STANDARD
END:VTIMEZONE
BEGIN:VEVENT
DTSTART;TZID=Europe/Paris:20220921T090000
DTEND;TZID=Europe/Paris:20220921T120000
DTSTAMP:20260421T133328
CREATED:20220909T063626Z
LAST-MODIFIED:20240501T135819Z
UID:10000560-1663750800-1663761600@usep94.fr
SUMMARY:Journée Nationale du Sport Scolaire 2022
DESCRIPTION:Cette journée a pour objectifs de faire connaître et promouvoir les activités des associations sportives d’école ou d’établissements et des fédérations sportives scolaires tant auprès des élèves que des parents\, du mouvement sportif et des collectivités\nterritoriales. \nCette 12ème édition se déroulera sur le thème de l’inclusion. \n\n\n\n\n \nAfin de créer une dynamique de liaison école/collège\, l’USEP 94 et l’UNSS 94 ont fait le choix de cibler les établissements scolaires d’un même secteur géographique au Plessis-Trévise. \nPublic concerné : \n\nélèves de CM1 et CM2 de l’association USEP de l’école Marbeau ;\nélèves de 6e du collège Albert Camus.\n\nAvant la rencontre : \n\nInscrire sa classe à l’évènement ;\nSignaler dans le formulaire le nombre d’élèves à besoins particuliers (PAI\, situation de handicap\, …) ;\nInformer les familles sur cette rencontre hors-temps scolaire (horaires\, lieu\, matériel nécessaire : bouteille d’eau dans un sac à dos\, tenue sportive) ;\nTrouver des accompagnateurs (1 par groupe\, soit 1 pour 12 à 15 enfants) ;\nConstituer des groupes de 12 à 15 enfants.\n\nLe jour de la rencontre : \n\nPrévoir\, une trousse de secours pour les “petits bobos”\, les PAI ainsi que les médicaments nécessaires\, les fiches d’urgence des enfants permettant de contacter les responsables légaux ;\n\n8h45-9h00 : Accueil des participants  à l’Espace Omnisport Philippe de Dieuleveut \n9h00-12h00 : Participation à 3 ateliers sportifs (badminton\, handball\, football\, double-dutch\, laser run\, skateboard\, ……) dont 1 de pratique handisport (cécifoot\, course de vitesse avec guide\, torball\, parcours joëlette et/ou en fauteuil\,…). Certains groupes pourront participer à un jeu de plateau autour de l’exposition sur les Jeux Olympiques\, ou rencontrer un sportif de haut niveau.\n \nN’hésitez pas à réaliser avec les enfants (“Petits Reporters”) un reportage photos et/ou vidéo. \nAprès la rencontre : \n\nPoursuivre la réflexion sur l’inclusion à travers un remue-méninges. \nFinaliser le reportage sur la rencontre (productions d’écrits\, productions plastiques…).\n\nPour toutes précisions\, contactez : \nEric PIEDFER au 06 60 92 66 85 \nBruno GAILHAC au 06 82 05 63 19
URL:https://usep94.fr/evenement/journee-nationale-du-sport-scolaire-2022/
LOCATION:Espace Omnisport Philippe de Dieuleveut\, 169 avenue Maurice Berteaux\, LE PLESSIS-TREVISE\, 94420\, France
CATEGORIES:CIII,HTS
ATTACH;FMTTYPE=image/png:https://usep94.fr/wp-content/uploads/JNSS-Bandeau-1020x450.001.png
GEO:48.804319;2.574064
X-APPLE-STRUCTURED-LOCATION;VALUE=URI;X-ADDRESS=Espace Omnisport Philippe de Dieuleveut 169 avenue Maurice Berteaux LE PLESSIS-TREVISE 94420 France;X-APPLE-RADIUS=500;X-TITLE=169 avenue Maurice Berteaux:geo:2.574064,48.804319
END:VEVENT
BEGIN:VEVENT
DTSTART;TZID=Europe/Paris:20220925T100000
DTEND;TZID=Europe/Paris:20220925T153000
DTSTAMP:20260421T133328
CREATED:20220906T115516Z
LAST-MODIFIED:20220923T193416Z
UID:10000559-1664100000-1664119800@usep94.fr
SUMMARY:Les Jeux d'USEP Familles
DESCRIPTION:Cette journée a pour objectifs de faire connaître et promouvoir les activités des associations sportives d’école USEP\, mais aussi d’offrir la possibilité aux usepiennes\, usepiens de pratiquer celles-ci en famille.  \nVenez découvrir l’USEP\, ses activités pour mieux partager ses valeurs !\n \nPublic concerné : \n\ntout licencié enfant\, accompagné de ses parents \, frères et soeurs\ntout enseignant licencié ou non souhaitant découvrir l’USEP\n\n\nProgramme de la journée : \nToutes les activités proposées s’effectueront en famille \n10h00 : Accueil des participants  au Gymnase du Parc Interdépartemental des Sports de Choisy-le-Roi (plan ICI) autour d’un café\, d’un thé\, d’un jus de fruits\n \n10h30-12h00 : Chasse aux indices autour du lac du Parc Interdépartemental des Sports \n12h00-13h00 : Pique-Nique (apporté par les participants). Nous nous chargerons du café.\n \n13h00-14h30 : Ateliers sportifs et collaboratifs (curling\, kinball\, jeux de coopération)\n \n14h30-15h30 : Projection\, exposition des cartes postales envoyées par les  associations USEP puis bilan sous forme de jeu\n \nInscriptions : \nIMPORTANT : Renseigner le formulaire d’inscription \n\n Sélectionner\, dans votre liste\, les enfants participants\n Compléter les informations FAMILLE concernant le NOM Prénom\, lien de parenté (adultes) et/ou NOM Prénom Âge (enfants supplémentaires) qui participeront avec l’inscrit. \n\nNous prendrons une assurance à la journée pour ces participants non licenciés. \nN’oubliez de nous faire parvenir une carte postale de votre association expliquant ce que représente l’USEP pour vous ! \n(support libre à transmettre avant le vendredi 23 septembre minuit) \nMerci pour votre contribution ! \n \nPour toutes précisions\, contactez : \nBruno GAILHAC au 06 82 05 63 19
URL:https://usep94.fr/evenement/les-jeux-d-usep-familles/
LOCATION:Gymnase du Parc Interdépartemental des Sports de Choisy-le-Roi\, au pied de la Gare du RER D CRETEIL POMPADOUR\, France
CATEGORIES:CI,CII,CIII,HTS
ATTACH;FMTTYPE=image/png:https://usep94.fr/wp-content/uploads/Bandeau-USEP-FAMILLES-1020x450.001.png
GEO:48.771195;2.434458
X-APPLE-STRUCTURED-LOCATION;VALUE=URI;X-ADDRESS=Gymnase du Parc Interdépartemental des Sports de Choisy-le-Roi au pied de la Gare du RER D CRETEIL POMPADOUR France;X-APPLE-RADIUS=500;X-TITLE=au pied de la Gare du RER D CRETEIL POMPADOUR:geo:2.434458,48.771195
END:VEVENT
END:VCALENDAR