BEGIN:VCALENDAR
VERSION:2.0
PRODID:-//USEP94 - ECPv6.10.1.1//NONSGML v1.0//EN
CALSCALE:GREGORIAN
METHOD:PUBLISH
X-WR-CALNAME:USEP94
X-ORIGINAL-URL:https://usep94.fr
X-WR-CALDESC:Évènements pour USEP94
REFRESH-INTERVAL;VALUE=DURATION:PT1H
X-Robots-Tag:noindex
X-PUBLISHED-TTL:PT1H
BEGIN:VTIMEZONE
TZID:Europe/Paris
BEGIN:DAYLIGHT
TZOFFSETFROM:+0100
TZOFFSETTO:+0200
TZNAME:CEST
DTSTART:20230326T010000
END:DAYLIGHT
BEGIN:STANDARD
TZOFFSETFROM:+0200
TZOFFSETTO:+0100
TZNAME:CET
DTSTART:20231029T010000
END:STANDARD
END:VTIMEZONE
BEGIN:VEVENT
DTSTART;TZID=Europe/Paris:20230920T090000
DTEND;TZID=Europe/Paris:20230920T120000
DTSTAMP:20260420T164737
CREATED:20230918T061158Z
LAST-MODIFIED:20230918T064906Z
UID:10000733-1695200400-1695211200@usep94.fr
SUMMARY:Journée Nationale du Sport Scolaire 2023
DESCRIPTION:Cette journée a pour objectifs de faire connaître et promouvoir les activités des associations sportives d’école ou d’établissements et des fédérations sportives scolaires tant auprès des élèves que des parents\, du mouvement sportif et des collectivités territoriales. \nCette 13ème édition se déroulera sur le thème de l’olympisme. \n\n\n\n \nAfin de créer une dynamique de liaison école/collège\, l’USEP 94 et l’UNSS 94 ont fait le choix de cibler les établissements scolaires d’un même secteur géographique au parc départemental du Grand Godet à Villeneuve le Roi. \nPublic concerné : \n\nélèves de CM1 et CM2 des associations USEP des écoles Irène Joliot-Curie et Paul Eluard d’Orly ;\nélèves de 6e des collèges d’Orly et de Villeneuve-le-Roi.\n\nAvant la rencontre : \n\nInscrire sa classe à l’évènement ;\nInformer les familles sur cette rencontre hors-temps scolaire (horaires\, lieu\, matériel nécessaire : bouteille d’eau dans un sac à dos\, tenue sportive) ;\nTrouver des accompagnateurs (1 par groupe\, soit 1 pour 12 enfants) ;\nConstituer des groupes de 12 enfants.\n\nLe jour de la rencontre : \n\nPrévoir\, une trousse de secours pour les “petits bobos”\, les PAI ainsi que les médicaments nécessaires\, les fiches d’urgence des enfants permettant de contacter les responsables légaux ;\n\n8h45-9h00 : Accueil des participants  au Parc Départemental du Grand Godet de Villeneuve le Roi (plan Google Maps ICI)\n \n9h00-12h00 : Cérémonie protocolaire d’ouverture de la JNSS puis échauffement Break Dance avant de participer à 4 ateliers sportifs (badminton\, handball\, football\, double-dutch\, laser run\, skateboard\, break dance……) dont 1 de pratique handisport (cécifoot\, course de vitesse avec guide\, torball\, parcours joëlette et/ou en fauteuil\,…). Certains groupes pourront participer à un jeu de plateau autour de l’exposition sur les Jeux Olympiques\, ou rencontrer un sportif de haut niveau.\n \nN’hésitez pas à réaliser avec les enfants (“Petits Reporters”) un reportage photos et/ou vidéo. \nAprès la rencontre : \n\nPoursuivre la réflexion sur l’inclusion à travers un remue-méninges. \nFinaliser le reportage sur la rencontre (productions d’écrits\, productions plastiques…).\n\nPour toutes précisions\, contactez : \nEric PIEDFER au 06 60 92 66 85 \nBruno GAILHAC au 06 82 05 63 19
URL:https://usep94.fr/evenement/journee-nationale-du-sport-scolaire-2023/
LOCATION:Parc des Sports du Grand Godet (Orly/Villeneuve-le-Roi)\, Chemin du Grand Godet\, Villeneuve-le-Roi\, 94290\, France
CATEGORIES:CIII,HTS
ATTACH;FMTTYPE=image/jpeg:https://usep94.fr/wp-content/uploads/2023_JNSS_PostsRS_1920x1080.jpg
GEO:48.741041219588;2.4099970153432
X-APPLE-STRUCTURED-LOCATION;VALUE=URI;X-ADDRESS=Parc des Sports du Grand Godet (Orly/Villeneuve-le-Roi) Chemin du Grand Godet Villeneuve-le-Roi 94290 France;X-APPLE-RADIUS=500;X-TITLE=Chemin du Grand Godet:geo:2.4099970153432,48.741041219588
END:VEVENT
BEGIN:VEVENT
DTSTART;TZID=Europe/Paris:20230924T100000
DTEND;TZID=Europe/Paris:20230924T160000
DTSTAMP:20260420T164737
CREATED:20230905T141515Z
LAST-MODIFIED:20230924T085406Z
UID:10000718-1695549600-1695571200@usep94.fr
SUMMARY:Les Jeux d'U7EP Familles
DESCRIPTION:En raison de très nombreuses inscriptions tardives\, nous ne sommes pas en mesure de maintenir cette manifestation le dimanche 24 septembre. Celle-ci sera reportée au dimanche 3 décembre afin de garantir les meilleures conditions d’accueil pour toutes et tous. Merci pour votre compréhension. \nCette journée a pour objectif de permettre à chaque enfant licencié(e) à l’association USEP de son école de faire connaître et promouvoir les activités USEP à sa famille.  \nVenez découvrir l’USEP\, ses activités pour mieux partager ses valeurs ! \nPublic concerné : \n\ntout licencié enfant dans une association d’école qui doit inviter ses parents \, frères et soeurs\ntout enseignant licencié ou non souhaitant découvrir l’USEP\n\n\nOBLIGATIONS POUR PARTICIPER A CET EVENEMENT :\n\n\nAssociation USEP (ré)affiliée ;\n\n\nInscriptions réalisées depuis le compte de chaque enseignant(e) ;\n\n\nChaque enfant licencié(e) présent(e) doit être accompagné(e) impérativement d’un parent adulte (à minima)\, tout au long de la journée ;\n\n\nPrésence indispensable d’un(e) représentant(e) de l’association\, le jour de cette rencontre.\n\n\n\nProgramme de la journée : \nToutes les activités proposées s’effectueront en famille \n10h00 : Accueil des participants  au Gymnase du Parc Interdépartemental des Sports de Choisy-le-Roi (plan ICI) autour d’un café\, d’un thé\, d’un jus de fruits \n10h30-12h00 : Chasse aux indices autour du lac du Parc Interdépartemental des Sports \n12h00-13h00 : Pique-Nique (apporté par les participants). Nous nous chargerons du café. \n13h00-14h30 : Ateliers sportifs et collaboratifs (curling\, kinball\, jeux de coopération) \n14h30-15h30 : Projection\, exposition des cartes postales* envoyées par les  associations USEP puis bilan sous forme de jeu \n*exemple de support vierge de Carte Postale (format Word) : Cliquer ICI \nInscriptions : \nIMPORTANT : Renseigner le formulaire d’inscription \n\n Sélectionner\, dans votre liste\, les enfants participants\n Compléter les informations FAMILLE concernant le NOM Prénom\, lien de parenté (adultes) et/ou NOM Prénom Âge (enfants supplémentaires) qui participeront avec l’inscrit. \n\nNous prendrons une assurance à la journée pour ces participants non licenciés. Pour vous aider à communiquer avec les familles\, vous pouvez télécharger ICI un document à imprimer en 2 pages sur 1.  \nN’oubliez de nous faire parvenir une carte postale de votre association expliquant ce que représente l’USEP pour vous ! \n(support libre à transmettre avant le vendredi 22 septembre minuit à bgailhac.usep94.ligue94@gmail.com ) \nMerci pour votre contribution ! \n																														 \nPour toutes précisions\, contactez : \nBruno GAILHAC au 06 82 05 63 19
URL:https://usep94.fr/evenement/les-jeux-du7ep-familles/
LOCATION:Gymnase du Parc Interdépartemental des Sports de Choisy-le-Roi\, au pied de la Gare du RER D CRETEIL POMPADOUR\, France
CATEGORIES:CI,CII,CIII,HTS
ATTACH;FMTTYPE=image/png:https://usep94.fr/wp-content/uploads/‎Bandeau-Jeux-U7EP-familles-1020x450.‎001.png
GEO:48.771195;2.434458
X-APPLE-STRUCTURED-LOCATION;VALUE=URI;X-ADDRESS=Gymnase du Parc Interdépartemental des Sports de Choisy-le-Roi au pied de la Gare du RER D CRETEIL POMPADOUR France;X-APPLE-RADIUS=500;X-TITLE=au pied de la Gare du RER D CRETEIL POMPADOUR:geo:2.434458,48.771195
END:VEVENT
BEGIN:VEVENT
DTSTART;TZID=Europe/Paris:20230927T090000
DTEND;TZID=Europe/Paris:20230927T120000
DTSTAMP:20260420T164737
CREATED:20230907T055642Z
LAST-MODIFIED:20230914T174722Z
UID:10000723-1695805200-1695816000@usep94.fr
SUMMARY:Formation Handisports et Parasports
DESCRIPTION:Vous souhaitez découvrir des activités adaptées issues des parasports et handisports.\nVenez découvrir et vous former à l’utilisation de la joëlette\, à la pratique de la boccia\, du tir laser (pistolets laser-run)\, du curling\, du torball …\n\nLe prêt de ce matériel USEP/UFOLEP ne sera  possible que pour les enseignants ayant suivi cette formation. \nLieu de la formation :\nParc Interdépartemental Des Sports de Choisy. L’accueil se fera au Gymnase situé au pied de la Gare du RER D Créteil-Pompadour. (plan ici) \nContenu de la formation :\nCette formation s’appuiera sur une  démarche pédagogique simple : \n\nDécouverte et utilisation du matériel ;\nMise en place de situations d’apprentissage progressives et pistes d’adaptation ;\nPrésentation des ressources et outils pour la mise en place d’un module en vue d’une rencontre sportive.\n\nHoraires de la formation :\n9h00-9h15 : Accueil des participants \n9h15-12h00 : Formation \nDes temps de pratique seront proposés. Il est important de disposer d’une tenue adaptée à la pratique sportive en salle :  \n\nchaussures de sport en salle ou propres ; \npantalon et veste de survêtement à manches longues\, (près du corps si possible) ;\nune bouteille d’eau. \n\nConditions d’inscriptions :\nAfin d’être couverts en cas d’accident\, les participants à cette formation devront : \n\nêtre licenciés à l’USEP ;\n\nou \n\ndisposer d’un ordre de mission de leur employeur (inscription via GAIA\, si ce temps a été programmé par la circonscription\, autre si employeur municipal).\n\nToutes les inscriptions passent par le formulaire en ligne (bouton vert ou orange selon votre statut en haut de cette page). \nPour vous accueillir dans les meilleures conditions\, merci de compléter l’ensemble des informations du formulaire. \nSi vous avez des enfants\, vous pouvez les emmener avec vous. Ils resteront sous votre responsabilité ; et seront les utilisateurs -TEST- enfants du groupe. Merci\, toutefois de l’indiquer dans sur le formulaire d’inscription en précisant le nombre et l’âge. \nPour toutes précisions\, contactez : \nEric PIEDFER au 06 60 92 66 85 \nBruno GAILHAC au 06 82 05 63 19
URL:https://usep94.fr/evenement/formation-handisports-et-parasports/
LOCATION:Gymnase du Parc Interdépartemental des Sports de Choisy-le-Roi\, au pied de la Gare du RER D CRETEIL POMPADOUR\, France
CATEGORIES:FORMATION,HTS
ATTACH;FMTTYPE=image/png:https://usep94.fr/wp-content/uploads/‎Bandeau-Formation-Handi-Parasports-1020x450.‎001.png
ORGANIZER;CN="Comit%C3%A9 D%C3%A9partemental USEP 94":MAILTO:usep94.ligue94@gmail.com
GEO:48.771195;2.434458
X-APPLE-STRUCTURED-LOCATION;VALUE=URI;X-ADDRESS=Gymnase du Parc Interdépartemental des Sports de Choisy-le-Roi au pied de la Gare du RER D CRETEIL POMPADOUR France;X-APPLE-RADIUS=500;X-TITLE=au pied de la Gare du RER D CRETEIL POMPADOUR:geo:2.434458,48.771195
END:VEVENT
BEGIN:VEVENT
DTSTART;TZID=Europe/Paris:20230927T133000
DTEND;TZID=Europe/Paris:20230927T163000
DTSTAMP:20260420T164737
CREATED:20230906T090245Z
LAST-MODIFIED:20230924T151439Z
UID:10000719-1695821400-1695832200@usep94.fr
SUMMARY:Formation Double-Dutch
DESCRIPTION:Vous souhaitez mettre en œuvre une action auprès de vos élèves\, dans le cadre de 30 minutes d’Activité Physique Quotidienne.\nVenez apprendre à entrer dans les cordes\, à les tourner et à faire des figures simples afin de pouvoir par la suite initier vos élèves à cette discipline qui passionnera petits et grands\, filles comme garçons. \nDans plusieurs associations d’école USEP\, les enfants sont déjà convaincus et les cordes remplacent au fur et à mesure les ballons. Venez nombreux pour cette initiation qui se fera dans le sport et la bonne humeur ! \nLieu de la formation :\nParc Interdépartemental Des Sports de Choisy. L’accueil se fera au Gymnase situé au pied de la Gare du RER D Créteil-Pompadour. (plan ici) \nContenu de la formation :\nCette formation sera encadrée et animée par la Fédération Française de Double-Dutch Jump Rope et par des membres de l’équipe Ebene \, Championne du monde en 2007 et 2011… Nos Parrains sportifs de haut niveau ! \n\nMise en place de situations d’apprentissage progressives et pistes d’adaptation ;\nPrésentation des ressources et outils conçus par la Fédération Française de Double-Dutch Jump Rope.\nPrésentation d’une progression spécifique écoles\, en vue de la rencontre finale Scola-Jump qui se déroulera en fin d’année\, dans le cadre des Jeux du Val-de-Marne (juin).\n\n \nHoraires de la formation :\nA partir de 13h15 : Accueil des participants \n13h30-16h30 : Formation \nDes temps de pratique seront proposés. Il est important de disposer d’une tenue adaptée à la pratique sportive en salle (chaussures de sport en salle ou propre)\, ainsi que d’une bouteille d’eau.  \nConditions d’inscriptions :\nAfin d’être couverts en cas d’accident\, les participants à cette formation devront : \n\nêtre licenciés à l’USEP ;\n\nou \n\ndisposer d’un ordre de mission de leur employeur (inscription via GAIA\, si ce temps a été programmé par la circonscription\, autre si employeur municipal).\n\nToutes les inscriptions passent par le formulaire en ligne (bouton vert ou orange selon votre statut en haut de cette page). \nPour vous accueillir dans les meilleures conditions\, merci de compléter l’ensemble des informations du formulaire. \nSi vous avez des enfants\, vous pouvez les emmener avec vous. Ils resteront sous votre responsabilité ; et seront les utilisateurs -TEST- enfants du groupe. Merci\, toutefois de l’indiquer dans sur le formulaire d’inscription en précisant le nombre et l’âge. \nPour découvrir le Double-Dutch\, en savoir plus et voir des vidéos \nhttp://www.youtube.com/watch?v=bDOBcBKRENw%20 \nhttp://www.youtube.com/watch?v=rZSHKE1ju2Q \nPour toutes précisions\, contactez : \nEric PIEDFER au 06 60 92 66 85 \nBruno GAILHAC au 06 82 05 63 19
URL:https://usep94.fr/evenement/formation-double-dutch-3/
LOCATION:Gymnase du Parc Interdépartemental des Sports de Choisy-le-Roi\, au pied de la Gare du RER D CRETEIL POMPADOUR\, France
CATEGORIES:FORMATION,HTS
ATTACH;FMTTYPE=image/png:https://usep94.fr/wp-content/uploads/Bandeau-Double-Dutch-1020x450.001.png
ORGANIZER;CN="Comit%C3%A9 D%C3%A9partemental USEP 94":MAILTO:usep94.ligue94@gmail.com
GEO:48.771195;2.434458
X-APPLE-STRUCTURED-LOCATION;VALUE=URI;X-ADDRESS=Gymnase du Parc Interdépartemental des Sports de Choisy-le-Roi au pied de la Gare du RER D CRETEIL POMPADOUR France;X-APPLE-RADIUS=500;X-TITLE=au pied de la Gare du RER D CRETEIL POMPADOUR:geo:2.434458,48.771195
END:VEVENT
END:VCALENDAR