BEGIN:VCALENDAR
VERSION:2.0
PRODID:-//USEP94 - ECPv6.10.1.1//NONSGML v1.0//EN
CALSCALE:GREGORIAN
METHOD:PUBLISH
X-ORIGINAL-URL:https://usep94.fr
X-WR-CALDESC:Évènements pour USEP94
REFRESH-INTERVAL;VALUE=DURATION:PT1H
X-Robots-Tag:noindex
X-PUBLISHED-TTL:PT1H
BEGIN:VTIMEZONE
TZID:Europe/Paris
BEGIN:DAYLIGHT
TZOFFSETFROM:+0100
TZOFFSETTO:+0200
TZNAME:CEST
DTSTART:20240331T010000
END:DAYLIGHT
BEGIN:STANDARD
TZOFFSETFROM:+0200
TZOFFSETTO:+0100
TZNAME:CET
DTSTART:20241027T010000
END:STANDARD
END:VTIMEZONE
BEGIN:VEVENT
DTSTART;VALUE=DATE:20240402
DTEND;VALUE=DATE:20240403
DTSTAMP:20260420T040243
CREATED:20240301T071959Z
LAST-MODIFIED:20240301T072931Z
UID:10000787-1712016000-1712102399@usep94.fr
SUMMARY:SOP 2024 : En route vers les Jeux à Champigny-sur-Marne
DESCRIPTION:En perspective des JOP de Paris 2024. L’USEP 94 propose aux classes de CE2\, CM1 et ou CM2 des écoles labellisées Génération 2024 de participer à des ateliers issus de disciplines Olympiques ou Paralympiques.\n \nLe thème de cette Semaine Olympique et Paralympique 2023 sera l’inclusion. Une valeur que nous défendons à vos côtés \nAvant la rencontre : \n\nMettre à jour  ou créer sa fiche enseignant depuis la page d’accueil du site usep94.fr\, en renseignant les informations sur le profil des élèves à besoins spécifiques pour lesquels des aménagements ou adaptations seraient nécessaires.\nSe concerter avec le-la les collègue-s pour l’organisation éventuelle des transports ;\nInscrire sa classe à l’évènement\, en précisant le mode transport ;\n\nL’USEP 94 s’attache à l’inclusion de tous les élèves… il vous appartient de nous solliciter\, pour envisager les adaptations qui seraient nécessaires ! \n \n\nInformer les familles sur l’événement (disposer  d’une bouteille d’eau\, d’un sac à dos\, d’une tenue sportive adaptée) ;\nPrévoir un ou deux accompanateur-trice-s par classe ;\nConstituer deux équipes mixtes au sein de chaque classe ;\nSensibiliser les élèves aux valeurs de l’Olympisme et du Paralympisme ;\nPréparer un drapeau ou un totem ou une flamme par équipe.\n\n \nLe jour de la rencontre :\nRendez-vous au Stade Léon Duprat de Champigny-sur-Marne  (en respectant les créneaux qui vous seront transmis) \n\nPrévoir\, une trousse de secours pour les “petits bobos”\, les PAI ainsi que les médicaments nécessaires\, les fiches d’urgence des enfants permettant de contacter les responsables légaux (exemple transmis en début d’année) ;\nPasser à l’accueil pour signaler votre arrivée. Afin de garantir la sécurité de tous\, les organisateurs porteront des chasubles rouges\, les enseignants des chasubles vertes et les accompagnateurs des chasubles jaunes (matériel remis à l’accueil\, dans le cadre du protocole Vigipirate) .\nSi vous le souhaitez\, réalisez un reportage avec les enfants (“Petits Reporters”).\n\n \nDéroulement de la rencontre :\n2 classes accueillies par créneau (horaire indicatif : 9h00-10h30\, 10h35-12h05\, 13h30-15h00\, 15h05-16h35). \n\n3 ateliers de 25 minutes accueillant chacun une demi-classe ;\nAtelier 1 : Biathlon tir laser (parcours de course navettes + tir avec carabine ou pistolet laser sur cible type biathlon) ;\nAtelier 2 :  Tir à l’arc SoftArchery (il est préférable que les élèves aient suivi un cycle  SoftArchery\, en amont) ;\nAtelier 3 : Parcours de manipulation d’une joëlette.\n\nConclusion de la rencontre avec 10 min de débat associatif  sur l’inclusion \nAprès la rencontre :\n\nMettre en place un remue-méninges autour de l’olympisme ou de l’inclusion ;\nFinaliser le reportage sur la rencontre (productions d’écrits\, productions plastiques…).\n\n \nProtocole sanitaire :\nDes adaptations pourront être mises en place en fonction de l’évolution du contexte sanitaire. \nPour toutes précisions\, contactez : \nEric PIEDFER au 06 60 92 66 85 \nBruno GAILHAC au 06 82 05 63 19
URL:https://usep94.fr/evenement/sop-2024-en-route-vers-les-jeux-a-champigny-sur-marne/
LOCATION:Stade Léon Duprat – Champigy-sur-Marne\, avenue Eugénie\, Champigny-sur-Marne\, 94500\, France
CATEGORIES:CIII,HTS,TS
ATTACH;FMTTYPE=image/png:https://usep94.fr/wp-content/uploads/Bandeau-SOP-1020x450.001.png
ORGANIZER;CN="Comit%C3%A9 D%C3%A9partemental USEP 94":MAILTO:usep94.ligue94@gmail.com
GEO:48.8153804;2.5559882
X-APPLE-STRUCTURED-LOCATION;VALUE=URI;X-ADDRESS=Stade Léon Duprat – Champigy-sur-Marne avenue Eugénie Champigny-sur-Marne 94500 France;X-APPLE-RADIUS=500;X-TITLE=avenue Eugénie:geo:2.5559882,48.8153804
END:VEVENT
BEGIN:VEVENT
DTSTART;VALUE=DATE:20240404
DTEND;VALUE=DATE:20240405
DTSTAMP:20260420T040243
CREATED:20240301T073309Z
LAST-MODIFIED:20240301T074659Z
UID:10000788-1712188800-1712275199@usep94.fr
SUMMARY:SOP 2024 : En route vers les Jeux à Mandres-les-Roses
DESCRIPTION:En perspective des JOP de Paris 2024. L’USEP 94 propose aux classes de CE2\, CM1 et ou CM2 des écoles labellisées Génération 2024 de participer à des ateliers issus de disciplines Olympiques ou Paralympiques.\n \nLe thème de cette Semaine Olympique et Paralympique 2023 sera l’inclusion. Une valeur que nous défendons à vos côtés \nAvant la rencontre : \n\nMettre à jour  ou créer sa fiche enseignant depuis la page d’accueil du site usep94.fr\, en renseignant les informations complémentaires sur le profil des participants à besoins spécifiques pour lesquels des aménagements ou adaptations seraient nécessaires.\nSe concerter avec le-la les collègue-s pour l’organisation éventuelle des transports ;\nInscrire sa classe à l’évènement\, en précisant le mode transport.\n\nL’USEP 94 s’attache à l’inclusion de tous les élèves… il vous appartient de nous solliciter\, pour envisager les adaptations qui seraient nécessaires ! \n \n\nInformer les familles sur l’événement (disposer  d’une bouteille d’eau\, d’un sac à dos\, d’une tenue sportive adaptée) ;\nPrévoir un ou deux accompanateur-trice-s par classe ;\nConstituer quatre équipes mixtes au sein de chaque classe ;\nSensibiliser les élèves aux valeurs de l’Olympisme et du Paralympisme ;\nPréparer un drapeau ou un totem ou une flamme par équipe.\n\n \nLe jour de la rencontre :\nRendez-vous au Gymnase Georges VIBERT\, 1 rue de Rochopt à Mandres-les-Roses (lien Google Maps ICI)  (en respectant les créneaux qui vous seront transmis) \n\nPrévoir\, une trousse de secours pour les “petits bobos”\, les PAI ainsi que les médicaments nécessaires\, les fiches d’urgence des enfants permettant de contacter les responsables légaux (exemple transmis en début d’année) ;\nPasser à l’accueil pour signaler votre arrivée. Afin de garantir la sécurité de tous\, les organisateurs porteront des chasubles rouges\, les enseignants des chasubles vertes et les accompagnateurs des chasubles jaunes (matériel remis à l’accueil\, dans le cadre du protocole Vigipirate) .\nSi vous le souhaitez\, réalisez un reportage avec les enfants (“Petits Reporters”).\n\n \nDéroulement de la rencontre :\n2 classes accueillies par créneau (horaire indicatif : 9h00-10h30\, 10h35-12h05\, 13h30-15h00\, 15h05-16h35). \n\n4 ateliers de 20 minutes accueillant chacun 2 équipes (1 de chaque classe) ;\nAtelier 1 : Biathlon tir laser (parcours de course navettes + tir avec carabine ou pistolet laser sur cible type biathlon) ;\nAtelier 2 : Curling   (palets sur roulements à billes avec cible au sol) ;\nAtelier 3 : Tir à l’arc SoftArchery (il est préférable que les élèves aient suivi un cycle  SoftArchery\, en amont) ;\n\nAtelier 4 : Parcours de manipulation d’une joëlette\nConclusion de la rencontre avec 10 min de débat associatif  sur l’inclusion\n\nAprès la rencontre :\n\nMettre en place un remue-méninges autour de l’olympisme ou de l’inclusion ;\nFinaliser le reportage sur la rencontre (productions d’écrits\, productions plastiques…).\n\n \nProtocole sanitaire :\nDes adaptations pourront être mises en place en fonction de l’évolution du contexte sanitaire. \nPour toutes précisions\, contactez : \nEric PIEDFER au 06 60 92 66 85 \nBruno GAILHAC au 06 82 05 63 19
URL:https://usep94.fr/evenement/sop-2024-en-route-vers-les-jeux-a-mandres-les-roses/
LOCATION:Gymnase Georges Vibert – Mandres les Roses\, 1 rue de Rochopt\, Mandres-les-Roses\, 94520\, France
CATEGORIES:CIII,HTS,TS
ATTACH;FMTTYPE=image/png:https://usep94.fr/wp-content/uploads/Bandeau-SOP-1020x450.001.png
ORGANIZER;CN="Comit%C3%A9 D%C3%A9partemental USEP 94":MAILTO:usep94.ligue94@gmail.com
GEO:48.7000899;2.5396551
X-APPLE-STRUCTURED-LOCATION;VALUE=URI;X-ADDRESS=Gymnase Georges Vibert – Mandres les Roses 1 rue de Rochopt Mandres-les-Roses 94520 France;X-APPLE-RADIUS=500;X-TITLE=1 rue de Rochopt:geo:2.5396551,48.7000899
END:VEVENT
BEGIN:VEVENT
DTSTART;VALUE=DATE:20240404
DTEND;VALUE=DATE:20240405
DTSTAMP:20260420T040243
CREATED:20240327T132826Z
LAST-MODIFIED:20240404T045444Z
UID:10000804-1712188800-1712275199@usep94.fr
SUMMARY:Défi 1 2 3 Courez\, en route vers Paris 2024\, Challenge Jacques DUCASSE / ELA (AS ACADEMIE)
DESCRIPTION:L’USEP vous propose un défi collectif dans le cadre du label Génération 2024 et en perspective des JO de Paris 2024. Ce défi s’inscrit aussi dans le dispositif 30 min d’Activité Physique Quotidienne. \nAlors rejoignez-nous pour : \n\nparticiper à un effort collectif en endurance relais avec d’autres classes ;\ndonner le meilleur de soi en parcourant le plus grand nombre de tours\, chacun à son rythme ;\nfaire preuve de solidarité\, en faisant un don à l’association ELA (si vous le souhaitez). Pour montrer l’exemple\, l’USEP 94 versera 200 € tous les 10 000 km parcourus par des licenciés usépiens ;\nlutter contre la sédentarité en pratiquant la course de longue durée.\n\nPour découvrir cet évènement pouvant accueillir jusqu’à 30 classes par demi-journée :\n\nregardez le film de présentation disponible sur la chaîne Viméo de l’Usep (cliquer ici).\n\nAvant la rencontre : \n\nMettre à jour  ou créer sa fiche enseignant depuis la page d’accueil du site usep94.fr. Afin de respecter le protocole VIGIPIRATE\, la liste des élèves participant à l’événement ainsi que les coordonnées téléphoniques de chaque enseignant doivent être renseignées sur le compte enseignant-e.\nInscrire sa classe à l’évènement\, en précisant le mode transport ;\n\nL’USEP 94 s’attache à l’inclusion de tous les élèves. Pour les élèves à mobilité réduite\, nous disposons d’une joëlette et pouvons former les élèves de la classe à sa manipulation et mobiliser une équipe spécifique de bénévoles… il vous appartient de nous solliciter ! \n \n\nInformer les familles sur l’événement (disposer  d’une bouteille d’eau\, d’un sac à dos\, d’une tenue sportive adaptée\, proposer aux familles qui le souhaitent d’effectuer un don) ;\nRegarder le tutoriel sur le montage des kits 1 2 3 Courez  (en lien ICI) . Vous verrez ainsi la rapidité de mise en place du dispositif.\nPréparer les élèves à courir longtemps\, de manière progressive\, chacun à son rythme ;\nPrésenter l’association ELA aux élèves ; \nApprendre la chanson d’ELA  (disponible ICI) dont les paroles (ICI) sont tout à fait adaptées à l’ensemble des classes. \n\nLe jour de la rencontre :\n\nInstaller le parcours en suivant les consignes mises à disposition dans le tutoriel.\nAvant le départ de chaque course\, les classes seront invitées à chanter la chanson d’ELA (voir au-dessus) ;\nVeiller au respect des consignes concernant le passage des compteurs et organiser les relais pour qu’il y ait toujours des enfants sur le parcours\, pendant la durée de l’épreuve ;\nSi vous le souhaitez\, réalisez un reportage avec les enfants (“Petits Reporters”).\n\nMettre à disposition une tirelire pour les classes\, les enseignants et accompagnateurs qui souhaiteraient effectuer un don que nous transmettrons à l’association ELA.  \n \nDéroulement de l’épreuve d’endurance relais :\nCeci est une proposition de base\, elle pourra être adaptée par vos soins selon les spécificités locales \n\n2 à 3 créneaux de 45 minutes par demi-journée ;\nMise à disposition des classes d’un circuit de 250 m à 400 m\, pendant 45 minutes ; \nLa distance parcourue par chaque enfant vient s’ajouter à celles des autres\, à l’aide d’un portillon actionné par les coureurs à chaque tour.\nLe cumul de distance est collectif. Le nombre de tours affiché sur les compteurs est additionnée en fin de course puis traduit en kilomètres. La distance finale est donc le fruit de l’ensemble des classes ayant couru sur le créneau horaire.\nLes enseignants gèrent la participation de chacun de leurs élèves pendant les 45 minutes\, l’essentiel étant que le circuit soit toujours occupé par des coureurs de la classe.\nAprès chaque créneau\, relever les compteurs. Calculer la distance parcourue et la transmettre par SMS à Eric PIEDFER-QUÊNEY et/ou renseigner l’application Défi 123 (un lien vous sera transmis quelques jours avant la rencontre).\n\n\nAprès la rencontre :\n\nConsulter l’application Défi afin de suivre l’évolution du cumul de kilomètres parcourus ;\nMettre en place un remue-méninges autour du thème sport et santé à partir de la question ” Pourquoi est-ce bon de faire du sport pour notre santé ?” ;\nFinaliser le reportage sur la rencontre (productions d’écrits\, productions plastiques…).\n\nNous vous transmettrons\, par la suite\, un diplôme de participation et vous tiendrons informés du cumul de distances parcourues ainsi que des dons récoltés pour ELA. \n \nProtocole sanitaire :\nDes adaptations pourront être mises en place en fonction de l’évolution du contexte sanitaire. \nPour toutes précisions\, contactez : \nEric PIEDFER au 06 60 92 66 85 \nBruno GAILHAC au 06 82 05 63 19
URL:https://usep94.fr/evenement/defi-1-2-3-courez-en-route-vers-paris-2024-challenge-jacques-ducasse-ela-as-academie-2/
LOCATION:Stade Nelson MANDELA (Villeneuve-Saint-Georges)\, Allée Jean Papadopoulos\, VILLENEUVE-SAINT-GEORGES\, 94190\, France
CATEGORIES:CI,CII,CIII,HTS,TS
ATTACH;FMTTYPE=image/png:https://usep94.fr/wp-content/uploads/Bandeau-123-CV-1020x450.001.png
ORGANIZER;CN="Comit%C3%A9 D%C3%A9partemental USEP 94":MAILTO:usep94.ligue94@gmail.com
GEO:48.732220419119;2.4638235853976
X-APPLE-STRUCTURED-LOCATION;VALUE=URI;X-ADDRESS=Stade Nelson MANDELA (Villeneuve-Saint-Georges) Allée Jean Papadopoulos VILLENEUVE-SAINT-GEORGES 94190 France;X-APPLE-RADIUS=500;X-TITLE=Allée Jean Papadopoulos:geo:2.4638235853976,48.732220419119
END:VEVENT
BEGIN:VEVENT
DTSTART;VALUE=DATE:20240405
DTEND;VALUE=DATE:20240406
DTSTAMP:20260420T040243
CREATED:20240301T074921Z
LAST-MODIFIED:20240301T083336Z
UID:10000789-1712275200-1712361599@usep94.fr
SUMMARY:SOP 2024 : En route vers les Jeux à Thiais
DESCRIPTION:En perspective des JOP de Paris 2024. L’USEP 94 propose aux classes de CE2\, CM1 et ou CM2 des écoles labellisées Génération 2024 de participer à des ateliers issus de disciplines Olympiques ou Paralympiques.\n \nLe thème de cette Semaine Olympique et Paralympique 2023 sera l’inclusion. Une valeur que nous défendons à vos côtés \nAvant la rencontre : \n\nMettre à jour  ou créer sa fiche enseignant depuis la page d’accueil du site usep94.fr\, en renseignant les informations complémentaires concernant le profil des participants à besoins spécifiques pour lesquels des aménagements ou adaptations seraient nécessaires.\nSe concerter avec le-la les collègue-s pour l’organisation éventuelle des transports ;\nInscrire sa classe à l’évènement\, en précisant le mode transport.\n\nL’USEP 94 s’attache à l’inclusion de tous les élèves… il vous appartient de nous solliciter\, pour envisager les adaptations qui seraient nécessaires ! \n \n\nInformer les familles sur l’événement (disposer  d’une bouteille d’eau\, d’un sac à dos\, d’une tenue sportive adaptée) ;\nPrévoir un ou deux accompanateur-trice-s par classe ;\nConstituer quatre équipes mixtes au sein de chaque classe ;\nSensibiliser les élèves aux valeurs de l’Olympisme et du Paralympisme ;\nPréparer un drapeau ou un totem ou une flamme par équipe.\n\n \nLe jour de la rencontre :\nRendez-vous au Gymnase Romain Gary\, 2 rue Romain Gary à Thiais (en respectant les créneaux qui vous seront transmis) \n\nPrévoir\, une trousse de secours pour les “petits bobos”\, les PAI ainsi que les médicaments nécessaires\, les fiches d’urgence des enfants permettant de contacter les responsables légaux (exemple transmis en début d’année) ;\nPasser à l’accueil pour signaler votre arrivée. Afin de garantir la sécurité de tous\, les organisateurs porteront des chasubles rouges\, les enseignants des chasubles vertes et les accompagnateurs des chasubles jaunes (matériel remis à l’accueil\, dans le cadre du protocole Vigipirate) .\nSi vous le souhaitez\, réalisez un reportage avec les enfants (“Petits Reporters”).\n\n \nDéroulement de la rencontre :\n2 classes accueillies par créneau (horaire indicatif : 9h00-10h30\, 10h35-12h05\, 13h30-15h00\, 15h05-16h35). \n\n4 ateliers de 20 minutes accueillant chacun 2 équipes (1 de chaque classe) ;\nAtelier 1 : Biathlon tir laser (parcours de course navettes + tir avec carabine ou pistolet laser sur cible type biathlon) ;\nAtelier 2 : Curling   (palets sur roulements à billes avec cible au sol) ;\nAtelier 3 : Tir à l’arc SoftArchery ou escrime (il est indispensable que les élèves aient suivi un cycle  SoftArchery\, ou d’escrime en amont) ;\n\nAtelier 4 : Parcours de manipulation d’une joëlette\nConclusion de la rencontre avec 10 min de débat associatif  sur l’inclusion\n\nAprès la rencontre :\n\nMettre en place un remue-méninges autour de l’olympisme ou de l’inclusion ;\nFinaliser le reportage sur la rencontre (productions d’écrits\, productions plastiques…).\n\n \nProtocole sanitaire :\nDes adaptations pourront être mises en place en fonction de l’évolution du contexte sanitaire. \nPour toutes précisions\, contactez : \nEric PIEDFER au 06 60 92 66 85 \nBruno GAILHAC au 06 82 05 63 19
URL:https://usep94.fr/evenement/sop-2024-en-route-vers-les-jeux-a-thiais/
LOCATION:Gymnase Romain Gary – Thiais\, 2 rue Romain Gary\, Thiais\, 94320\, France
CATEGORIES:CIII,HTS,TS
ATTACH;FMTTYPE=image/png:https://usep94.fr/wp-content/uploads/Bandeau-SOP-1020x450.001.png
ORGANIZER;CN="Comit%C3%A9 D%C3%A9partemental USEP 94":MAILTO:usep94.ligue94@gmail.com
GEO:48.7669593;2.3802968
X-APPLE-STRUCTURED-LOCATION;VALUE=URI;X-ADDRESS=Gymnase Romain Gary – Thiais 2 rue Romain Gary Thiais 94320 France;X-APPLE-RADIUS=500;X-TITLE=2 rue Romain Gary:geo:2.3802968,48.7669593
END:VEVENT
BEGIN:VEVENT
DTSTART;VALUE=DATE:20240409
DTEND;VALUE=DATE:20240410
DTSTAMP:20260420T040243
CREATED:20240319T162307Z
LAST-MODIFIED:20240319T162307Z
UID:10000799-1712620800-1712707199@usep94.fr
SUMMARY:Formation Savoir Rouler A Vélo
DESCRIPTION:Lancé en 2019\, le dispositif « Savoir Rouler à Vélo » a pour objectif de garantir à chaque enfant l’acquisition de savoirs sportifs fondamentaux indispensables pour son épanouissement\, sa santé\, son autonomie et sa sécurité.\nCette action à destination des enfants de 6 à 11 ans est un axe majeur du plan vélo et mobilités actives lancé en 2018 visant à tripler\, d’ici 2024\, la part du vélo dans les déplacements de tous les jours. \nLieu de la formation :\nParc Interdépartemental Des Sports de Choisy. L’accueil se fera au Gymnase situé au pied de la Gare du RER D Créteil-Pompadour. (plan ici) \nContenu de la formation :\n\nPrésentation du dispositif SRAV ;\nMise en place de situations d’apprentissage visant le savoir pédaler\, le savoir circuler permettant d’aborder dans un 3ème temps le savoir rouler à vélo ;\nPoint sur les conditions de pratique du vélo sur les temps scolaires et périscolaires ;\nRéflexion sur la mise en place et la validation du bloc 3 du SRAV (circulation sur route) autour des écoles du Val-de-Marne ;\nPrésentation d’outils conçus par l’USEP et l’UFOLEP.\n\n \nHoraires de la formation :\nA partir de 9h00 : Accueil des participants \n9h30-12h30 : Partie 1 de la formation \n12h30-13h30 : Pause repas (prévoir un pique-nique) Nous nous chargerons du café. \n13h30-16h30 : Partie 2 de la formation \nDes temps de pratique seront proposés. Il est important de disposer d’une tenue adaptée à la pratique du vélo (en extérieur et/ou en intérieur). N’hésitez pas à venir avec votre vélo et votre casque\, dans la mesure du possible. \nConditions d’inscriptions :\nAfin d’être couverts en cas d’accident\, les participants à cette formation devront : \n\nêtre licenciés à l’USEP ;\n\nou \n\ndisposer d’un ordre de mission de leur employeur (inscription via GAIA\, si ce temps a été programmé par la circonscription\, autre si employeur municipal).\n\nToutes les inscriptions passent par le formulaire en ligne (onglet vert en haut de cette page). Pour accéder à ce formulaire vous devrez vous connecter à votre compte USEP. Pour créer votre compte\, suivez le Pas-à-Pas (cliquez ICI).\n \nPour vous accueillir dans les meilleures conditions\, merci de compléter l’ensemble des informations du formulaire. \nPour toutes précisions\, contactez : \nEric PIEDFER au 06 60 92 66 85 \nBruno GAILHAC au 06 82 05 63 19
URL:https://usep94.fr/evenement/formation-savoir-rouler-a-velo-12/
LOCATION:Gymnase du Parc Interdépartemental des Sports de Choisy-le-Roi\, au pied de la Gare du RER D CRETEIL POMPADOUR\, France
CATEGORIES:FORMATION,HTS
ATTACH;FMTTYPE=image/png:https://usep94.fr/wp-content/uploads/Bandeau-SRAV-1020x450.001.png
ORGANIZER;CN="Comit%C3%A9 D%C3%A9partemental USEP 94":MAILTO:usep94.ligue94@gmail.com
GEO:48.771195;2.434458
X-APPLE-STRUCTURED-LOCATION;VALUE=URI;X-ADDRESS=Gymnase du Parc Interdépartemental des Sports de Choisy-le-Roi au pied de la Gare du RER D CRETEIL POMPADOUR France;X-APPLE-RADIUS=500;X-TITLE=au pied de la Gare du RER D CRETEIL POMPADOUR:geo:2.434458,48.771195
END:VEVENT
END:VCALENDAR