BEGIN:VCALENDAR
VERSION:2.0
PRODID:-//USEP94 - ECPv6.10.1.1//NONSGML v1.0//EN
CALSCALE:GREGORIAN
METHOD:PUBLISH
X-ORIGINAL-URL:https://usep94.fr
X-WR-CALDESC:Évènements pour USEP94
REFRESH-INTERVAL;VALUE=DURATION:PT1H
X-Robots-Tag:noindex
X-PUBLISHED-TTL:PT1H
BEGIN:VTIMEZONE
TZID:Europe/Paris
BEGIN:DAYLIGHT
TZOFFSETFROM:+0100
TZOFFSETTO:+0200
TZNAME:CEST
DTSTART:20240331T010000
END:DAYLIGHT
BEGIN:STANDARD
TZOFFSETFROM:+0200
TZOFFSETTO:+0100
TZNAME:CET
DTSTART:20241027T010000
END:STANDARD
END:VTIMEZONE
BEGIN:VEVENT
DTSTART;VALUE=DATE:20241106
DTEND;VALUE=DATE:20241107
DTSTAMP:20260419T160939
CREATED:20240929T112610Z
LAST-MODIFIED:20250317T105827Z
UID:10000861-1730851200-1730937599@usep94.fr
SUMMARY:Formation Savoir Rouler A Vélo
DESCRIPTION:Lancé en 2019\, le dispositif « Savoir Rouler à Vélo » a pour objectif de garantir à chaque enfant l’acquisition de savoirs sportifs fondamentaux indispensables pour son épanouissement\, sa santé\, son autonomie et sa sécurité.\nCette action à destination des enfants de 6 à 11 ans est un axe majeur du plan vélo et mobilités actives lancé en 2018 visant à tripler\, d’ici 2024\, la part du vélo dans les déplacements de tous les jours. \nLieu de la formation :\nParc Interdépartemental Des Sports de Choisy. L’accueil se fera au Gymnase situé au pied de la Gare du RER D Créteil-Pompadour. (plan ici) \nContenu de la formation :\n\nPrésentation du dispositif SRAV ;\nMise en place de situations d’apprentissage visant le savoir pédaler\, le savoir circuler permettant d’aborder dans un 3ème temps le savoir rouler à vélo ;\nPoint sur les conditions de pratique du vélo sur les temps scolaires et périscolaires ;\nRéflexion sur la mise en place et la validation du bloc 3 du SRAV (circulation sur route) autour des écoles du Val-de-Marne ;\nPrésentation d’outils conçus par l’USEP et l’UFOLEP.\n\n \nHoraires de la formation :\nA partir de 9h00 : Accueil des participants \n9h30-12h30 : Partie 1 de la formation (Bloc 1 vers Bloc 2) \n12h30-13h30 : Pause repas (prévoir un pique-nique) Nous nous chargerons du café. \n13h30-16h30 : Partie 2 de la formation (Bloc 2 vers Bloc 3) \nDes temps de pratique seront proposés. Il est important de disposer d’une tenue adaptée à la pratique du vélo (en extérieur et/ou en intérieur). N’hésitez pas à venir avec votre vélo et votre casque\, dans la mesure du possible. \nConditions d’inscriptions :\nAfin d’être couverts en cas d’accident\, les participants à cette formation devront : \n\nêtre licenciés à l’USEP ;\n\nou \n\ndisposer d’un ordre de mission de leur employeur (inscription via GAIA\, si ce temps a été programmé par la circonscription\, autre si employeur municipal).\n\nToutes les inscriptions passent par le formulaire en ligne (onglet vert en haut de cette page). Pour accéder à ce formulaire vous devrez vous connecter à votre compte USEP. Pour créer votre compte\, suivez le Pas-à-Pas (cliquez ICI).\n \nPour vous accueillir dans les meilleures conditions\, merci de compléter l’ensemble des informations du formulaire. \nPour toutes précisions\, contactez : \nEric PIEDFER au 06 60 92 66 85 \nBruno GAILHAC au 06 82 05 63 19
URL:https://usep94.fr/evenement/formation-savoir-rouler-a-velo-13/
LOCATION:Gymnase du Parc Interdépartemental des Sports de Choisy-le-Roi\, au pied de la Gare du RER D CRETEIL POMPADOUR\, France
CATEGORIES:FORMATION,HTS
ATTACH;FMTTYPE=image/png:https://usep94.fr/wp-content/uploads/Bandeau-SRAV-1020x450.001.png
ORGANIZER;CN="Comit%C3%A9 D%C3%A9partemental USEP 94":MAILTO:usep94.ligue94@gmail.com
GEO:48.771195;2.434458
X-APPLE-STRUCTURED-LOCATION;VALUE=URI;X-ADDRESS=Gymnase du Parc Interdépartemental des Sports de Choisy-le-Roi au pied de la Gare du RER D CRETEIL POMPADOUR France;X-APPLE-RADIUS=500;X-TITLE=au pied de la Gare du RER D CRETEIL POMPADOUR:geo:2.434458,48.771195
END:VEVENT
BEGIN:VEVENT
DTSTART;VALUE=DATE:20241113
DTEND;VALUE=DATE:20241114
DTSTAMP:20260419T160940
CREATED:20240929T112750Z
LAST-MODIFIED:20240929T113057Z
UID:10000862-1731456000-1731542399@usep94.fr
SUMMARY:Formation Savoir Rouler A Vélo (Projet SUCY)
DESCRIPTION:Lancé en 2019\, le dispositif « Savoir Rouler à Vélo » a pour objectif de garantir à chaque enfant l’acquisition de savoirs sportifs fondamentaux indispensables pour son épanouissement\, sa santé\, son autonomie et sa sécurité.\nCette action à destination des enfants de 6 à 11 ans est un axe majeur du plan vélo et mobilités actives lancé en 2018 visant à tripler\, d’ici 2024\, la part du vélo dans les déplacements de tous les jours. \nLieu de la formation :\nParc Interdépartemental Des Sports de Choisy. L’accueil se fera au Gymnase situé au pied de la Gare du RER D Créteil-Pompadour. (plan ici) \nContenu de la formation :\n\nPrésentation du dispositif SRAV ;\nMise en place de situations d’apprentissage visant le savoir pédaler\, le savoir circuler permettant d’aborder dans un 3ème temps le savoir rouler à vélo ;\nPoint sur les conditions de pratique du vélo sur les temps scolaires et périscolaires ;\nRéflexion sur la mise en place et la validation du bloc 3 du SRAV (circulation sur route) autour des écoles du Val-de-Marne ;\nPrésentation d’outils conçus par l’USEP et l’UFOLEP.\n\n \nHoraires de la formation :\nA partir de 9h00 : Accueil des participants \n9h30-12h30 : Partie 1 de la formation (Bloc 1 vers Bloc 2) \n12h30-13h30 : Pause repas (prévoir un pique-nique) Nous nous chargerons du café. \n13h30-16h30 : Partie 2 de la formation (Bloc 2 vers Bloc 3) \nDes temps de pratique seront proposés. Il est important de disposer d’une tenue adaptée à la pratique du vélo (en extérieur et/ou en intérieur). N’hésitez pas à venir avec votre vélo et votre casque\, dans la mesure du possible. \nConditions d’inscriptions :\nAfin d’être couverts en cas d’accident\, les participants à cette formation devront : \n\nêtre licenciés à l’USEP ;\n\nou \n\ndisposer d’un ordre de mission de leur employeur (inscription via GAIA\, si ce temps a été programmé par la circonscription\, autre si employeur municipal).\n\nToutes les inscriptions passent par le formulaire en ligne (onglet vert en haut de cette page). Pour accéder à ce formulaire vous devrez vous connecter à votre compte USEP. Pour créer votre compte\, suivez le Pas-à-Pas (cliquez ICI).\n \nPour vous accueillir dans les meilleures conditions\, merci de compléter l’ensemble des informations du formulaire. \nPour toutes précisions\, contactez : \nEric PIEDFER au 06 60 92 66 85 \nBruno GAILHAC au 06 82 05 63 19
URL:https://usep94.fr/evenement/formation-savoir-rouler-a-velo-projet-sucy/
LOCATION:Gymnase du Parc Interdépartemental des Sports de Choisy-le-Roi\, au pied de la Gare du RER D CRETEIL POMPADOUR\, France
CATEGORIES:FORMATION,HTS
ATTACH;FMTTYPE=image/png:https://usep94.fr/wp-content/uploads/Bandeau-SRAV-1020x450.001.png
ORGANIZER;CN="Comit%C3%A9 D%C3%A9partemental USEP 94":MAILTO:usep94.ligue94@gmail.com
GEO:48.771195;2.434458
X-APPLE-STRUCTURED-LOCATION;VALUE=URI;X-ADDRESS=Gymnase du Parc Interdépartemental des Sports de Choisy-le-Roi au pied de la Gare du RER D CRETEIL POMPADOUR France;X-APPLE-RADIUS=500;X-TITLE=au pied de la Gare du RER D CRETEIL POMPADOUR:geo:2.434458,48.771195
END:VEVENT
BEGIN:VEVENT
DTSTART;TZID=Europe/Paris:20241119T181500
DTEND;TZID=Europe/Paris:20241119T203000
DTSTAMP:20260419T160940
CREATED:20240929T134055Z
LAST-MODIFIED:20240929T135206Z
UID:10000866-1732040100-1732048200@usep94.fr
SUMMARY:Formation Danses Traditionnelles Cycles 2 et 3 à Chennevières-sur-Marne
DESCRIPTION:Agir ensemble à travers les danses traditionnelles\, un projet fédérateur source de bien être\n\nEntrez dans la danse et venez vous former autour d’un répertoire de musiques de nos régions et d’autres pays.\n \nDanser : un moyen de pratiquer 30 minutes d’Activité Physique Quotidienne\, dans la joie et la bonne humeur ! \nLe répertoire proposé servira de support aux rencontres “Tous au bal USEP” que vous pourrez organiser localement au cours de l’année avec notre soutien en termes de sonorisation et d’animation (selon nos disponibilités).\n \nLieu de la formation :\nEcole élémentaire les Hauts de Chennevières\, 11 rue Clément  Ader 94430 Chennevières sur Marne.  (plan ici) \nContenu de la formation :\nCette formation à destination des enseignants des écoles élémentaires a pour objectifs de : \n\nFormer les participants à la conduite d’un module de danse collective ; \nDonner des moyens de construire un projet autour du vivre ensemble ;\nSe préparer à organiser une rencontre de danse « Tous au Bal USEP » avec le soutien logistique de l’USEP 94.\n\nNous vous proposerons : \n –   une appropriation et une structuration des apprentissages autour d’un répertoire commun de danses collectives ;  \n–   une méthodologie pour créer collectivement une danse à partir d’une musique commune. \n \nHoraires de la formation :\n18h15-20h30 : Formation \nUn temps de pratique vous sera proposé. Il est important de disposer d’une tenue adaptée à la pratique sportive en salle :  \n\nchaussures de sport en salle ou propres ; \nune bouteille d’eau. \n\nConditions d’inscriptions :\nAfin d’être couverts en cas d’accident\, les participants à cette formation devront : \n\nêtre licenciés à l’USEP ;\n\nou \n\ndisposer d’un ordre de mission de leur employeur (inscription via GAIA\, si ce temps a été programmé par la circonscription).\n\nToutes les inscriptions passent par le formulaire en ligne (bouton vert en haut de cette page). \nSi cette formation apparaît dans le plan de formation continue de votre circonscription\, il faudra également procéder à une inscription via GAIA.\n \nPour toutes précisions\, contactez : \nEric PIEDFER au 06 60 92 66 85 \nBruno GAILHAC au 06 82 05 63 19
URL:https://usep94.fr/evenement/formation-danses-traditionnelles-cycles-2-et-3-a-chennevieres-sur-marne-3/
LOCATION:Ecole élémentaire Les Hauts de Chennevières\, 11 rue Clément Ader\, Chennevières sur Marne\, 94430\, France
CATEGORIES:FORMATION,HTS
ATTACH;FMTTYPE=image/png:https://usep94.fr/wp-content/uploads/Bandeau-Formation-Danses-Traditionnelles-1020x450.001.png
ORGANIZER;CN="Comit%C3%A9 D%C3%A9partemental USEP 94":MAILTO:usep94.ligue94@gmail.com
GEO:48.79961;2.553626
X-APPLE-STRUCTURED-LOCATION;VALUE=URI;X-ADDRESS=Ecole élémentaire Les Hauts de Chennevières 11 rue Clément Ader Chennevières sur Marne 94430 France;X-APPLE-RADIUS=500;X-TITLE=11 rue Clément Ader:geo:2.553626,48.79961
END:VEVENT
BEGIN:VEVENT
DTSTART;TZID=Europe/Paris:20241126T181500
DTEND;TZID=Europe/Paris:20241126T203000
DTSTAMP:20260419T160940
CREATED:20240929T135632Z
LAST-MODIFIED:20240929T140005Z
UID:10000867-1732644900-1732653000@usep94.fr
SUMMARY:Formation Danses Traditionnelles Cycles 2 et 3 à Chevilly-Larue
DESCRIPTION:Agir ensemble à travers les danses traditionnelles\, un projet fédérateur source de bien être\n\nEntrez dans la danse et venez vous former autour d’un répertoire de musiques de nos régions et d’autres pays.\n \nDanser : un moyen de pratiquer 30 minutes d’Activité Physique Quotidienne\, dans la joie et la bonne humeur ! \nLe répertoire proposé servira de support aux rencontres “Tous au bal USEP” que vous pourrez organiser localement au cours de l’année avec notre soutien en termes de sonorisation et d’animation (selon nos disponibilités). \nLieu de la formation :\nEcole élémentaire Paul Bert A\, 17 rue du Nivernais\, 94550 Chevilly-Larue.  (plan ici) \nContenu de la formation :\nCette formation à destination des enseignants des écoles élémentaires a pour objectifs de : \n\nFormer les participants à la conduite d’un module de danse collective ; \nDonner des moyens de construire un projet autour du vivre ensemble ;\nSe préparer à organiser une rencontre de danse « Tous au Bal USEP » avec le soutien logistique de l’USEP 94.\n\nNous vous proposerons : \n –   une appropriation et une structuration des apprentissages autour d’un répertoire commun de danses collectives ;  \n–   une méthodologie pour créer collectivement une danse à partir d’une musique commune. \n \nHoraires de la formation :\n18h15-20h30 : Formation \nUn temps de pratique vous sera proposé. Il est important de disposer d’une tenue adaptée à la pratique sportive en salle :  \n\nchaussures de sport en salle ou propres ; \nune bouteille d’eau. \n\nConditions d’inscriptions :\nAfin d’être couverts en cas d’accident\, les participants à cette formation devront : \n\nêtre licenciés à l’USEP ;\n\nou \n\ndisposer d’un ordre de mission de leur employeur (inscription via GAIA\, si ce temps a été programmé par la circonscription).\n\nToutes les inscriptions passent par le formulaire en ligne (bouton vert en haut de cette page). \nSi cette formation apparaît dans le plan de formation continue de votre circonscription\, il faudra également procéder à une inscription via GAIA. \nPour toutes précisions\, contactez : \nEric PIEDFER au 06 60 92 66 85 \nBruno GAILHAC au 06 82 05 63 19
URL:https://usep94.fr/evenement/formation-danses-traditionnelles-cycles-2-et-3-a-chevilly-larue-3/
LOCATION:Ecole élémentaire Paul Bert A\, Chevilly-Larue\, 17 rue du Nivernais\, Chevilly-Larue\, 94550\, France
CATEGORIES:FORMATION,HTS
ATTACH;FMTTYPE=image/png:https://usep94.fr/wp-content/uploads/Bandeau-Formation-Danses-Traditionnelles-1020x450.001.png
ORGANIZER;CN="Comit%C3%A9 D%C3%A9partemental USEP 94":MAILTO:usep94.ligue94@gmail.com
GEO:48.7732276;2.3565505
X-APPLE-STRUCTURED-LOCATION;VALUE=URI;X-ADDRESS=Ecole élémentaire Paul Bert A Chevilly-Larue 17 rue du Nivernais Chevilly-Larue 94550 France;X-APPLE-RADIUS=500;X-TITLE=17 rue du Nivernais:geo:2.3565505,48.7732276
END:VEVENT
BEGIN:VEVENT
DTSTART;VALUE=DATE:20241127
DTEND;VALUE=DATE:20241128
DTSTAMP:20260419T160940
CREATED:20240929T112949Z
LAST-MODIFIED:20250317T105303Z
UID:10000863-1732665600-1732751999@usep94.fr
SUMMARY:Formation Savoir Rouler A Vélo (Projet SUCY)
DESCRIPTION:Lancé en 2019\, le dispositif « Savoir Rouler à Vélo » a pour objectif de garantir à chaque enfant l’acquisition de savoirs sportifs fondamentaux indispensables pour son épanouissement\, sa santé\, son autonomie et sa sécurité.\nCette action à destination des enfants de 6 à 11 ans est un axe majeur du plan vélo et mobilités actives lancé en 2018 visant à tripler\, d’ici 2024\, la part du vélo dans les déplacements de tous les jours. \nLieu de la formation :\nParc Interdépartemental Des Sports de Choisy. L’accueil se fera au Gymnase situé au pied de la Gare du RER D Créteil-Pompadour. (plan ici) \nContenu de la formation :\n\nPrésentation du dispositif SRAV ;\nMise en place de situations d’apprentissage visant le savoir pédaler\, le savoir circuler permettant d’aborder dans un 3ème temps le savoir rouler à vélo ;\nPoint sur les conditions de pratique du vélo sur les temps scolaires et périscolaires ;\nRéflexion sur la mise en place et la validation du bloc 3 du SRAV (circulation sur route) autour des écoles du Val-de-Marne ;\nPrésentation d’outils conçus par l’USEP et l’UFOLEP.\n\n \nHoraires de la formation :\nA partir de 9h00 : Accueil des participants \n9h30-12h30 : Partie 1 de la formation (Bloc 1 vers Bloc 2) \n12h30-13h30 : Pause repas (prévoir un pique-nique) Nous nous chargerons du café. \n13h30-16h30 : Partie 2 de la formation (Bloc 2 vers Bloc 3) \nDes temps de pratique seront proposés. Il est important de disposer d’une tenue adaptée à la pratique du vélo (en extérieur et/ou en intérieur). N’hésitez pas à venir avec votre vélo et votre casque\, dans la mesure du possible. \nConditions d’inscriptions :\nAfin d’être couverts en cas d’accident\, les participants à cette formation devront : \n\nêtre licenciés à l’USEP ;\n\nou \n\ndisposer d’un ordre de mission de leur employeur (inscription via GAIA\, si ce temps a été programmé par la circonscription\, autre si employeur municipal).\n\nToutes les inscriptions passent par le formulaire en ligne (onglet vert en haut de cette page). Pour accéder à ce formulaire vous devrez vous connecter à votre compte USEP. Pour créer votre compte\, suivez le Pas-à-Pas (cliquez ICI).\n \nPour vous accueillir dans les meilleures conditions\, merci de compléter l’ensemble des informations du formulaire. \nPour toutes précisions\, contactez : \nEric PIEDFER au 06 60 92 66 85 \nBruno GAILHAC au 06 82 05 63 19
URL:https://usep94.fr/evenement/formation-savoir-rouler-a-velo-projet-sucy-2/
LOCATION:Gymnase du Parc Interdépartemental des Sports de Choisy-le-Roi\, au pied de la Gare du RER D CRETEIL POMPADOUR\, France
CATEGORIES:FORMATION,HTS
ATTACH;FMTTYPE=image/png:https://usep94.fr/wp-content/uploads/Bandeau-SRAV-1020x450.001.png
ORGANIZER;CN="Comit%C3%A9 D%C3%A9partemental USEP 94":MAILTO:usep94.ligue94@gmail.com
GEO:48.771195;2.434458
X-APPLE-STRUCTURED-LOCATION;VALUE=URI;X-ADDRESS=Gymnase du Parc Interdépartemental des Sports de Choisy-le-Roi au pied de la Gare du RER D CRETEIL POMPADOUR France;X-APPLE-RADIUS=500;X-TITLE=au pied de la Gare du RER D CRETEIL POMPADOUR:geo:2.434458,48.771195
END:VEVENT
END:VCALENDAR