BEGIN:VCALENDAR
VERSION:2.0
PRODID:-//USEP94 - ECPv6.10.1.1//NONSGML v1.0//EN
CALSCALE:GREGORIAN
METHOD:PUBLISH
X-ORIGINAL-URL:https://usep94.fr
X-WR-CALDESC:Évènements pour USEP94
REFRESH-INTERVAL;VALUE=DURATION:PT1H
X-Robots-Tag:noindex
X-PUBLISHED-TTL:PT1H
BEGIN:VTIMEZONE
TZID:Europe/Paris
BEGIN:DAYLIGHT
TZOFFSETFROM:+0100
TZOFFSETTO:+0200
TZNAME:CEST
DTSTART:20220327T010000
END:DAYLIGHT
BEGIN:STANDARD
TZOFFSETFROM:+0200
TZOFFSETTO:+0100
TZNAME:CET
DTSTART:20221030T010000
END:STANDARD
END:VTIMEZONE
BEGIN:VEVENT
DTSTART;TZID=Europe/Paris:20221004T130000
DTEND;TZID=Europe/Paris:20221004T163000
DTSTAMP:20260421T134319
CREATED:20221110T112612Z
LAST-MODIFIED:20221110T135925Z
UID:10000622-1664888400-1664901000@usep94.fr
SUMMARY:Cross scolaire USEP - UNSS - FFSU (Choisy-le-Roi)
DESCRIPTION:Dans le cadre du Cross du Val-de-Marne\, l’USEP en collaboration avec l’UNSS\, la FFSU et le Comité Départemental d’Athlétisme  vous proposent une action hors temps scolaire pour découvrir l’ambiance d’une course de masse. \nATTENTION : Cette rencontre se déroule hors temps scolaire. Les participants (élèves de CM2) doivent être licenciés. Le transport est à organiser en co-voiturage ou en utilisant les transports. L’encadrement des enfants est assuré par les membres de votre association et les parents accompagnateurs. \nPour découvrir cet évènement\, \,regardez le reportage réalisé par les Petits Reporters de l’Usep Sport en Couleur de Mandres les Roses\n  \nAvant la rencontre : \n\nMettre à jour  ou créer sa fiche enseignant depuis la page d’accueil du site usep94.fr.\nInscrire les élèves participant à l’évènement\, en précisant le mode transport ;\nSignaler dans le formulaire le nombre d’élèves à besoins particuliers (PAI\, situation de handicap\, …).\n\nL’USEP 94 s’attache à l’inclusion de tous les élèves. Pour les élèves à mobilité réduite\, nous disposons d’une joëlette et pouvons former les élèves de la classe à sa manipulation et mobiliser une équipe spécifique de bénévoles… il vous appartient de nous solliciter ! \n																														 \n\nInformer les familles sur la sortie (disposer  d’une bouteille d’eau\, d’un sac à dos\, d’une tenue sportive adaptée\, selon les conditions climatiques : prévoir une paire de chaussure de rechange) ;\nOrganiser le transport et trouver des accompagnateurs ; \nPréparer les élèves à courir une distance de 2500 mètres. \n\nLe jour de la rencontre : Rendez-vous entre 13h00 et 13h15 au Parc Interdépartemental Des Sports de Choisy-le-Roi (lien google Maps pour accéder au parking ICI)\n\nPrévoir\, une trousse de secours pour les “petits bobos”\, les PAI ainsi que les médicaments nécessaires\, les fiches d’urgence des enfants permettant de contacter les responsables légaux (exemple transmis en début d’année) ;\n Se rendre à l’atelier “Défi 2024” encadré par l’USEP 94 pour signaler votre arrivée. Afin de garantir la sécurité de tous\, les organisateurs porteront des chasubles rouges\, les enseignants des chasubles vertes et les accompagnateurs des chasubles jaunes (matériel remis à l’accueil\,dans le cadre du protocole Vigipirate) ;\nRécupérer les dossards auprès d’un représentant de l’USEP. (prévoir 4 épingles à nourrice par enfant) ;\nMettre en place une petite mise en jambe avant les courses ;\nAccompagner les enfants jusqu’à la ligne de départ puis les rassembler après le passage sur la ligne d’arrivée ;\n13h30 : Départ de la course filles ;\n13h50 : Départ de la course garçons ;\nSi vous le souhaitez\, réalisez avec les enfants (“Petits Reporters”) un reportage photos et/ou vidéo.\n\n																														 \nDéroulement de la rencontre :\n\nParticipation aux courses Benjamines (2 000 m) et Benjamins (2 600)\, sans classement ;\nRemise d’une collation à chaque participant sur la ligne d’arrivée ;\nPossibilité de se rendre sur les différents stands présents sur la plaine de l’extension (Bus santé\, Développement Durable\, Défi 2024…) ; \n\nAprès la rencontre :\n\nFinaliser le reportage sur la rencontre (productions d’écrits\, productions plastiques…).\n\nCes productions pourront être transmises à Isabelle GROS à l’adresse igros.usep94.ligue94@gmail.com . \n																														 \nProtocole sanitaire :\nDes adaptations pourront être mises en place en fonction de l’évolution du contexte sanitaire. \nPour toutes précisions\, contactez : \nEric PIEDFER au 06 60 92 66 85 \nBruno GAILHAC au 06 82 05 63 19
URL:https://usep94.fr/evenement/cross-scolaire-usep-unss-ffsu-choisy-le-roi/2022-10-04/
CATEGORIES:CIII,HTS
ATTACH;FMTTYPE=image/png:https://usep94.fr/wp-content/uploads/Bandeau-CROSS-1020x450.001.png
ORGANIZER;CN="Comit%C3%A9 D%C3%A9partemental USEP 94":MAILTO:usep94.ligue94@gmail.com
END:VEVENT
END:VCALENDAR