BEGIN:VCALENDAR
VERSION:2.0
PRODID:-//USEP94 - ECPv6.10.1.1//NONSGML v1.0//EN
CALSCALE:GREGORIAN
METHOD:PUBLISH
X-ORIGINAL-URL:https://usep94.fr
X-WR-CALDESC:Évènements pour USEP94
REFRESH-INTERVAL;VALUE=DURATION:PT1H
X-Robots-Tag:noindex
X-PUBLISHED-TTL:PT1H
BEGIN:VTIMEZONE
TZID:Europe/Paris
BEGIN:DAYLIGHT
TZOFFSETFROM:+0100
TZOFFSETTO:+0200
TZNAME:CEST
DTSTART:20220327T010000
END:DAYLIGHT
BEGIN:STANDARD
TZOFFSETFROM:+0200
TZOFFSETTO:+0100
TZNAME:CET
DTSTART:20221030T010000
END:STANDARD
END:VTIMEZONE
BEGIN:VEVENT
DTSTART;VALUE=DATE:20221123
DTEND;VALUE=DATE:20221124
DTSTAMP:20260421T120001
CREATED:20220920T092230Z
LAST-MODIFIED:20221110T110747Z
UID:10000594-1669161600-1669247999@usep94.fr
SUMMARY:Formation Savoir Rouler A Vélo
DESCRIPTION:Lancé en 2019\, le dispositif « Savoir Rouler à Vélo » a pour objectif de garantir à chaque enfant l’acquisition de savoirs sportifs fondamentaux indispensables pour son épanouissement\, sa santé\, son autonomie et sa sécurité.\nCette action à destination des enfants de 6 à 11 ans est un axe majeur du plan vélo et mobilités actives lancé en 2018 visant à tripler\, d’ici 2024\, la part du vélo dans les déplacements de tous les jours. \nLieu de la formation :\nParc Interdépartemental Des Sports de Choisy. L’accueil se fera au Gymnase situé au pied de la Gare du RER D Créteil-Pompadour. (plan ici) \nContenu de la formation :\n\nPrésentation du dispositif SRAV ;\nMise en place de situations d’apprentissage visant le savoir pédaler\, le savoir circuler permettant d’aborder dans un 3ème temps le savoir rouler à vélo ;\nPoint sur les conditions de pratique du vélo sur les temps scolaires et périscolaires ;\nRéflexion sur la mise en place et la validation du bloc 3 du SRAV (circulation sur route) autour des écoles du Val-de-Marne ;\nPrésentation d’outils conçus par l’USEP et l’UFOLEP.\n\n \nHoraires de la formation :\nA partir de 9h00 : Accueil des participants \n9h30-12h30 : Partie 1 de la formation \n12h30-13h30 : Pause repas (prévoir un pique-nique) Nous nous chargerons du café. \n13h30-16h30 : Partie 2 de la formation \nDes temps de pratique seront proposés. Il est important de disposer d’une tenue adaptée à la pratique du vélo (en extérieur et/ou en intérieur). N’hésitez pas à venir avec votre vélo et votre casque\, dans la mesure du possible. \nConditions d’inscriptions :\nAfin d’être couverts en cas d’accident\, les participants à cette formation devront : \n\nêtre licenciés à l’USEP ;\n\nou \n\ndisposer d’un ordre de mission de leur employeur (inscription via GAIA\, si ce temps a été programmé par la circonscription\, autre si employeur municipal).\n\nToutes les inscriptions passent par le formulaire en ligne (bouton vert en haut de cette page). \nPour vous accueillir dans les meilleures conditions\, merci de compléter l’ensemble des informations du formulaire. \nPour toutes précisions\, contactez : \nEric PIEDFER au 06 60 92 66 85 \nBruno GAILHAC au 06 82 05 63 19
URL:https://usep94.fr/evenement/formation-savoir-rouler-a-velo-3/
LOCATION:Gymnase du Parc Interdépartemental des Sports de Choisy-le-Roi\, au pied de la Gare du RER D CRETEIL POMPADOUR\, France
CATEGORIES:FORMATION,HTS
ATTACH;FMTTYPE=image/png:https://usep94.fr/wp-content/uploads/Bandeau-SRAV-1020x450.001.png
ORGANIZER;CN="Comit%C3%A9 D%C3%A9partemental USEP 94":MAILTO:usep94.ligue94@gmail.com
GEO:48.771195;2.434458
X-APPLE-STRUCTURED-LOCATION;VALUE=URI;X-ADDRESS=Gymnase du Parc Interdépartemental des Sports de Choisy-le-Roi au pied de la Gare du RER D CRETEIL POMPADOUR France;X-APPLE-RADIUS=500;X-TITLE=au pied de la Gare du RER D CRETEIL POMPADOUR:geo:2.434458,48.771195
END:VEVENT
BEGIN:VEVENT
DTSTART;TZID=Europe/Paris:20221123T130000
DTEND;TZID=Europe/Paris:20221123T163000
DTSTAMP:20260421T120001
CREATED:20221110T112612Z
LAST-MODIFIED:20221110T135925Z
UID:10000623-1669208400-1669221000@usep94.fr
SUMMARY:Cross scolaire USEP - UNSS - FFSU (Choisy-le-Roi)
DESCRIPTION:Dans le cadre du Cross du Val-de-Marne\, l’USEP en collaboration avec l’UNSS\, la FFSU et le Comité Départemental d’Athlétisme  vous proposent une action hors temps scolaire pour découvrir l’ambiance d’une course de masse. \nATTENTION : Cette rencontre se déroule hors temps scolaire. Les participants (élèves de CM2) doivent être licenciés. Le transport est à organiser en co-voiturage ou en utilisant les transports. L’encadrement des enfants est assuré par les membres de votre association et les parents accompagnateurs. \nPour découvrir cet évènement\, \,regardez le reportage réalisé par les Petits Reporters de l’Usep Sport en Couleur de Mandres les Roses\n  \nAvant la rencontre : \n\nMettre à jour  ou créer sa fiche enseignant depuis la page d’accueil du site usep94.fr.\nInscrire les élèves participant à l’évènement\, en précisant le mode transport ;\nSignaler dans le formulaire le nombre d’élèves à besoins particuliers (PAI\, situation de handicap\, …).\n\nL’USEP 94 s’attache à l’inclusion de tous les élèves. Pour les élèves à mobilité réduite\, nous disposons d’une joëlette et pouvons former les élèves de la classe à sa manipulation et mobiliser une équipe spécifique de bénévoles… il vous appartient de nous solliciter ! \n																														 \n\nInformer les familles sur la sortie (disposer  d’une bouteille d’eau\, d’un sac à dos\, d’une tenue sportive adaptée\, selon les conditions climatiques : prévoir une paire de chaussure de rechange) ;\nOrganiser le transport et trouver des accompagnateurs ; \nPréparer les élèves à courir une distance de 2500 mètres. \n\nLe jour de la rencontre : Rendez-vous entre 13h00 et 13h15 au Parc Interdépartemental Des Sports de Choisy-le-Roi (lien google Maps pour accéder au parking ICI)\n\nPrévoir\, une trousse de secours pour les “petits bobos”\, les PAI ainsi que les médicaments nécessaires\, les fiches d’urgence des enfants permettant de contacter les responsables légaux (exemple transmis en début d’année) ;\n Se rendre à l’atelier “Défi 2024” encadré par l’USEP 94 pour signaler votre arrivée. Afin de garantir la sécurité de tous\, les organisateurs porteront des chasubles rouges\, les enseignants des chasubles vertes et les accompagnateurs des chasubles jaunes (matériel remis à l’accueil\,dans le cadre du protocole Vigipirate) ;\nRécupérer les dossards auprès d’un représentant de l’USEP. (prévoir 4 épingles à nourrice par enfant) ;\nMettre en place une petite mise en jambe avant les courses ;\nAccompagner les enfants jusqu’à la ligne de départ puis les rassembler après le passage sur la ligne d’arrivée ;\n13h30 : Départ de la course filles ;\n13h50 : Départ de la course garçons ;\nSi vous le souhaitez\, réalisez avec les enfants (“Petits Reporters”) un reportage photos et/ou vidéo.\n\n																														 \nDéroulement de la rencontre :\n\nParticipation aux courses Benjamines (2 000 m) et Benjamins (2 600)\, sans classement ;\nRemise d’une collation à chaque participant sur la ligne d’arrivée ;\nPossibilité de se rendre sur les différents stands présents sur la plaine de l’extension (Bus santé\, Développement Durable\, Défi 2024…) ; \n\nAprès la rencontre :\n\nFinaliser le reportage sur la rencontre (productions d’écrits\, productions plastiques…).\n\nCes productions pourront être transmises à Isabelle GROS à l’adresse igros.usep94.ligue94@gmail.com . \n																														 \nProtocole sanitaire :\nDes adaptations pourront être mises en place en fonction de l’évolution du contexte sanitaire. \nPour toutes précisions\, contactez : \nEric PIEDFER au 06 60 92 66 85 \nBruno GAILHAC au 06 82 05 63 19
URL:https://usep94.fr/evenement/cross-scolaire-usep-unss-ffsu-choisy-le-roi/2022-11-23/
CATEGORIES:CIII,HTS
ATTACH;FMTTYPE=image/png:https://usep94.fr/wp-content/uploads/Bandeau-CROSS-1020x450.001.png
ORGANIZER;CN="Comit%C3%A9 D%C3%A9partemental USEP 94":MAILTO:usep94.ligue94@gmail.com
END:VEVENT
END:VCALENDAR