BEGIN:VCALENDAR
VERSION:2.0
PRODID:-//USEP94 - ECPv6.10.1.1//NONSGML v1.0//EN
CALSCALE:GREGORIAN
METHOD:PUBLISH
X-WR-CALNAME:USEP94
X-ORIGINAL-URL:https://usep94.fr
X-WR-CALDESC:Évènements pour USEP94
REFRESH-INTERVAL;VALUE=DURATION:PT1H
X-Robots-Tag:noindex
X-PUBLISHED-TTL:PT1H
BEGIN:VTIMEZONE
TZID:Europe/Paris
BEGIN:DAYLIGHT
TZOFFSETFROM:+0100
TZOFFSETTO:+0200
TZNAME:CEST
DTSTART:20230326T010000
END:DAYLIGHT
BEGIN:STANDARD
TZOFFSETFROM:+0200
TZOFFSETTO:+0100
TZNAME:CET
DTSTART:20231029T010000
END:STANDARD
END:VTIMEZONE
BEGIN:VEVENT
DTSTART;TZID=Europe/Paris:20230920T090000
DTEND;TZID=Europe/Paris:20230920T120000
DTSTAMP:20260420T182904
CREATED:20230918T061158Z
LAST-MODIFIED:20230918T064906Z
UID:10000733-1695200400-1695211200@usep94.fr
SUMMARY:Journée Nationale du Sport Scolaire 2023
DESCRIPTION:Cette journée a pour objectifs de faire connaître et promouvoir les activités des associations sportives d’école ou d’établissements et des fédérations sportives scolaires tant auprès des élèves que des parents\, du mouvement sportif et des collectivités territoriales. \nCette 13ème édition se déroulera sur le thème de l’olympisme. \n\n\n\n \nAfin de créer une dynamique de liaison école/collège\, l’USEP 94 et l’UNSS 94 ont fait le choix de cibler les établissements scolaires d’un même secteur géographique au parc départemental du Grand Godet à Villeneuve le Roi. \nPublic concerné : \n\nélèves de CM1 et CM2 des associations USEP des écoles Irène Joliot-Curie et Paul Eluard d’Orly ;\nélèves de 6e des collèges d’Orly et de Villeneuve-le-Roi.\n\nAvant la rencontre : \n\nInscrire sa classe à l’évènement ;\nInformer les familles sur cette rencontre hors-temps scolaire (horaires\, lieu\, matériel nécessaire : bouteille d’eau dans un sac à dos\, tenue sportive) ;\nTrouver des accompagnateurs (1 par groupe\, soit 1 pour 12 enfants) ;\nConstituer des groupes de 12 enfants.\n\nLe jour de la rencontre : \n\nPrévoir\, une trousse de secours pour les “petits bobos”\, les PAI ainsi que les médicaments nécessaires\, les fiches d’urgence des enfants permettant de contacter les responsables légaux ;\n\n8h45-9h00 : Accueil des participants  au Parc Départemental du Grand Godet de Villeneuve le Roi (plan Google Maps ICI)\n \n9h00-12h00 : Cérémonie protocolaire d’ouverture de la JNSS puis échauffement Break Dance avant de participer à 4 ateliers sportifs (badminton\, handball\, football\, double-dutch\, laser run\, skateboard\, break dance……) dont 1 de pratique handisport (cécifoot\, course de vitesse avec guide\, torball\, parcours joëlette et/ou en fauteuil\,…). Certains groupes pourront participer à un jeu de plateau autour de l’exposition sur les Jeux Olympiques\, ou rencontrer un sportif de haut niveau.\n \nN’hésitez pas à réaliser avec les enfants (“Petits Reporters”) un reportage photos et/ou vidéo. \nAprès la rencontre : \n\nPoursuivre la réflexion sur l’inclusion à travers un remue-méninges. \nFinaliser le reportage sur la rencontre (productions d’écrits\, productions plastiques…).\n\nPour toutes précisions\, contactez : \nEric PIEDFER au 06 60 92 66 85 \nBruno GAILHAC au 06 82 05 63 19
URL:https://usep94.fr/evenement/journee-nationale-du-sport-scolaire-2023/
LOCATION:Parc des Sports du Grand Godet (Orly/Villeneuve-le-Roi)\, Chemin du Grand Godet\, Villeneuve-le-Roi\, 94290\, France
CATEGORIES:CIII,HTS
ATTACH;FMTTYPE=image/jpeg:https://usep94.fr/wp-content/uploads/2023_JNSS_PostsRS_1920x1080.jpg
GEO:48.741041219588;2.4099970153432
X-APPLE-STRUCTURED-LOCATION;VALUE=URI;X-ADDRESS=Parc des Sports du Grand Godet (Orly/Villeneuve-le-Roi) Chemin du Grand Godet Villeneuve-le-Roi 94290 France;X-APPLE-RADIUS=500;X-TITLE=Chemin du Grand Godet:geo:2.4099970153432,48.741041219588
END:VEVENT
END:VCALENDAR