BEGIN:VCALENDAR
VERSION:2.0
PRODID:-//USEP94 - ECPv6.10.1.1//NONSGML v1.0//EN
CALSCALE:GREGORIAN
METHOD:PUBLISH
X-ORIGINAL-URL:https://usep94.fr
X-WR-CALDESC:Évènements pour USEP94
REFRESH-INTERVAL;VALUE=DURATION:PT1H
X-Robots-Tag:noindex
X-PUBLISHED-TTL:PT1H
BEGIN:VTIMEZONE
TZID:Europe/Paris
BEGIN:DAYLIGHT
TZOFFSETFROM:+0100
TZOFFSETTO:+0200
TZNAME:CEST
DTSTART:20240331T010000
END:DAYLIGHT
BEGIN:STANDARD
TZOFFSETFROM:+0200
TZOFFSETTO:+0100
TZNAME:CET
DTSTART:20241027T010000
END:STANDARD
END:VTIMEZONE
BEGIN:VEVENT
DTSTART;VALUE=DATE:20240528
DTEND;VALUE=DATE:20240529
DTSTAMP:20260420T042535
CREATED:20240111T091608Z
LAST-MODIFIED:20240404T091504Z
UID:10000773-1716854400-1716940799@usep94.fr
SUMMARY:Scola Mini-Hand à Bonneuil-sur-Marne
DESCRIPTION:Pour clôturer votre module Handball\, l’USEP vous propose 2 journées de rencontres Mini-Hand sur gazon\, en partenariat avec le Comité Départemental de Handball du Val-de-Marne. \nAvant la rencontre : \n\nMettre à jour  ou créer sa fiche enseignant depuis la page d’accueil du site usep94.fr. (indiquer les informations concernant le profil des élèves à besoins particuliers pour lesquels une adaption serait nécessaire) ;\nInscrire sa classe à l’évènement.\n\nL’USEP 94 s’attache à l’inclusion de tous les élèves. Il vous appartient de nous solliciter pour envisager les adaptations nécessaires ! \n\nRéserver le car\, dès confirmation de la date retenue par l’USEP 94 ;\n\nInformer les familles sur la sortie (disposer d’un pique-nique\, d’une bouteille d’eau\, d’un sac à dos\, d’une tenue sportive adaptée\, d’une casquette\,…) ;\nTrouver 2 ou 3 accompagnateurs qui prendront en charge une équipe dans ses déplacements  ;\n\n\nMettre en place un module d’apprentissage Handball (ressources disponibles ICI) ;\n\nConstituer 3 ou 4 équipes  mixtes de 7 à 8 joueurs.\n\n \nLe jour de la rencontre :\n9h00-10h00 : Accueil des classes au Complexe Sportif Léo LAGRANGE de Bonneuil-sur-Marne (pour consulter l’itinéraire via GoogleMaps cliquer ICI)\n\n\nPrévoir\, une trousse de secours pour les “petits bobos”\, les PAI ainsi que les médicaments nécessaires\, les fiches d’urgence des enfants permettant de contacter les responsables légaux (exemple transmis en début d’année) ;\nPasser à l’accueil pour signaler votre arrivée. Afin de garantir la sécurité de tous\, les organisateurs porteront des chasubles rouges\, les enseignants des chasubles vertes et les accompagnateurs des chasubles jaunes (matériel remis à l’accueil\,dans le cadre du protocole Vigipirate) ;\nSi vous le souhaitez\, réaliser un reportage photo ou vidéo avec un groupe de petits reporters.\n\n\n \nDéroulement de la journée :\n9h00-10h00 : Accueil des classes et remise d’un lot de Tee-shirts qui servira de maillot pour les équipes. (maillot conservé en fin de journée). La classe sera affectée sur sa zone et ses terrains pour la journée. Sur chaque zone\, des responsables du CD Handball 94\, de l’USEP et de la section sportive scolaire Handball du collège Pissarro gèreront le mouvement des équipes. \n10h30-12h00 : Matchs selon le planning qui vous sera communiqué. \n12h00-13h30 : Pause déjeuner \n13h30-15h00 : Matchs (suite) \nLes rencontres seront arbitrées par de Jeunes Officiels UNSS et de Jeunes Officiels USEP issus des associations d’école USEP\, préalablement formés lors d’un stage organisé conjointement par l’UNSS et la section sportive scolaire Handball du collège PISSARRO de St Maur\, le Comité Départemental de Handball et l’USEP. (formation réservée aux AS USEP qui le souhaiteraient sur un mercredi de mai).  \nNB : Précisez aux accompagnateurs de la classe le dispositif d’arbitrage mis en place\, l’importance de ne pas intervenir dans les décisions ! Bien entendu\, durant toute la manifestation\, la classe reste sous la responsabilité de l’enseignant.  \nLes matchs dureront entre 8 et 10 min. Pendant que 2 équipes jouent\, 2 autres se préparent et les 2 dernières se reposent. Ce dispositif est le même sur tous les terrains. Chaque équipe jouera à 5 reprises durant la journée. \n  \n15h15 : Cérémonie de clôture\, remise de récompenses (lot de ballons – sous réserve) et d’un goûter offerts par le Comité Départemental de Handball. \nAprès la rencontre :\n\nFinaliser le reportage\, réaliser des productions écrites ou plastiques autour de la rencontre.\n\nSi vous réalisez un reportage ou une production autour de cette rencontre\, merci de le/la transmettre à Isabelle GROS : igros.usep94.ligue94@gmail.com .\n \n \n\nAide financière aux transports :\nPOUR LES CLASSES AFFILIÉES À L’USEP\, une participation financière  est prévue\, dans les conditions suivantes :  \n– Disposer d’un compte bancaire USEP ;\n \n– Les classes qui s’inscrivent s’engagent à gérer leurs transports :  \n\nchoix du cariste\,\norganisation des rotations\,\nassociation éventuelle avec d’autres écoles\, pour mutualiser le coût …\n\n– Transmission du devis à l’USEP 94 avant le 06/04/2024\n \n– Présence sur le site le jour prévu\, \n– Envoi de la facture acquittée ou\, à défaut\, de la photocopie de la facture et du chèque de règlement avant le 2 juillet 2024. \nLe remboursement ne pourra être fait qu’au profit du compte de l’association USEP\, exclusivement par virement (transmettre un IBAN). \nIl est soumis à l’accord de la commission des finances du Comité Départemental USEP sur les bases de 200 € maximum par classe. \nCe montant pourra être actualisé dans la limite de l’enveloppe budgétaire consacrée aux transports.  \n\nProtocole sanitaire :\nSelon l’évolution du contexte sanitaire\, nous veillerons d’adapter cette rencontre au protocole en vigueur. \nPour toutes précisions\, contactez : \nEric PIEDFER au 06 60 92 66 85 \nBruno GAILHAC au 06 82 05 63 19
URL:https://usep94.fr/evenement/scola-mini-hand-a-bonneuil-sur-marne-2/2024-05-28/
LOCATION:Complexe sportif Léo Lagrange – Bonneuil-sur-Marne\, 1 Rue Jean Catelas\, Bonneuil-sur-Marne\, 94380\, France
CATEGORIES:CIII,HTS,TS
ATTACH;FMTTYPE=image/png:https://usep94.fr/wp-content/uploads/Bandeau-Scola-Mini-Hand-1020x450.001.png
ORGANIZER;CN="Comit%C3%A9 D%C3%A9partemental USEP 94":MAILTO:usep94.ligue94@gmail.com
GEO:48.762656624076;2.4800283210052
X-APPLE-STRUCTURED-LOCATION;VALUE=URI;X-ADDRESS=Complexe sportif Léo Lagrange – Bonneuil-sur-Marne 1 Rue Jean Catelas Bonneuil-sur-Marne 94380 France;X-APPLE-RADIUS=500;X-TITLE=1 Rue Jean Catelas:geo:2.4800283210052,48.762656624076
END:VEVENT
BEGIN:VEVENT
DTSTART;VALUE=DATE:20240528
DTEND;VALUE=DATE:20240529
DTSTAMP:20260420T042535
CREATED:20240320T151042Z
LAST-MODIFIED:20240320T151226Z
UID:10000803-1716883200-1716915600@usep94.fr
SUMMARY:Scola Mini-Hand à Bonneuil-sur-Marne
DESCRIPTION:Pour clôturer votre module Handball\, l’USEP vous propose 2 journées de rencontres Mini-Hand sur gazon\, en partenariat avec le Comité Départemental de Handball du Val-de-Marne. \nAvant la rencontre : \n\nMettre à jour  ou créer sa fiche enseignant depuis la page d’accueil du site usep94.fr. (indiquer les informations concernant le profil des élèves à besoins particuliers pour lesquels une adaption serait nécessaire) ;\nInscrire sa classe à l’évènement.\n\nL’USEP 94 s’attache à l’inclusion de tous les élèves. Il vous appartient de nous solliciter pour envisager les adaptations nécessaires ! \n\nRéserver le car\, dès confirmation de la date retenue par l’USEP 94 ;\n\nInformer les familles sur la sortie (disposer d’un pique-nique\, d’une bouteille d’eau\, d’un sac à dos\, d’une tenue sportive adaptée\, d’une casquette\,…) ;\nTrouver 2 ou 3 accompagnateurs qui prendront en charge une équipe dans ses déplacements  ;\n\n\nMettre en place un module d’apprentissage Handball (ressources disponibles ICI) ;\n\nConstituer 3 ou 4 équipes  mixtes de 7 à 8 joueurs.\n\n \nLe jour de la rencontre :\n9h00-10h00 : Accueil des classes au Complexe Sportif Léo LAGRANGE de Bonneuil-sur-Marne (pour consulter l’itinéraire via GoogleMaps cliquer ICI)\n\n\nPrévoir\, une trousse de secours pour les “petits bobos”\, les PAI ainsi que les médicaments nécessaires\, les fiches d’urgence des enfants permettant de contacter les responsables légaux (exemple transmis en début d’année) ;\nPasser à l’accueil pour signaler votre arrivée. Afin de garantir la sécurité de tous\, les organisateurs porteront des chasubles rouges\, les enseignants des chasubles vertes et les accompagnateurs des chasubles jaunes (matériel remis à l’accueil\,dans le cadre du protocole Vigipirate) ;\nSi vous le souhaitez\, réaliser un reportage photo ou vidéo avec un groupe de petits reporters.\n\n\n \nDéroulement de la journée :\n9h00-10h00 : Accueil des classes et remise d’un lot de Tee-shirts qui servira de maillot pour les équipes. (maillot conservé en fin de journée). La classe sera affectée sur sa zone et ses terrains pour la journée. Sur chaque zone\, des responsables du CD Handball 94\, de l’USEP et de la section sportive scolaire Handball du collège Pissarro gèreront le mouvement des équipes. \n10h30-12h00 : Matchs selon le planning qui vous sera communiqué. \n12h00-13h30 : Pause déjeuner \n13h30-15h00 : Matchs (suite) \nLes rencontres seront arbitrées par de Jeunes Officiels UNSS et de Jeunes Officiels USEP issus des associations d’école USEP\, préalablement formés lors d’un stage organisé conjointement par l’UNSS et la section sportive scolaire Handball du collège PISSARRO de St Maur\, le Comité Départemental de Handball et l’USEP. (formation réservée aux AS USEP qui le souhaiteraient sur un mercredi de mai).  \nNB : Précisez aux accompagnateurs de la classe le dispositif d’arbitrage mis en place\, l’importance de ne pas intervenir dans les décisions ! Bien entendu\, durant toute la manifestation\, la classe reste sous la responsabilité de l’enseignant.  \nLes matchs dureront entre 8 et 10 min. Pendant que 2 équipes jouent\, 2 autres se préparent et les 2 dernières se reposent. Ce dispositif est le même sur tous les terrains. Chaque équipe jouera à 5 reprises durant la journée. \n  \n15h15 : Cérémonie de clôture\, remise de récompenses (lot de ballons – sous réserve) et d’un goûter offerts par le Comité Départemental de Handball. \nAprès la rencontre :\n\nFinaliser le reportage\, réaliser des productions écrites ou plastiques autour de la rencontre.\n\nSi vous réalisez un reportage ou une production autour de cette rencontre\, merci de le/la transmettre à Isabelle GROS : igros.usep94.ligue94@gmail.com .\n \n \n\nAide financière aux transports :\nPOUR LES CLASSES AFFILIÉES À L’USEP\, une participation financière  est prévue\, dans les conditions suivantes :  \n– Disposer d’un compte bancaire USEP ;\n \n– Les classes qui s’inscrivent s’engagent à gérer leurs transports :  \n\nchoix du cariste\,\norganisation des rotations\,\nassociation éventuelle avec d’autres écoles\, pour mutualiser le coût …\n\n– Transmission du devis à l’USEP 94 avant le 06/04/2024\n \n– Présence sur le site le jour prévu\, \n– Envoi de la facture acquittée ou\, à défaut\, de la photocopie de la facture et du chèque de règlement avant le 2 juillet 2024. \nLe remboursement ne pourra être fait qu’au profit du compte de l’association USEP\, exclusivement par virement (transmettre un IBAN). \nIl est soumis à l’accord de la commission des finances du Comité Départemental USEP sur les bases de 200 € maximum par classe. \nCe montant pourra être actualisé dans la limite de l’enveloppe budgétaire consacrée aux transports.  \n\nProtocole sanitaire :\nSelon l’évolution du contexte sanitaire\, nous veillerons d’adapter cette rencontre au protocole en vigueur. \nPour toutes précisions\, contactez : \nEric PIEDFER au 06 60 92 66 85 \nBruno GAILHAC au 06 82 05 63 19
URL:https://usep94.fr/evenement/scola-mini-hand-a-bonneuil-sur-marne-2-2-2/2024-05-28/
LOCATION:Complexe sportif Léo Lagrange – Bonneuil-sur-Marne\, 1 Rue Jean Catelas\, Bonneuil-sur-Marne\, 94380\, France
CATEGORIES:CIII,HTS,TS
ATTACH;FMTTYPE=image/png:https://usep94.fr/wp-content/uploads/Bandeau-Scola-Mini-Hand-1020x450.001.png
ORGANIZER;CN="Comit%C3%A9 D%C3%A9partemental USEP 94":MAILTO:usep94.ligue94@gmail.com
GEO:48.762656624076;2.4800283210052
X-APPLE-STRUCTURED-LOCATION;VALUE=URI;X-ADDRESS=Complexe sportif Léo Lagrange – Bonneuil-sur-Marne 1 Rue Jean Catelas Bonneuil-sur-Marne 94380 France;X-APPLE-RADIUS=500;X-TITLE=1 Rue Jean Catelas:geo:2.4800283210052,48.762656624076
END:VEVENT
BEGIN:VEVENT
DTSTART;VALUE=DATE:20240528
DTEND;VALUE=DATE:20240529
DTSTAMP:20260420T042535
CREATED:20240320T150755Z
LAST-MODIFIED:20240320T150856Z
UID:10000801-1716886800-1716915600@usep94.fr
SUMMARY:Scola Mini-Hand à Bonneuil-sur-Marne
DESCRIPTION:Pour clôturer votre module Handball\, l’USEP vous propose 2 journées de rencontres Mini-Hand sur gazon\, en partenariat avec le Comité Départemental de Handball du Val-de-Marne. \nAvant la rencontre : \n\nMettre à jour  ou créer sa fiche enseignant depuis la page d’accueil du site usep94.fr. (indiquer les informations concernant le profil des élèves à besoins particuliers pour lesquels une adaption serait nécessaire) ;\nInscrire sa classe à l’évènement.\n\nL’USEP 94 s’attache à l’inclusion de tous les élèves. Il vous appartient de nous solliciter pour envisager les adaptations nécessaires ! \n\nRéserver le car\, dès confirmation de la date retenue par l’USEP 94 ;\n\nInformer les familles sur la sortie (disposer d’un pique-nique\, d’une bouteille d’eau\, d’un sac à dos\, d’une tenue sportive adaptée\, d’une casquette\,…) ;\nTrouver 2 ou 3 accompagnateurs qui prendront en charge une équipe dans ses déplacements  ;\n\n\nMettre en place un module d’apprentissage Handball (ressources disponibles ICI) ;\n\nConstituer 3 ou 4 équipes  mixtes de 7 à 8 joueurs.\n\n \nLe jour de la rencontre :\n9h00-10h00 : Accueil des classes au Complexe Sportif Léo LAGRANGE de Bonneuil-sur-Marne (pour consulter l’itinéraire via GoogleMaps cliquer ICI)\n\n\nPrévoir\, une trousse de secours pour les “petits bobos”\, les PAI ainsi que les médicaments nécessaires\, les fiches d’urgence des enfants permettant de contacter les responsables légaux (exemple transmis en début d’année) ;\nPasser à l’accueil pour signaler votre arrivée. Afin de garantir la sécurité de tous\, les organisateurs porteront des chasubles rouges\, les enseignants des chasubles vertes et les accompagnateurs des chasubles jaunes (matériel remis à l’accueil\,dans le cadre du protocole Vigipirate) ;\nSi vous le souhaitez\, réaliser un reportage photo ou vidéo avec un groupe de petits reporters.\n\n\n \nDéroulement de la journée :\n9h00-10h00 : Accueil des classes et remise d’un lot de Tee-shirts qui servira de maillot pour les équipes. (maillot conservé en fin de journée). La classe sera affectée sur sa zone et ses terrains pour la journée. Sur chaque zone\, des responsables du CD Handball 94\, de l’USEP et de la section sportive scolaire Handball du collège Pissarro gèreront le mouvement des équipes. \n10h30-12h00 : Matchs selon le planning qui vous sera communiqué. \n12h00-13h30 : Pause déjeuner \n13h30-15h00 : Matchs (suite) \nLes rencontres seront arbitrées par de Jeunes Officiels UNSS et de Jeunes Officiels USEP issus des associations d’école USEP\, préalablement formés lors d’un stage organisé conjointement par l’UNSS et la section sportive scolaire Handball du collège PISSARRO de St Maur\, le Comité Départemental de Handball et l’USEP. (formation réservée aux AS USEP qui le souhaiteraient sur un mercredi de mai).  \nNB : Précisez aux accompagnateurs de la classe le dispositif d’arbitrage mis en place\, l’importance de ne pas intervenir dans les décisions ! Bien entendu\, durant toute la manifestation\, la classe reste sous la responsabilité de l’enseignant.  \nLes matchs dureront entre 8 et 10 min. Pendant que 2 équipes jouent\, 2 autres se préparent et les 2 dernières se reposent. Ce dispositif est le même sur tous les terrains. Chaque équipe jouera à 5 reprises durant la journée. \n  \n15h15 : Cérémonie de clôture\, remise de récompenses (lot de ballons – sous réserve) et d’un goûter offerts par le Comité Départemental de Handball. \nAprès la rencontre :\n\nFinaliser le reportage\, réaliser des productions écrites ou plastiques autour de la rencontre.\n\nSi vous réalisez un reportage ou une production autour de cette rencontre\, merci de le/la transmettre à Isabelle GROS : igros.usep94.ligue94@gmail.com .\n \n \n\nAide financière aux transports :\nPOUR LES CLASSES AFFILIÉES À L’USEP\, une participation financière  est prévue\, dans les conditions suivantes :  \n– Disposer d’un compte bancaire USEP ;\n \n– Les classes qui s’inscrivent s’engagent à gérer leurs transports :  \n\nchoix du cariste\,\norganisation des rotations\,\nassociation éventuelle avec d’autres écoles\, pour mutualiser le coût …\n\n– Transmission du devis à l’USEP 94 avant le 06/04/2024\n \n– Présence sur le site le jour prévu\, \n– Envoi de la facture acquittée ou\, à défaut\, de la photocopie de la facture et du chèque de règlement avant le 2 juillet 2024. \nLe remboursement ne pourra être fait qu’au profit du compte de l’association USEP\, exclusivement par virement (transmettre un IBAN). \nIl est soumis à l’accord de la commission des finances du Comité Départemental USEP sur les bases de 200 € maximum par classe. \nCe montant pourra être actualisé dans la limite de l’enveloppe budgétaire consacrée aux transports.  \n\nProtocole sanitaire :\nSelon l’évolution du contexte sanitaire\, nous veillerons d’adapter cette rencontre au protocole en vigueur. \nPour toutes précisions\, contactez : \nEric PIEDFER au 06 60 92 66 85 \nBruno GAILHAC au 06 82 05 63 19
URL:https://usep94.fr/evenement/scola-mini-hand-a-bonneuil-sur-marne-2-2/2024-05-28/
LOCATION:Complexe sportif Léo Lagrange – Bonneuil-sur-Marne\, 1 Rue Jean Catelas\, Bonneuil-sur-Marne\, 94380\, France
CATEGORIES:CIII,HTS,TS
ATTACH;FMTTYPE=image/png:https://usep94.fr/wp-content/uploads/Bandeau-Scola-Mini-Hand-1020x450.001.png
ORGANIZER;CN="Comit%C3%A9 D%C3%A9partemental USEP 94":MAILTO:usep94.ligue94@gmail.com
GEO:48.762656624076;2.4800283210052
X-APPLE-STRUCTURED-LOCATION;VALUE=URI;X-ADDRESS=Complexe sportif Léo Lagrange – Bonneuil-sur-Marne 1 Rue Jean Catelas Bonneuil-sur-Marne 94380 France;X-APPLE-RADIUS=500;X-TITLE=1 Rue Jean Catelas:geo:2.4800283210052,48.762656624076
END:VEVENT
END:VCALENDAR