BEGIN:VCALENDAR
VERSION:2.0
PRODID:-//USEP94 - ECPv6.10.1.1//NONSGML v1.0//EN
CALSCALE:GREGORIAN
METHOD:PUBLISH
X-WR-CALNAME:USEP94
X-ORIGINAL-URL:https://usep94.fr
X-WR-CALDESC:Évènements pour USEP94
REFRESH-INTERVAL;VALUE=DURATION:PT1H
X-Robots-Tag:noindex
X-PUBLISHED-TTL:PT1H
BEGIN:VTIMEZONE
TZID:Europe/Paris
BEGIN:DAYLIGHT
TZOFFSETFROM:+0100
TZOFFSETTO:+0200
TZNAME:CEST
DTSTART:20240331T010000
END:DAYLIGHT
BEGIN:STANDARD
TZOFFSETFROM:+0200
TZOFFSETTO:+0100
TZNAME:CET
DTSTART:20241027T010000
END:STANDARD
END:VTIMEZONE
BEGIN:VEVENT
DTSTART;TZID=Europe/Paris:20240613T093000
DTEND;TZID=Europe/Paris:20240613T160000
DTSTAMP:20260420T022949
CREATED:20240105T075920Z
LAST-MODIFIED:20240607T123247Z
UID:10000662-1718271000-1718294400@usep94.fr
SUMMARY:P'TIT TOUR Maternelles et Cycle 2 Jeux du Val de Marne 2024 ETAPE DE BOISSY
DESCRIPTION:Le vélo\, c’est : \n\nbon pour la santé (augmentation de l’activité physique)\,\nplus rapide que la voiture pour les trajets en ville (amélioration de la qualité de vie et des conditions de transports)\,\nbon pour la planète (réduction de la pollution et de la consommation d’énergies fossiles).\n\n Dans le cadre des Jeux du Val de Marne\, nous accueillerons les classes de maternelle et de cycle 2 pour une journée alliant randonnée pédestre (ou à vélo en milieu sécurisé) et ateliers de pratique de la petite reine abordant les blocs 1 et 2 du Savoir Rouler A Vélo.\n \nAvant la rencontre : \n\nMettre à jour  ou créer sa fiche enseignant depuis la page d’accueil du site usep94.fr.\nSe concerter avec le\, la\, les collègue(s) partageant le car avant d’inscrire sa classe ;\nInscrire sa classe à l’évènement\, en précisant le mode transport ;\n\nL’USEP 94 s’attache à l’inclusion de tous les élèves. Il vous appartient de nous solliciter afin que nous puissions vous aider ! \n\nSignaler dans votre comte enseignant-e le nombre d’élèves à besoins particuliers (PAI\, situation de handicap\, …) et les adaptations nécessaires.\n\n\nInformer les familles sur la sortie (pique-nique en limitant les déchets\, eau en quantité suffisante\, sac à dos \, tenue de sport robuste et adaptée\, casque\, …) ;\nTrouver des accompagnateurs pour encadrer cette sortie à la journée (prévoir 4 à 6 accompagnateurs par classe) ;\nMettre en place un module d’apprentissage de conduite d’objets roulants (draisiennes\, tricycles\,vélos\, trottinettes. Des outils sont disponibles dans la rubrique Ressources – Téléchargements – SRAV (cliquer ICI) \nANTICIPER LE TRANSPORT DES VELOS\, TRICYCLES… JUSQU’AU CENTRE AERE.\n\nAssurance : Tous les élèves devront être licenciés USEP pour des questions d’assurance individuelle accident et de responsabilité civile de l’USEP 94 organisateur. \nLe jour de la rencontre :\nRendez-vous à 9h30 au Centre Aéré ALP MAROLLES 154 Rue de Marolles\, 94470 Boissy-Saint-Léger (lien pour itinéraire via Google Maps ICI)\n\nIl est indispensable que les enfants disposent de vêtements adaptés aux conditions climatiques du moment.\n \n\nPrévoir\, une trousse de secours pour les “petits bobos”\, les PAI ainsi que les médicaments nécessaires\, les fiches d’urgence des enfants permettant de contacter les responsables légaux (exemple transmis en début d’année) ;\nPasser à l’accueil pour signaler votre arrivée. Afin de garantir la sécurité de tous\, les organisateurs porteront des chasubles rouges\, les enseignants des chasubles vertes et les accompagnateurs des chasubles jaunes (matériel remis à l’accueil\, dans le cadre du protocole Vigipirate) . Les enfants devront porter une étiquette ou un badge d’identification (nom\, prénom\, classe\, nom de l’enseignant\, école\, commune).\n\n\n\n\n\n \nDéroulement de la rencontre :\nHoraires :\n– Accueil des classes à partir de 9h30\n– Randonnée pédestre ou à vélo pour les cycles 2 dans les allées forestières de la forêt de Grosbois / Ateliers dans l’enceinte du Centre de Loisirs de 10h00 à 12h00\n– Pique-nique : de 12h00 à 12h45\n– Randonnée pédestre ou à vélo pour les cycles 2 dans les allées forestières de la forêt de Grosbois / Ateliers dans l’enceinte du Centre de Loisirs de 13h00 à 15h00\n– Remise des récompenses du Conseil Départemental de 15h00 à 15h30\n– Retour des classes vers les écoles après remise des récompenses. \nDéroulement : \nLa partie Randonnée s’effectuera à partir du Centre aéré et empruntera les allées forestières de la forêt de Grosbois. Un plan vous sera remis à votre arrivée afin de suivre le parcours\, de manière autonome avec votre classe. \nSECURITE : tous les enfants et tous les adultes devront OBLIGATOIREMENT PORTER UN CASQUE dès lors qu’ils se trouvent sur un vélo ou objet roulant. Pour la partie randonnée à vélo en milieu sécurisée : 2 adultes à vélo (avec au moins un téléphone portable) par groupe de 6 à 12 enfants. Enfants et adultes avec des vélos en état\, en particulier freins et transmission… \n3 ateliers de 40 minutes chacun seront proposés parmi : \n\nCirculation en Mini-ville avec la Prévention MAIF\, (bloc 2 du SRAV)\n\nParcours d’agilité en vélo\, draisienne\, ou tricycle (bloc 1 du SRAV)\n\nJeu des déménageurs en roulant (selon le nombre de trottinette\, draisienne ou\ntricycle disponibles)\,\nTri d’objets permettant de distinguer la bonne tenue pour faire du vélo (pour les maternelles)\n\n\nEncadrement :\n– 2 ou 3 bénévoles de la Prévention MAIF assureront un atelier de circulation\n– 2 ou 3 salariés ou bénévoles de l’USEP encadreront des ateliers\n– Prévoir 1 adulte pour 6 enfants pour chaque classe \nRôle des adultes  (enseignant-e-s et accompagnateurs-trices) :\n– Mise en place des ateliers autonomes (matériel et fiche explicative disponible\nsur place) ou accompagnement des enfants dans les ateliers encadrés\n– Encadrement de la randonnée\n– Surveillance du groupe \n\nSi vous le souhaitez\, réalisation avec les enfants (“Petits Reporters”) d’un reportage photos et/ou vidéo\n\nAprès la rencontre :\n\nFinaliser le reportage sur la rencontre (productions d’écrits\, productions plastiques…). Ces productions pourront nous être transmises par voie numérique à Isabelle GROS igros.usep94.ligue94@gmail.com\nTransmettre la facture de car acquittée par vos soins (mention acquittée ou facture + photocopie du chèque correspondant au règlement) avant le 2 JUILLET 2024.\n\n\n \nAide financière aux transports :\nUne participation financière de l’USEP est prévue\, dans les conditions suivantes : \n– Les classes qui s’inscrivent s’engagent à gérer leurs transports :  \n\nchoix du cariste\,\norganisation des rotations\,\nassociation éventuelle avec d’autres écoles\, pour mutualiser le coût …\n\n– Transmission du devis à l’USEP 94 avant le 06/04/2024 \n– Présence sur le site le jour prévu\, \n– Envoi de la facture acquittée ou\, à défaut\, de la photocopie de la facture et du chèque de règlement avant le 2 juillet 2024. \nLe remboursement ne pourra être fait qu’au profit d’une coopérative d’école ou d’une association USEP\, exclusivement par virement (transmettre un IBAN). \nIl est soumis à l’accord de la commission des finances du Comité Départemental USEP sur les bases de 200 € maximum par classe. \n– Ce montant pourra être actualisé à la hausse à l’appui des devis reçus dans les délais et dans la limite de l’enveloppe budgétaire consacrée aux transports.  \nLes retardataires se verront attribuer une participation limitée\, dans la mesure du reliquat budgétaire. \nLes remboursements interviendront à la rentrée scolaire\, à condition que la facture acquittée soit parvenue dans les délais et sous réserve que l’USEP ait touché la subvention du Conseil Départemental. \nProtocole sanitaire :\nDes adaptations pourront être mises en place en fonction de l’évolution du contexte sanitaire. \nPour toutes précisions\, contactez : \nEric PIEDFER au 06 60 92 66 85 \nBruno GAILHAC au 06 82 05 63 19
URL:https://usep94.fr/evenement/ptit-tour-maternelles-et-cycle-2-jeux-du-val-de-marne-2024-etape-de-boissy/2024-06-13/
LOCATION:Centre Aéré ALP Marolles à Boissy-Saint-Léger\, 154 rue de Marolles\, Boissy-Saint-Léger\, 94470\, France
CATEGORIES:CI,CII,HTS,TS
ATTACH;FMTTYPE=image/png:https://usep94.fr/wp-content/uploads/Bandeau-PTIT-TOUR-1020x450.001.png
ORGANIZER;CN="Comit%C3%A9 D%C3%A9partemental USEP 94":MAILTO:usep94.ligue94@gmail.com
GEO:48.7484521;2.5398775
X-APPLE-STRUCTURED-LOCATION;VALUE=URI;X-ADDRESS=Centre Aéré ALP Marolles à Boissy-Saint-Léger 154 rue de Marolles Boissy-Saint-Léger 94470 France;X-APPLE-RADIUS=500;X-TITLE=154 rue de Marolles:geo:2.5398775,48.7484521
END:VEVENT
BEGIN:VEVENT
DTSTART;TZID=Europe/Paris:20240613T100000
DTEND;TZID=Europe/Paris:20240613T160000
DTSTAMP:20260420T022949
CREATED:20240105T072620Z
LAST-MODIFIED:20240201T131035Z
UID:10000659-1718272800-1718294400@usep94.fr
SUMMARY:Rallye Vélo P'TIT TOUR Cycle 3 Jeux du Val de Marne 2024
DESCRIPTION:Le vélo\, c’est : \n\nbon pour la santé (augmentation de l’activité physique)\,\nplus rapide que la voiture pour les trajets en ville (amélioration de la qualité de vie et des conditions de transports)\,\nbon pour la planète (réduction de la pollution et de la consommation d’énergies fossiles).\n\nAlors rejoignez-nous pour un rallye à vélo\, dans les allées forestières de la forêt de Notre-Dame (La Queue-en-Brie) dans le cadre des Jeux du Val de Marne. \nAvant la rencontre : \n\nMettre à jour  ou créer sa fiche enseignant depuis la page d’accueil du site usep94.fr.\nSe concerter avec le\, la\, les collègue(s) partageant le car avant d’inscrire sa classe ;\nInscrire sa classe à l’évènement\, en précisant le mode transport ;\n\nL’USEP 94 s’attache à l’inclusion de tous les élèves. Il vous appartient de nous solliciter afin que nous puissions vous aider ! \n\nSignaler dans le formulaire le nombre d’élèves à besoins particuliers (PAI\, situation de handicap\, …) et les adaptations nécessaires.\n\n\nInformer les familles sur la sortie (pique-nique en limitant les déchets\, eau en quantité suffisante\, sac à dos et sac poubelle individuel\, tenue de sport robuste et adaptée\, casque\, vélo\, tenue de rechange…) ;\nTrouver des accompagnateurs qualifiés pour encadrer une sortie à vélo de 4 heures (prévoir 4 à 6 accompagnateurs par classe 2 adultes pour un groupe de 6 à 12 élèves) ;\nInformer les accompagnateurs sur le rôle qu’ils auront à tenir (voir dossier Rallye Vélo à télécharger ci-après)\nMettre en place un module d’apprentissage Savoir Rouler A Vélo permettant d’attester que les élèves disposent des compétences correspondant aux blocs 1 et 2 (outils disponibles en téléchargement ici).  \nApprendre à utiliser une carte : lire une carte simplifiée\, se repérer par superposition avec le terrain.\n\n\nLire et compléter le DOSSIER RALLYE VELO (à télécharger ici).\n \n\nANTICIPER LE TRANSPORT DES VELOS JUSQU’AU DOMAINE DEPARTEMENTAL DES MARMOUSETS.\n\nPour respecter le taux d’encadrement des sorties scolaires\, il est nécessaire d’envisager que les parents accompagnateurs participent à une réunion d’agrément en collaboration avec la Direction des Services Départementaux de l’Education Nationale (nous contacter en mars). \nAssurance : Tous les élèves devront être licenciés USEP pour des questions d’assurance individuelle accident et de responsabilité civile de l’USEP 94 organisateur. \nLe jour de la rencontre : Rendez-vous à 10h00 à la clairière située à l’angle du Chemin Noir et de la Route Royale (PLAN TELECHARGEABLE ICI)  \nIl est indispensable que les enfants disposent de vêtements adaptés\, voire d’une tenue de rechange.\nTenue : tenue de sport “”robuste”” avec pantalon long et chaussures de sport d’extérieur. Les enfants circuleront sur des  chemins\, parfois en sous-bois… boue\, ronces seront parfois de la partie… La tenue devra être adaptée aux conditions climatiques (vêtement de pluie\, ou chaud etc…).\n \n\nPrévoir\, une trousse de secours pour les “petits bobos”\, les PAI ainsi que les médicaments nécessaires\, les fiches d’urgence des enfants permettant de contacter les responsables légaux (exemple transmis en début d’année) ;\nPasser à l’accueil pour signaler votre arrivée. Afin de garantir la sécurité de tous\, les organisateurs porteront des chasubles rouges\, les enseignants des chasubles vertes et les accompagnateurs des chasubles jaunes (matériel remis à l’accueil\, dans le cadre du protocole Vigipirate) . Les enfants devront porter une étiquette ou un badge d’identification (nom\, prénom\, classe\, nom de l’enseignant\, école\, commune).\n\n\n \nDéroulement de la rencontre :\n\nIl s’agit d’un parcours cycliste en étoile dans la forêt\, avec des épreuves d’orientation\, de maîtrise et d’habileté\, d’endurance 4h soutenues de vélo. \nChaque groupe doit résoudre un maximum d’énigmes et dispose pour cela d’une zone de recherche sur une carte et d’indices… \nChaque épreuve est à réaliser dans un temps limité avec un retour obligatoire à la table des jeux…\n\nSECURITE : tous les enfants et tous les adultes devront OBLIGATOIREMENT être casqués\, 2 adultes à vélo (avec au moins un téléphone portable) par groupe de 6 à 12 enfants. Enfants et adultes avec des vélos en état\, en particulier freins et transmission…  \n\nSi vous le souhaitez\, réalisation avec les enfants (“Petits Reporters”) d’un reportage photos et/ou vidéo.\nA la fin de la journée : Remise des récompenses offertes par le Conseil Départemental (1 seule récompense sera remise par enfant présent\, sauf si la récompense a été remise à la classe dans le cadre d’une autre action Jeux du Val de Marne) .\n\nAprès la rencontre :\n\nFinaliser le reportage sur la rencontre (productions d’écrits\, productions plastiques…). Ces productions pourront nous être transmises par voie numérique à Isabelle GROS igros.usep94.ligue94@gmail.com\nTransmettre la facture de car acquittée par vos soins (mention acquittée ou facture + photocopie du chèque correspondant au règlement) avant le 2 JUILLET 2024.\n\n\n \nAide financière aux transports :\nUne participation financière de l’USEP est prévue\, dans les conditions suivantes : \n– Les classes qui s’inscrivent s’engagent à gérer leurs transports :  \n\nchoix du cariste\,\norganisation des rotations\,\nassociation éventuelle avec d’autres écoles\, pour mutualiser le coût …\n\n– Transmission du devis à l’USEP 94 avant le 06/04/2024\n \n– Présence sur le site le jour prévu\, \n– Envoi de la facture acquittée ou\, à défaut\, de la photocopie de la facture et du chèque de règlement avant le 2 juillet 2024. \nLe remboursement ne pourra être fait qu’au profit d’une coopérative d’école ou d’une association USEP\, exclusivement par virement (transmettre un IBAN). \nIl est soumis à l’accord de la commission des finances du Comité Départemental USEP sur les bases de 200 € maximum par classe. \n– Ce montant pourra être actualisé à la hausse à l’appui des devis reçus dans les délais et dans la limite de l’enveloppe budgétaire consacrée aux transports.  \nLes retardataires se verront attribuer une participation limitée\, dans la mesure du reliquat budgétaire. \nLes remboursements interviendront à la rentrée scolaire\, à condition que la facture acquittée soit parvenue dans les délais et sous réserve que l’USEP ait touché la subvention du Conseil Départemental. \nProtocole sanitaire :\nDes adaptations pourront être mises en place en fonction de l’évolution du contexte sanitaire. \nPour toutes précisions\, contactez : \nEric PIEDFER au 06 60 92 66 85 \nBruno GAILHAC au 06 82 05 63 19
URL:https://usep94.fr/evenement/rallye-velo-ptit-tour-cycle-3-jeux-du-val-de-marne-2024/2024-06-13/
LOCATION:Forêt Domaniale de Notre Dame (Marmousets)
CATEGORIES:CIII,HTS,TS
ATTACH;FMTTYPE=image/png:https://usep94.fr/wp-content/uploads/Bandeau-RALLYE-PTIT-TOUR-1020x450.001-1.png
ORGANIZER;CN="Comit%C3%A9 D%C3%A9partemental USEP 94":MAILTO:usep94.ligue94@gmail.com
GEO:48.766710274822;2.5864000324551
END:VEVENT
END:VCALENDAR