BEGIN:VCALENDAR
VERSION:2.0
PRODID:-//USEP94 - ECPv6.10.1.1//NONSGML v1.0//EN
CALSCALE:GREGORIAN
METHOD:PUBLISH
X-WR-CALNAME:USEP94
X-ORIGINAL-URL:https://usep94.fr
X-WR-CALDESC:Évènements pour USEP94
REFRESH-INTERVAL;VALUE=DURATION:PT1H
X-Robots-Tag:noindex
X-PUBLISHED-TTL:PT1H
BEGIN:VTIMEZONE
TZID:Europe/Paris
BEGIN:DAYLIGHT
TZOFFSETFROM:+0100
TZOFFSETTO:+0200
TZNAME:CEST
DTSTART:20240331T010000
END:DAYLIGHT
BEGIN:STANDARD
TZOFFSETFROM:+0200
TZOFFSETTO:+0100
TZNAME:CET
DTSTART:20241027T010000
END:STANDARD
END:VTIMEZONE
BEGIN:VEVENT
DTSTART;TZID=Europe/Paris:20240918T090000
DTEND;TZID=Europe/Paris:20240918T120000
DTSTAMP:20260419T213614
CREATED:20240909T054245Z
LAST-MODIFIED:20240909T101200Z
UID:10000854-1726650000-1726660800@usep94.fr
SUMMARY:Journée Nationale du Sport Scolaire 2024
DESCRIPTION:Cette journée a pour objectifs de faire connaître et promouvoir les activités des associations sportives d’école ou d’établissements et des fédérations sportives scolaires tant auprès des élèves que des parents\, du mouvement sportif et des collectivités territoriales. \nQuelques jours après la clôture des Jeux Olympiques et Paralympiques\, cette 14ème édition se déroulera sur le thème de la célébration et de l’universalisme.\n \n\n\n\n \nAfin de créer une dynamique de liaison école/collège\, l’USEP 94 et l’UNSS 94 ont fait le choix de cibler les établissements scolaires d’un même secteur géographique au parc départemental de la Plage Bleue de Valenton. \nPublic concerné : \n\nélèves de CM1 et CM2 des associations USEP des écoles publiques de Valenton ;\nélèves de 6e des collèges Flagon et Samuel Paty de Valenton.\n\nAvant la rencontre : \n\nInscrire sa classe à l’évènement ;\nInformer les familles sur cette rencontre hors-temps scolaire (horaires\, lieu\, matériel nécessaire : bouteille d’eau dans un sac à dos\, tenue sportive) ;\nTrouver des accompagnateurs (1 par groupe\, soit 1 pour 12 enfants) ;\nConstituer des groupes de 12 enfants.\n\nLe jour de la rencontre : \n\nPrévoir\, une trousse de secours pour les “petits bobos”\, les PAI ainsi que les médicaments nécessaires\, les fiches d’urgence des enfants permettant de contacter les responsables légaux ;\n\n8h45-9h00 : Accueil des participants  au Parc Départemental de la Plage Bleue de Valenton (plan Google Maps ICI)\n \n \n9h00-12h00 : Cérémonie protocolaire d’ouverture de la JNSS puis échauffement Break Dance avant de participer à un défi sportif “123 Courez\, Lancez\, Visez” combinant cumul de distance parcourue en courant et activités de lancer (vortex\, disque\, Tir Laser).\n \nN’hésitez pas à réaliser avec les enfants (“Petits Reporters”) un reportage photos et/ou vidéo. \nAprès la rencontre : \n\nPoursuivre la réflexion sur l’inclusion à travers un remue-méninges. \nFinaliser le reportage sur la rencontre (productions d’écrits\, productions plastiques…).\n\nPour toutes précisions\, contactez : \nEric PIEDFER au 06 60 92 66 85 \nBruno GAILHAC au 06 82 05 63 19
URL:https://usep94.fr/evenement/journee-nationale-du-sport-scolaire-2024/
LOCATION:Parc Départemental de la Plage Bleue – zone circulaire (Valenton)\, 29 Avenue de Valenton\, VALENTON\, 94460\, France
CATEGORIES:CIII,HTS
ATTACH;FMTTYPE=image/png:https://usep94.fr/wp-content/uploads/Bandeau-JNSS-2024-1020x450.001.png
GEO:48.752815693344;2.4660193298967
X-APPLE-STRUCTURED-LOCATION;VALUE=URI;X-ADDRESS=Parc Départemental de la Plage Bleue – zone circulaire (Valenton) 29 Avenue de Valenton VALENTON 94460 France;X-APPLE-RADIUS=500;X-TITLE=29 Avenue de Valenton:geo:2.4660193298967,48.752815693344
END:VEVENT
END:VCALENDAR