BEGIN:VCALENDAR
VERSION:2.0
PRODID:-//USEP94 - ECPv6.10.1.1//NONSGML v1.0//EN
CALSCALE:GREGORIAN
METHOD:PUBLISH
X-ORIGINAL-URL:https://usep94.fr
X-WR-CALDESC:Évènements pour USEP94
REFRESH-INTERVAL;VALUE=DURATION:PT1H
X-Robots-Tag:noindex
X-PUBLISHED-TTL:PT1H
BEGIN:VTIMEZONE
TZID:Europe/Paris
BEGIN:DAYLIGHT
TZOFFSETFROM:+0100
TZOFFSETTO:+0200
TZNAME:CEST
DTSTART:20240331T010000
END:DAYLIGHT
BEGIN:STANDARD
TZOFFSETFROM:+0200
TZOFFSETTO:+0100
TZNAME:CET
DTSTART:20241027T010000
END:STANDARD
END:VTIMEZONE
BEGIN:VEVENT
DTSTART;TZID=Europe/Paris:20241201T100000
DTEND;TZID=Europe/Paris:20241201T160000
DTSTAMP:20260419T175825
CREATED:20240917T063508Z
LAST-MODIFIED:20241111T111210Z
UID:10000855-1733047200-1733068800@usep94.fr
SUMMARY:Les Jeux d'U7EP Familles
DESCRIPTION:Cette journée a pour objectif de permettre à chaque enfant licencié(e) à l’association USEP de son école de faire connaître et promouvoir les activités USEP à sa famille.  \nVenez découvrir l’USEP\, ses activités pour mieux partager ses valeurs ! \nPublic concerné : \n\ntout licencié enfant dans une association d’école qui doit participer aux activités avec un de ses parents (à minima)\, ainsi que ses frères et soeurs\ntout enseignant licencié ou non souhaitant découvrir l’USEP\n\n\nIMPORTANT : \nLa capacité d’accueil de cet événement est limitée à 300 participants. Les inscriptions seront closes le 01/10/2024 à minuit. Nous procèderons à un arbitrage si le nombre d’inscrits dépassait la jauge de 300 inscrits afin de permettre à chaque association le souhaitant d’être présente. \n\nOBLIGATIONS POUR PARTICIPER A CET EVENEMENT :\n\n\n\nAssociation USEP (ré)affiliée ;\n\n\nInscriptions réalisées depuis le compte de chaque enseignant(e) ;\n\n\n\nChaque enfant licencié(e) présent(e) doit être accompagné(e) impérativement d’un parent adulte (à minima)\, tout au long de la journée ;\n\n\n\nPrésence indispensable d’un(e) représentant(e) de l’association\, le jour de cette rencontre.\n\n\n\nProgramme de la journée : \nToutes les activités proposées s’effectueront en famille \n9h45 – 10h15 : Accueil des participants  au Gymnase du Parc Interdépartemental des Sports de Choisy-le-Roi (plan ICI) autour d’un café\, d’un thé\, d’un jus de fruits\n \n10h30-12h30 : Chasse aux indices autour du lac du Parc Interdépartemental des Sports // Ateliers sportifs et réflexifs (kinball\, volley-assis\, Tir laser\, débat)\n \n12h30-13h15 : Pique-Nique “Et si on essayait le O déchet ou presque” apporté par les participants. (OUTILS ICI). Nous nous chargerons du café.\n \n13h30-15h30 : Chasse aux indices autour du lac du Parc Interdépartemental des Sports // Ateliers sportifs et réflexifs (kinball\, volley-assis\, Tir laser\, débat) en inversant les groupes du matin.\n \n15h30-16h15 : “Entrons dans la danse” (p’tit bal de danses traditionnelles) \nInscriptions : \nIMPORTANT : Renseigner le formulaire d’inscription depuis votre compte personnel\n \n\n Sélectionner\, dans votre liste\, les enfants participants\n Compléter les informations FAMILLE concernant le NOM Prénom\, lien de parenté (adultes) et/ou NOM Prénom Âge (frères et/ou soeurs non licencié-e-s à l’USEP) qui participeront avec l’inscrit. \n\nNous prendrons une assurance à la journée pour ces participants non licenciés.  \nPour vous aider à communiquer avec les familles\, vous pouvez télécharger ICI un document à imprimer en 2 pages sur 1.\n \nN’hésitez pas à nous faire parvenir une carte postale de votre association expliquant ce que représente l’USEP pour vous ! \n(support libre ou inspiré du modèle proposé ICI à transmettre avant le 10 octobre minuit à bgailhac.usep94.ligue94@gmail.com ) \nMerci pour votre contribution ! \n \nPour toutes précisions\, contactez : \nBruno GAILHAC au 06 82 05 63 19
URL:https://usep94.fr/evenement/les-jeux-du7ep-familles-3/
LOCATION:Gymnase du Parc Interdépartemental des Sports de Choisy-le-Roi\, au pied de la Gare du RER D CRETEIL POMPADOUR\, France
CATEGORIES:CI,CII,CIII,HTS
ATTACH;FMTTYPE=image/png:https://usep94.fr/wp-content/uploads/Bandeau-U7EP-Familles-1020x450.001.png
ORGANIZER;CN="Comit%C3%A9 D%C3%A9partemental USEP 94":MAILTO:usep94.ligue94@gmail.com
GEO:48.771195;2.434458
X-APPLE-STRUCTURED-LOCATION;VALUE=URI;X-ADDRESS=Gymnase du Parc Interdépartemental des Sports de Choisy-le-Roi au pied de la Gare du RER D CRETEIL POMPADOUR France;X-APPLE-RADIUS=500;X-TITLE=au pied de la Gare du RER D CRETEIL POMPADOUR:geo:2.434458,48.771195
END:VEVENT
END:VCALENDAR