BEGIN:VCALENDAR
VERSION:2.0
PRODID:-//USEP94 - ECPv6.10.1.1//NONSGML v1.0//EN
CALSCALE:GREGORIAN
METHOD:PUBLISH
X-ORIGINAL-URL:https://usep94.fr
X-WR-CALDESC:Évènements pour USEP94
REFRESH-INTERVAL;VALUE=DURATION:PT1H
X-Robots-Tag:noindex
X-PUBLISHED-TTL:PT1H
BEGIN:VTIMEZONE
TZID:Europe/Paris
BEGIN:DAYLIGHT
TZOFFSETFROM:+0100
TZOFFSETTO:+0200
TZNAME:CEST
DTSTART:20230326T010000
END:DAYLIGHT
BEGIN:STANDARD
TZOFFSETFROM:+0200
TZOFFSETTO:+0100
TZNAME:CET
DTSTART:20231029T010000
END:STANDARD
END:VTIMEZONE
BEGIN:VEVENT
DTSTART;VALUE=DATE:20230314
DTEND;VALUE=DATE:20230315
DTSTAMP:20260420T014940
CREATED:20230210T162948Z
LAST-MODIFIED:20230315T103304Z
UID:10000671-1678752000-1678838399@usep94.fr
SUMMARY:Citius ! Plus Vite ! (Lapierre feuille ciseaux - Alfortville)
DESCRIPTION:Faites vivre à vos élèves l’épreuve reine de l’athlétisme : LE SPRINT ! \nChambre d’appel \nJuge \nStarter \nTable de chronométrage au 1/100e de seconde\n \nPhoto finish  \nComparaison de sa vitesse avec celle d’athlètes de prestige (Jesse OWENS et Usain BOLT) \nL’association « Plus Vite ! »\, soutenue par la FFA et par l’USEP94\, propose un projet de découverte de l’univers de la course de vitesse en athlétisme et de la photo finish…comme dans les « vraies » compétitions d’athlétisme.  \nPublic concerné : \n\nélèves du CE2 au CM2 licenciés à l’USEP Les Petits Rouges d’Alfortville\n\n\nAvant la rencontre : \n\nInscrire sa classe à l’évènement\, en mettant à jour la liste des élèves qui sera transmise à “Plus Vite” pour paramétrer le système de chronométrage ;\nSignaler dans le formulaire le nombre d’élèves à besoins particuliers (PAI\, situation de handicap\, …) ainsi que les adaptions à envisager ;\nMettre en place un module d’athlétisme ;\nSensibiliser les élèves au déroulement d’une compétition d’athlétisme de haut niveau en visionnant\, notamment\, des courses mettant en scène Jesse Owens et/ou Usain Bolt ;\nPermettre aux élèves de constituer les binômes qui “s’opposeront”.\n\n\n\n\n \nPendant le rencontre : \nProtocole : Prévoir un créneau d’1h00 par classe (échauffement\, chambre d’appel\, test\, visionnage photo\, remise de diplôme) \n\nDistance du test de 20 à 50 m\, selon le lieu de pratique ; \nDépart donné au pistolet relié au système de chronométrage électronique d’une précision 1/100e de seconde ; \nGrâce à la photo finish\, les élèves peuvent courir par deux\, ou même par trois. \nAprès la course\, l’élève visualise la photo finish\, sa performance et sa vitesse moyenne de course\, plus représentative qu’un temps sur une distance. \nA la fin de la séance\, chaque élève reçoit un diplôme nominatif\, avec sa meilleure performance. \n\nLes élèves peuvent s’impliquer dans l’organisation du test : juge chambre d’appel\, starter\, photo finish\, saisie des performances… \nEnvisager un groupe de reporters chargés de prendre des photos ou vidéos\, d’interviewer les participants sur leurs sensations\, et les membres de l’association “Plus Vite !”. \nAprès la formation : \n\nProlongement de la sensibilisation autour de l’olympisme (Film : La couleur de la Victoire\, Expolympique\, …) ;\nProduction d’écrit ou reportage sur l’événement. Ces productions pourront être transmises à usep94.materiel@gmail.com\n\n\n \nPour toutes précisions\, contactez : \nEric PIEDFER au 06 60 92 66 85 \nBruno GAILHAC au 06 82 05 63 19
URL:https://usep94.fr/evenement/citius-plus-vite-lapierre-feuille-ciseaux-alfortville/
LOCATION:Gymnase du Parc Interdépartemental des Sports de Choisy-le-Roi\, au pied de la Gare du RER D CRETEIL POMPADOUR\, France
CATEGORIES:CII,CIII,TS
ATTACH;FMTTYPE=image/png:https://usep94.fr/wp-content/uploads/Bandeau-Citius-Plus-Vite-1020x450.001.png
ORGANIZER;CN="Comit%C3%A9 D%C3%A9partemental USEP 94":MAILTO:usep94.ligue94@gmail.com
GEO:48.771195;2.434458
X-APPLE-STRUCTURED-LOCATION;VALUE=URI;X-ADDRESS=Gymnase du Parc Interdépartemental des Sports de Choisy-le-Roi au pied de la Gare du RER D CRETEIL POMPADOUR France;X-APPLE-RADIUS=500;X-TITLE=au pied de la Gare du RER D CRETEIL POMPADOUR:geo:2.434458,48.771195
END:VEVENT
END:VCALENDAR