BEGIN:VCALENDAR
VERSION:2.0
PRODID:-//USEP94 - ECPv6.10.1.1//NONSGML v1.0//EN
CALSCALE:GREGORIAN
METHOD:PUBLISH
X-WR-CALNAME:USEP94
X-ORIGINAL-URL:https://usep94.fr
X-WR-CALDESC:Évènements pour USEP94
REFRESH-INTERVAL;VALUE=DURATION:PT1H
X-Robots-Tag:noindex
X-PUBLISHED-TTL:PT1H
BEGIN:VTIMEZONE
TZID:Europe/Paris
BEGIN:DAYLIGHT
TZOFFSETFROM:+0100
TZOFFSETTO:+0200
TZNAME:CEST
DTSTART:20230326T010000
END:DAYLIGHT
BEGIN:STANDARD
TZOFFSETFROM:+0200
TZOFFSETTO:+0100
TZNAME:CET
DTSTART:20231029T010000
END:STANDARD
END:VTIMEZONE
BEGIN:VEVENT
DTSTART;VALUE=DATE:20230418
DTEND;VALUE=DATE:20230419
DTSTAMP:20260419T234811
CREATED:20230127T175925Z
LAST-MODIFIED:20230403T172533Z
UID:10000657-1681776000-1681862399@usep94.fr
SUMMARY:"Tous au bal" de Chevilly-Larue
DESCRIPTION:L’USEP 94 s’associe à l’équipe de La Faribole pour vous proposer un bal de danses traditionnelles à destination des Cycles 2 et 3.  \nCette forme de collectif ne s’inscrit pas dans une performance mais dans le plaisir de se découvrir\, d’oser s’exprimer\, de partager des règles\, d’assumer des rôles et des responsabilités pour apprendre à vivre ensemble. \nAlors\, venez et entrez dans la danse… \nAvant la rencontre : \n\nMettre à jour  ou créer sa fiche enseignant depuis la page d’accueil du site usep94.fr.\nSe concerter avec le\, la\, les collègue(s) partageant le car avant d’inscrire sa classe ;\nInscrire sa classe à l’évènement\, en précisant le mode transport ;\n\nL’USEP 94 s’attache à l’inclusion de tous les élèves. Il vous appartient de nous solliciter afin que nous puissions vous aider ! \n\nSignaler dans le formulaire le nombre d’élèves à besoins particuliers (PAI\, situation de handicap\, …) et les adaptations nécessaires.\n\n\nInformer les familles sur la sortie (disposer  d’une bouteille d’eau\, envisager une tenue…) ;\nTrouver des accompagnateurs les adultes pourront participer aux danses ;\nPréparer 4 danses parmi les 6 proposées :\n \n\nPour le Cycle 2 :\n\nJ’ai vu le loup et le renard (Berry) ; \nPlume tes oies(Berry) ;\n Contredanse à 6 ; \nLa chèvre (Berry) ;\nHavermeuleke (Flandres) ;\nYesh (Israël) \n\n\nPour le Cycle 3 :\n\nBig set Mixer  (Angleterre) ;\nHavermeuleke (Flandres) ;\n Alargai vos Raparigas (Portugal)  ;\n Stern polka (Allemagne) ;\n Yesh (Israël) ;\n La boulangère de Bretagne (France). \n\n\n\n\nPréparer 1 création en utilisant ou non les cartes à danser disponibles en téléchargement ICI\, sur la musique transmise après les formations de novembre 2022. \n\nPour vous aider dans votre préparation\, vous pouvez retrouver des vidéos de ces danses sur le site de la La Faribole : CLIQUER ICI.\nLe jour de la rencontre : Rendez-vous au Gymnase Marcel Paul (lien vers itinéraire Google Maps ICI  (en respectant les horaires du planning qui vous sera transmis)\n\nPrévoir\, une trousse de secours pour les “petits bobos”\, les PAI ainsi que les médicaments nécessaires\, les fiches d’urgence des enfants permettant de contacter les responsables légaux (exemple transmis en début d’année) ;\nPasser à l’accueil pour signaler votre arrivée. Afin de garantir la sécurité de tous\, les organisateurs porteront des chasubles rouges\, les enseignants des chasubles vertes et les accompagnateurs des chasubles jaunes (matériel remis à l’accueil\, dans le cadre du protocole Vigipirate) .\n\n \nDéroulement du bal :\n\n2 créneaux par demi-journée (9h00-10h30\, 10h30-12h00\, 13h30-15h00\, 15h00-16h15) ;\nParticipation aux danses apprises avec de nouveaux partenaires des autres classes\, ou uniquement avec leurs camarades de classe (selon les conditions sanitaires) ;\nPrésentation des créations de chaque classe ;\nPrésentation des instruments par les musiciens de La Faribole.\nSi vous le souhaitez\, réalisation avec les enfants (“Petits Reporters”) d’un reportage photos et/ou vidéo.\n\nAprès la rencontre :\n\nFinaliser le reportage sur la rencontre (productions d’écrits\, productions plastiques…). Ces productions pourront nous être transmises par voie numérique à usep94.materiel@gmail.com\n\n \nProtocole sanitaire :\nDes adaptations pourront être mises en place en fonction de l’évolution du contexte sanitaire. \nPour toutes précisions\, contactez : \nEric PIEDFER au 06 60 92 66 85 \nBruno GAILHAC au 06 82 05 63 19
URL:https://usep94.fr/evenement/tous-au-bal-de-chevilly-larue/
LOCATION:Gymnase Marcel Paul (Chevilly-Larue)\, 16 rue de Bretagne\, Chevilly-Larue\, 94550\, France
CATEGORIES:CII,CIII,TS
ATTACH;FMTTYPE=image/png:https://usep94.fr/wp-content/uploads/Bandeau-Tous-au-bal-1020x450.001.png
ORGANIZER;CN="Comit%C3%A9 D%C3%A9partemental USEP 94":MAILTO:usep94.ligue94@gmail.com
GEO:48.7749021;2.3637404
X-APPLE-STRUCTURED-LOCATION;VALUE=URI;X-ADDRESS=Gymnase Marcel Paul (Chevilly-Larue) 16 rue de Bretagne Chevilly-Larue 94550 France;X-APPLE-RADIUS=500;X-TITLE=16 rue de Bretagne:geo:2.3637404,48.7749021
END:VEVENT
BEGIN:VEVENT
DTSTART;VALUE=DATE:20230418
DTEND;VALUE=DATE:20230419
DTSTAMP:20260419T234811
CREATED:20230321T124951Z
LAST-MODIFIED:20230412T140100Z
UID:10000561-1681776000-1681862399@usep94.fr
SUMMARY:Défi Course d'Orientation Génération 2024 (Cycle 2 Cité Educative VSG)
DESCRIPTION:L’USEP vous propose un défi Course d’Orientation dans le cadre du label Génération 2024 et en perspective des JO de Paris 2024.\n \nUne activité adaptable à tous les niveaux de classe pour : \n\napprendre à se repérer dans l’espace ;\nélaborer et mémoriser un itinéraire ;\ncollaborer et mettre en place des stratégies ;\n\nlutter contre la sédentarité en pratiquant la course d’orientation.\n\n \nPrésentation du Défi CO G2024 Mots/parcours USEP94 extrait de la chaîne UFOLEP94 – USEP94 sur Vimeo. \nAvant la rencontre : \n\nMettre à jour  ou créer sa fiche enseignant depuis la page d’accueil du site usep94.fr.\nMettre à jour sa liste d’élèves sur son compte enseignant ;\nInscrire sa classe à l’évènement ;\nSignaler dans le formulaire le nombre d’élèves à besoins particuliers (PAI\, situation de handicap\, …).\n\nL’USEP 94 s’attache à l’inclusion de tous les élèves. Pour les élèves à mobilité réduite\, nous disposons d’une joëlette et pouvons former les élèves de la classe à sa manipulation et mobiliser une équipe spécifique de bénévoles… il vous appartient de nous solliciter ! \n \n\nRegarder le film de présentation de la course d’orientation (cf. lien au-dessus)\n\nTélécharger les différents outils sur la CORFID (disponibles ICI);\nPrésenter le dispositif aux élèves ainsi que les outils qu’ils devront manipuler ;\nPréparer les équipes (si travail en équipe).\n\nLe jour de la rencontre : Rendez-vous au Stade Gérard ROUSSEL de Villeneuve-Saint-Georges   (selon le planning établi)\n\nPrévoir\, une trousse de secours pour les “petits bobos”\, les PAI ainsi que les médicaments nécessaires\, les fiches d’urgence des enfants permettant de contacter les responsables légaux (exemple transmis en début d’année) ;\nPasser à l’accueil pour signaler votre arrivée. Afin de garantir la sécurité de tous\, les organisateurs porteront des chasubles rouges\, les enseignants des chasubles vertes et les accompagnateurs des chasubles jaunes (matériel remis à l’accueil\,dans le cadre du protocole Vigipirate) ;\n\n \nDéroulement de l’épreuve :\nCeci est une proposition de base\, elle pourra être adaptée par vos soins selon les spécificités locales \n\n2 à 3 créneaux de 50 minutes par demi-journée ;\nAccueil d’une classe par créneau (avec possibilité de tutorat\, selon votre organisation) ; \nRemise des puces électroniques et rappel des consignes qui auront été expliquées en classe en amont ;\nLancement de l’activité : selon le niveau de classe\, recherche d’une illustration\, d’une série d’illustrations ou d’une suite ordonnée de lettres composant un mot ; \nRetour à la table de jeu pour vérifier si l’élève a réussi son 1er défi ;\nEffaçage de la puce  ;\nRemise ou choix d’un nouveau défi ;\nLes enseignants gèrent la participation de chacun de leurs élèves pendant les 50 minutes.\n\nAprès la rencontre :\n\nEnvisager les prolongements autour de la découverte d’épreuves olympiques\, d’évènements ayant marqué l’histoire des J.O. .\n\nSi vous réalisez un reportage ou une production autour de cette rencontre\, merci de le/la transmettre à Isabelle GROS : igros.usep94.ligue94@gmail.com .\n \n \nProtocole sanitaire :\nCette activité est compatible avec les différents niveaux du protocole sanitaire\, tant que les activités sportives sont autorisées (1 classe par créneau\, désinfection du matériel après chaque créneau\, absence de brassage).\n \nPour toutes précisions\, contactez : \nEric PIEDFER au 06 60 92 66 85 \nBruno GAILHAC au 06 82 05 63 19
URL:https://usep94.fr/evenement/defi-course-dorientation-generation-2024-cycle-2-cite-educative-vsg/
LOCATION:Stade Gérard ROUSSEL de Villeneuve-Saint-Georges\, 1 rue Léon Mauris\, Villeneuve-Saint-Georges\, 94190\, France
CATEGORIES:CII,TS
ATTACH;FMTTYPE=image/png:https://usep94.fr/wp-content/uploads/Bandeau-CORFID-1020x450.001.png
ORGANIZER;CN="Comit%C3%A9 D%C3%A9partemental USEP 94":MAILTO:usep94.ligue94@gmail.com
GEO:48.7433726;2.4487826
X-APPLE-STRUCTURED-LOCATION;VALUE=URI;X-ADDRESS=Stade Gérard ROUSSEL de Villeneuve-Saint-Georges 1 rue Léon Mauris Villeneuve-Saint-Georges 94190 France;X-APPLE-RADIUS=500;X-TITLE=1 rue Léon Mauris:geo:2.4487826,48.7433726
END:VEVENT
BEGIN:VEVENT
DTSTART;VALUE=DATE:20230418
DTEND;VALUE=DATE:20230419
DTSTAMP:20260419T234811
CREATED:20230421T133538Z
LAST-MODIFIED:20230421T134843Z
UID:10000591-1681776000-1681862399@usep94.fr
SUMMARY:L'aventure SpéléoBox USEP
DESCRIPTION:Durant toute une journée\, les enfants effectuent une randonnée pédestre avec découverte du milieu forestier et de différents monuments (aqueduc de la Vanne\, ruines du télégraphe de Chappe\, anciennes carrières de grès\, …)\, encadrés par des guides USEP et accompagnés par les enseignants et accompagnateurs des classes. La randonnée pédestre présente 3 degrés de difficultés : \n– un parcours réservé aux classes de Moyenne et Grande Section\, \n– un parcours à dominante sportive\, \n– un parcours à dominante culturelle et découverte. \nOBLIGATIONS POUR PARTICIPER A CET EVENEMENT : \n\nAssociation USEP (ré)affiliée ;\nIntégralité des enfants adhérents et enregistrés nominativement sur le compte de l’enseignant\, via le site usep94.fr. \n\nAvant la rencontre :  \n\nSe concerter avec le\, la\, les collègue(s) partageant le car avant d’inscrire sa classe ;\nInscrire sa classe à l’évènement\, en indiquant dans le cadre commentaire sur les transports\, avec qui vous partagez le car ;\nSignaler dans le formulaire le nombre d’élèves à besoins particuliers (PAI\, situation de handicap\, …).\n\nL’USEP 94 s’attache à l’inclusion de tous les élèves. Pour les élèves à mobilité réduite\, nous disposons d’une joëlette et pouvons former les élèves de la classe à sa manipulation et mobiliser une équipe spécifique de bénévoles… il vous appartient de nous solliciter ! \n																														 \n\nRéserver le car. Les AS USEP pourront bénéficier d’une aide annuelle au financement du transport dans la limite d’une enveloppe dédiée de 500 €. Nous ne pourrons verser cette aide que sur présentation de facture établie à l’ordre de votre association USEP d’école. (aucun remboursement ne pourra être effectué sur la COOPERATIVE D’ECOLE) ;\nInformer les familles sur la sortie (disposer d’un pique-nique\, d’une bouteille d’eau\, d’un sac à dos\, d’une tenue sportive adaptée\, d’un sac poubelle individuel permettant de porter ses déchets personnels) ;\nTrouver des accompagnateurs capables de marcher 4 à 5 heures sur terrain accidenté à une moyenne de 2/3 km/heure ;\nSensibiliser les élèves à l’élaboration d’un pique-nique 0 déchet (ou presque) et à la charte du promeneur en forêt ;\nExploiter quelques fiches sur le milieu forestier mises à votre disposition dans notre espace de téléchargement ;\n\n																														 \nLe jour de la rencontre : Rendez-vous à 10h00 au Parking de la Canche aux Merciers   coordonnées GPS : 48.390452\,2.552572  Plan d’accès ICI \nL’équipe USEP disposera d’un référent Vigipirate – COVID\, Formateur de Premiers Secours qui pourra intervenir en cas de besoin. Tous les guides seront en liaison radio pendant les randonnées.  \nVous trouverez une information sur les tiques\, potentiellement présentes en forêt à cette période\, lien ICI. \nToute la journée\, les enfants seront sensibilisés aux bonnes pratiques en forêt : respect des chemins balisés\, nettoyage des lieux de pique-nique (“déchet + 1”)\, limitation maximum de l’impact sur les milieux traversés (pas de cueillettes\, collecte limitée pour étude en classe : pommes de pin\, feuilles mortes\, etc). \nA la mi journée\, les différentes classes se retrouveront\, avec chacune un espace dédié pour le pique-nique. \n\nVérifier que tous les participants ont une tenue adaptée et confortable (chaussures de sport ou de marche\, vêtement de pluie\, casquette\, sac à dos avec 2 bretelles : pas de sac à bandoulière)\, un pique-nique\, une bouteille ou gourde d’eau (au moins 0\,5 l.). PAS DE PIQUE-NIQUE COLLECTIF DE CANTINE SCOLAIRE ;\nPrévoir\, une trousse de secours pour les “petits bobos”\, les PAI ainsi que les médicaments nécessaires\, les fiches d’urgence des enfants permettant de contacter les responsables légaux (modèle disponible Lien ICI) ;\nRespecter la charte du promeneur en forêt ;\nRéaliser avec les enfants (“Petits Reporters”) un reportage photos et/ou vidéo.\n\nPour les CE2\, CM1 et CM2\, un micro-chantier ONF (15 minutes) pourra être proposé en fin de randonnée\, dans le cadre de la convention USEP 94/ONF. \n															\n																														 \nAprès la rencontre : \n\nExploiter quelques fiches sur le milieu forestier mises à votre disposition dans notre espace de téléchargement ;\nPoursuivre la réflexion sur l’impact carbone de nos modes de déplacement et de consommation à l’aide des fiches thermoplanète (à partir du CE2) mises à disposition dans notre espace de téléchargement ;\nFinaliser le reportage sur la rencontre (productions d’écrits\, productions plastiques…).\n\n																														 \nProtocole sanitaire : \nSelon l’évolution du contexte sanitaire\, la randonnée sera soumise au protocole en vigueur (respect des gestes barrières\, mesures de distanciation physique\, lavage des mains\, port du masque…). \nPour toutes précisions\, contactez : \nEric PIEDFER au 06 60 92 66 85 \nBruno GAILHAC au 06 82 05 63 19
URL:https://usep94.fr/evenement/laventure-speleobox-usep/2023-04-18/
CATEGORIES:CI,CII,CIII,TS
ATTACH;FMTTYPE=image/png:https://usep94.fr/wp-content/uploads/Bandeau-evenement-site-usep-SB.png
ORGANIZER;CN="Comit%C3%A9 D%C3%A9partemental USEP 94":MAILTO:usep94.ligue94@gmail.com
END:VEVENT
END:VCALENDAR