BEGIN:VCALENDAR
VERSION:2.0
PRODID:-//USEP94 - ECPv6.10.1.1//NONSGML v1.0//EN
CALSCALE:GREGORIAN
METHOD:PUBLISH
X-WR-CALNAME:USEP94
X-ORIGINAL-URL:https://usep94.fr
X-WR-CALDESC:Évènements pour USEP94
REFRESH-INTERVAL;VALUE=DURATION:PT1H
X-Robots-Tag:noindex
X-PUBLISHED-TTL:PT1H
BEGIN:VTIMEZONE
TZID:Europe/Paris
BEGIN:DAYLIGHT
TZOFFSETFROM:+0100
TZOFFSETTO:+0200
TZNAME:CEST
DTSTART:20230326T010000
END:DAYLIGHT
BEGIN:STANDARD
TZOFFSETFROM:+0200
TZOFFSETTO:+0100
TZNAME:CET
DTSTART:20231029T010000
END:STANDARD
END:VTIMEZONE
BEGIN:VEVENT
DTSTART;VALUE=DATE:20230523
DTEND;VALUE=DATE:20230524
DTSTAMP:20260419T223228
CREATED:20221208T134911Z
LAST-MODIFIED:20230602T055936Z
UID:10000638-1684800000-1684886399@usep94.fr
SUMMARY:Défis Rando Nature Avril / Mai / Juin
DESCRIPTION:Durant toute une journée\, les enfants effectuent une randonnée pédestre avec découverte du milieu forestier et de différents monuments (aqueduc de la Vanne\, ruines du télégraphe de Chappe\, anciennes carrières de grès\, …)\, encadrés par des guides USEP et accompagnés par les enseignants et accompagnateurs des classes. La randonnée pédestre présente 3 degrés de difficultés : \n– un parcours réservé aux classes de Moyenne et Grande Section\, \n– un parcours à dominante sportive\, \n– un parcours à dominante culturelle et découverte. \nNOUVEAUTE 2023 !\n2 nouvelles formules seront testées pour des classes volontaires\, sur cette saison Avril\, Mai\, Juin. \n\nLe parcours conté (Cycle 3) : circuit au cours duquel\, la classe rencontrera un personnage qui racontera l’histoire de Fontainebleau. (En amont\, un travail devra être mis en oeuvre au sein de la classe) ;\nLa grande traversée : parcours partant de la Canche aux Merciers pour rejoindre le Parking de Noisy-sur-Ecole. (nécessite une bonne pratique de la marche de tous les participants\, un peu plus de 3 heures de marche).\n\nPour ces deux formules\, une prise de contact sera nécessaire avant validation du parcours par l’équipe USEP. \nOBLIGATIONS POUR PARTICIPER A CET EVENEMENT :\n \n\nAssociation USEP (ré)affiliée ;\nInformations personnelles mises à jour avec numéro de téléphone portable (contact en cas d’urgence).\nIntégralité des enfants adhérents et enregistrés nominativement sur le compte de l’enseignant\, via le site usep94.fr ;\nFormulaire d’inscription renseigné dans son intégralité.\n\nLES DEMANDES NE SATISFAISANT PAS A CES OBLIGATIONS SERONT REJETEES. \n \nPour chaque journée\, 100 à 150 enfants de la MS au CM2 peuvent être accueillis soit 4 à 6 classes en moyenne (exceptionnellement\, 7 à 8 classes\, en fonction des effectifs des classes et de la disponibilité des bénévoles). \nAvant la rencontre :  \n\nSe concerter avec le\, la\, les collègue(s) partageant le car avant d’inscrire sa classe ;\nInscrire sa classe à l’évènement\, en indiquant dans le cadre commentaire sur les transports\, avec qui vous partagez le car ;\nSignaler dans le formulaire le nombre d’élèves à besoins particuliers (PAI\, situation de handicap\, …).\n\nL’USEP 94 s’attache à l’inclusion de tous les élèves. Pour les élèves à mobilité réduite\, nous disposons d’une joëlette et pouvons former les élèves de la classe à sa manipulation et mobiliser une équipe spécifique de bénévoles… il vous appartient de nous solliciter ! \n \n\nRéserver le car. Les AS USEP pourront bénéficier d’une aide annuelle au financement du transport dans la limite d’une enveloppe dédiée de 500 €. Nous ne pourrons verser cette aide que sur présentation de facture établie à l’ordre de votre association USEP d’école. (aucun remboursement ne pourra être effectué sur la COOPERATIVE D’ECOLE) ;\nInformer les familles sur la sortie (disposer d’un pique-nique\, d’une bouteille d’eau\, d’un sac à dos\, d’une tenue sportive adaptée\, d’un sac poubelle individuel permettant de porter ses déchets personnels) ;\nTrouver des accompagnateurs capables de marcher 4 à 5 heures sur terrain accidenté à une moyenne de 2/3 km/heure ;\nSensibiliser les élèves à l’élaboration d’un pique-nique 0 déchet (ou presque) et à la charte du promeneur en forêt ;\nExploiter quelques fiches sur le milieu forestier mises à votre disposition dans notre espace de téléchargement ;\n\n \nLe jour de la rencontre : Rendez-vous à 10h00 au Parking de la Canche aux Merciers   coordonnées GPS : 48.390452\,2.552572  Plan d’accès ICI\n \nL’équipe USEP disposera d’un référent Vigipirate – COVID\, Formateur de Premiers Secours qui pourra intervenir en cas de besoin. Tous les guides seront en liaison radio pendant les randonnées.\n \nVous trouverez une information sur les tiques\, potentiellement présentes en forêt à cette période\, lien ICI. \nToute la journée\, les enfants seront sensibilisés aux bonnes pratiques en forêt : respect des chemins balisés\, nettoyage des lieux de pique-nique (“déchet + 1”)\, limitation maximum de l’impact sur les milieux traversés (pas de cueillettes\, collecte limitée pour étude en classe : pommes de pin\, feuilles mortes\, etc). \nA la mi journée\, les différentes classes se retrouveront\, avec chacune un espace dédié pour le pique-nique. \n\nVérifier que tous les participants ont une tenue adaptée et confortable (chaussures de sport ou de marche\, vêtement de pluie\, casquette\, sac à dos avec 2 bretelles : pas de sac à bandoulière)\, un pique-nique\, une bouteille ou gourde d’eau (au moins 0\,5 l.). PAS DE PIQUE-NIQUE COLLECTIF DE CANTINE SCOLAIRE ;\nPrévoir\, une trousse de secours pour les “petits bobos”\, les PAI ainsi que les médicaments nécessaires\, les fiches d’urgence des enfants permettant de contacter les responsables légaux (modèle disponible Lien ICI) ;\nRespecter la charte du promeneur en forêt ;\nSi vous le souhaitez\, réaliser avec les enfants (“Petits Reporters”) un reportage photos et/ou vidéo.\n\nPour les CE2\, CM1 et CM2\, un micro-chantier ONF (15 minutes) pourra être proposé en fin de randonnée\, dans le cadre de la convention USEP 94/ONF. \n\n \nAprès la rencontre : \n\nExploiter quelques fiches sur le milieu forestier mises à votre disposition dans notre espace de téléchargement ;\nPoursuivre la réflexion sur l’impact carbone de nos modes de déplacement et de consommation à l’aide des fiches thermoplanète (à partir du CE2) mises à disposition dans notre espace de téléchargement ;\nFinaliser le reportage sur la rencontre (productions d’écrits\, productions plastiques…).\n\n \nProtocole sanitaire : \nSelon l’évolution du contexte sanitaire\, la randonnée sera soumise au protocole en vigueur (respect des gestes barrières\, mesures de distanciation physique\, lavage des mains\, port du masque…). \nPour toutes précisions\, contactez : \nEric PIEDFER au 06 60 92 66 85 \nBruno GAILHAC au 06 82 05 63 19
URL:https://usep94.fr/evenement/defis-rando-nature-avril-mai-juin/2023-05-23/
LOCATION:Parking de la Canche aux merciers\, France
CATEGORIES:CI,CII,CIII,TS
ATTACH;FMTTYPE=image/png:https://usep94.fr/wp-content/uploads/Photo-Bandeau-DRN.001.png
ORGANIZER;CN="Comit%C3%A9 D%C3%A9partemental USEP 94":MAILTO:usep94.ligue94@gmail.com
GEO:48.390365166475;2.5536592588956
END:VEVENT
BEGIN:VEVENT
DTSTART;VALUE=DATE:20230523
DTEND;VALUE=DATE:20230524
DTSTAMP:20260419T223228
CREATED:20230213T145739Z
LAST-MODIFIED:20230516T111201Z
UID:10000532-1684800000-1684886399@usep94.fr
SUMMARY:Scola Mini-Hand à Bonneuil-sur-Marne
DESCRIPTION:Pour clôturer votre module Handball\, l’USEP vous propose 2 journées de rencontres Mini-Hand sur gazon\, en partenariat avec le Comité Départemental de Handball du Val-de-Marne. \nAvant la rencontre : \n\nMettre à jour  ou créer sa fiche enseignant depuis la page d’accueil du site usep94.fr.\nInscrire sa classe à l’évènement ;\nSignaler dans le formulaire le nombre d’élèves à besoins particuliers (PAI\, situation de handicap\, …) ;\n\nL’USEP 94 s’attache à l’inclusion de tous les élèves. Il vous appartient de nous solliciter pour envisager les adaptations nécessaires ! \n\nRéserver le car\, dès confirmation de la date retenue par l’USEP 94 ;\n\nInformer les familles sur la sortie (disposer d’un pique-nique\, d’une bouteille d’eau\, d’un sac à dos\, d’une tenue sportive adaptée\, d’une casquette\,…) ;\nTrouver 2 ou 3 accompagnateurs qui prendront en charge une équipe dans ses déplacements  ;\n\n\nMettre en place un module d’apprentissage Handball (ressources disponibles ICI) ;\n\nConstituer 3 ou 4 équipes  mixtes de 7 à 8 joueurs.\n\n \nLe jour de la rencontre :\n9h00-10h00 : Accueil des classe au Complexe Sportif Léo LAGRANGE de Bonneuil-sur-Marne (pour consulter l’itinéraire via GoogleMaps cliquer ICI)\n\n\nPrévoir\, une trousse de secours pour les “petits bobos”\, les PAI ainsi que les médicaments nécessaires\, les fiches d’urgence des enfants permettant de contacter les responsables légaux (exemple transmis en début d’année) ;\nPasser à l’accueil pour signaler votre arrivée. Afin de garantir la sécurité de tous\, les organisateurs porteront des chasubles rouges\, les enseignants des chasubles vertes et les accompagnateurs des chasubles jaunes (matériel remis à l’accueil\,dans le cadre du protocole Vigipirate) ;\nSi vous le souhaitez\, réaliser un reportage photo ou vidéo avec un groupe de petits reporters.\n\n\n \nDéroulement de la journée :\n9h00-10h00 : Accueil des classes et remise d’un lot de Tee-shirts qui servira de maillot pour les équipes. (maillot conservé en fin de journée). La classe sera affectée sur sa zone et ses terrains pour la journée. Sur chaque zone\, des responsables du CD Handball 94\, de l’USEP et de la section sportive scolaire Handball du collège Pissarro gèreront le mouvement des équipes. \n10h30-12h00 : Matchs selon le planning qui vous sera communiqué. \n12h00-13h30 : Pause déjeuner \n13h30-15h00 : Matchs (suite) \nLes rencontres seront arbitrées par de Jeunes Officiels UNSS et de Jeunes Officiels USEP issus des associations d’école USEP\, préalablement formés lors d’un stage organisé conjointement par l’UNSS et la section sportive scolaire Handball du collège PISSARRO de St Maur\, le Comité Départemental de Handball et l’USEP. (formation réservée aux AS USEP qui le souhaiteraient sur un mercredi de mai).  \nNB : Précisez aux accompagnateurs de la classe le dispositif d’arbitrage mis en place\, l’importance de ne pas intervenir dans les décisions ! Bien entendu\, durant toute la manifestation\, la classe reste sous la responsabilité de l’enseignant.  \nLes matchs dureront entre 8 et 10 min. Pendant que 2 équipes jouent\, 2 autres se préparent et les 2 dernières se reposent. Ce dispositif est le même sur tous les terrains. Chaque équipe jouera à 5 reprises durant la journée. \n  \n15h15 : Cérémonie de clôture\, remise de récompenses (lot de ballons – sous réserve) et d’un goûter offerts par le Comité Départemental de Handball. \nAprès la rencontre :\n\nFinaliser le reportage\, réaliser des productions écrites ou plastiques autour de la rencontre.\n\nSi vous réalisez un reportage ou une production autour de cette rencontre\, merci de le/la transmettre à Isabelle GROS : igros.usep94.ligue94@gmail.com .\n \n \nProtocole sanitaire :\nSelon l’évolution du contexte sanitaire\, nous veillerons d’adapter cette rencontre au protocole en vigueur. \nPour toutes précisions\, contactez : \nEric PIEDFER au 06 60 92 66 85 \nBruno GAILHAC au 06 82 05 63 19
URL:https://usep94.fr/evenement/scola-mini-hand-a-bonneuil-sur-marne/2023-05-23/
LOCATION:Complexe sportif Léo Lagrange – Bonneuil-sur-Marne\, 1 Rue Jean Catelas\, Bonneuil-sur-Marne\, 94380\, France
CATEGORIES:CIII,HTS,TS
ATTACH;FMTTYPE=image/png:https://usep94.fr/wp-content/uploads/Bandeau-Scola-Mini-Hand-1020x450.001.png
ORGANIZER;CN="Comit%C3%A9 D%C3%A9partemental USEP 94":MAILTO:usep94.ligue94@gmail.com
GEO:48.762656624076;2.4800283210052
X-APPLE-STRUCTURED-LOCATION;VALUE=URI;X-ADDRESS=Complexe sportif Léo Lagrange – Bonneuil-sur-Marne 1 Rue Jean Catelas Bonneuil-sur-Marne 94380 France;X-APPLE-RADIUS=500;X-TITLE=1 Rue Jean Catelas:geo:2.4800283210052,48.762656624076
END:VEVENT
BEGIN:VEVENT
DTSTART;VALUE=DATE:20230523
DTEND;VALUE=DATE:20230524
DTSTAMP:20260419T223228
CREATED:20230516T162901Z
LAST-MODIFIED:20230516T163725Z
UID:10000593-1684800000-1684886399@usep94.fr
SUMMARY:Citius ! Plus Vite ! (Tous les sports à Jaurès - Champigny-sur-Marne)
DESCRIPTION:Faites vivre à vos élèves l’épreuve reine de l’athlétisme : LE SPRINT ! \nChambre d’appel \nJuge \nStarter \nTable de chronométrage au 1/100e de seconde\n \nPhoto finish  \nComparaison de sa vitesse avec celle d’athlètes de prestige (Jesse OWENS et Usain BOLT) \nL’association « Plus Vite ! »\, soutenue par la FFA et par l’USEP94\, propose un projet de découverte de l’univers de la course de vitesse en athlétisme et de la photo finish…comme dans les « vraies » compétitions d’athlétisme.  \nPublic concerné : \n\nélèves du CE2 au CM2 licenciés à l’USEP Tous les sports à Jaurès de Champigny-sur-Marne.\n\n\nLieu : Piste d’athlétisme du Parc du Tremblay \nAvant la rencontre : \n\nInscrire sa classe à l’évènement\, en mettant à jour la liste des élèves qui sera transmise à “Plus Vite” pour paramétrer le système de chronométrage ;\nSignaler dans le formulaire le nombre d’élèves à besoins particuliers (PAI\, situation de handicap\, …) ainsi que les adaptions à envisager ;\nMettre en place un module d’athlétisme ;\nSensibiliser les élèves au déroulement d’une compétition d’athlétisme de haut niveau en visionnant\, notamment\, des courses mettant en scène Jesse Owens et/ou Usain Bolt ;\nPermettre aux élèves de constituer les binômes qui “s’opposeront”.\n\n\n\n\n \nPendant le rencontre : \nProtocole : Prévoir un créneau d’1h00 par classe (échauffement\, chambre d’appel\, test\, visionnage photo\, remise de diplôme) \n\nDistance du test de 20 à 50 m\, selon le lieu de pratique ; \nDépart donné au pistolet relié au système de chronométrage électronique d’une précision 1/100e de seconde ; \nGrâce à la photo finish\, les élèves peuvent courir par deux\, ou même par trois. \nAprès la course\, l’élève visualise la photo finish\, sa performance et sa vitesse moyenne de course\, plus représentative qu’un temps sur une distance. \nA la fin de la séance\, chaque élève reçoit un diplôme nominatif\, avec sa meilleure performance. \n\nLes élèves peuvent s’impliquer dans l’organisation du test : juge chambre d’appel\, starter\, photo finish\, saisie des performances… \nEnvisager un groupe de reporters chargés de prendre des photos ou vidéos\, d’interviewer les participants sur leurs sensations\, et les membres de l’association “Plus Vite !”. \nAprès la formation : \n\nProlongement de la sensibilisation autour de l’olympisme (Film : La couleur de la Victoire\, Expolympique\, …) ;\nProduction d’écrit ou reportage sur l’événement. Ces productions pourront être transmises à usep94.materiel@gmail.com\n\n\n \nPour toutes précisions\, contactez : \nEric PIEDFER au 06 60 92 66 85 \nBruno GAILHAC au 06 82 05 63 19
URL:https://usep94.fr/evenement/citius-plus-vite-tous-les-sports-a-jaures-champigny-sur-marne/
LOCATION:Parc Interdépartemental des Sports du Tremblay – Champigny-sur-Marne\, 161 Boulevard de Stalingrad\, Champigny-sur-Marne\, 94500\, France
CATEGORIES:CII,CIII,HTS,TS
ATTACH;FMTTYPE=image/png:https://usep94.fr/wp-content/uploads/Bandeau-Citius-Plus-Vite-1020x450.001.png
ORGANIZER;CN="Comit%C3%A9 D%C3%A9partemental USEP 94":MAILTO:usep94.ligue94@gmail.com
GEO:48.8276041;2.4935315
X-APPLE-STRUCTURED-LOCATION;VALUE=URI;X-ADDRESS=Parc Interdépartemental des Sports du Tremblay – Champigny-sur-Marne 161 Boulevard de Stalingrad Champigny-sur-Marne 94500 France;X-APPLE-RADIUS=500;X-TITLE=161 Boulevard de Stalingrad:geo:2.4935315,48.8276041
END:VEVENT
END:VCALENDAR