BEGIN:VCALENDAR
VERSION:2.0
PRODID:-//USEP94 - ECPv6.10.1.1//NONSGML v1.0//EN
CALSCALE:GREGORIAN
METHOD:PUBLISH
X-WR-CALNAME:USEP94
X-ORIGINAL-URL:https://usep94.fr
X-WR-CALDESC:Évènements pour USEP94
REFRESH-INTERVAL;VALUE=DURATION:PT1H
X-Robots-Tag:noindex
X-PUBLISHED-TTL:PT1H
BEGIN:VTIMEZONE
TZID:Europe/Paris
BEGIN:DAYLIGHT
TZOFFSETFROM:+0100
TZOFFSETTO:+0200
TZNAME:CEST
DTSTART:20230326T010000
END:DAYLIGHT
BEGIN:STANDARD
TZOFFSETFROM:+0200
TZOFFSETTO:+0100
TZNAME:CET
DTSTART:20231029T010000
END:STANDARD
END:VTIMEZONE
BEGIN:VEVENT
DTSTART;VALUE=DATE:20230608
DTEND;VALUE=DATE:20230609
DTSTAMP:20260419T204115
CREATED:20230217T132613Z
LAST-MODIFIED:20230217T145508Z
UID:10000538-1686182400-1686268799@usep94.fr
SUMMARY:Scola Rugby Toucher 2"\, Jeux du Val-de-Marne à Champigny
DESCRIPTION:Dans le cadre des Jeux du Val-de-Marne\, venez clôturer votre module RUGBY en participant à Scola Rugby. Une journée de rencontres inoubliables\, avec le soutien du Comité Départemental de Rugby. \nATTENTION : Il ne s’agit pas d’une journée de découverte de l’activité mais l’aboutissement d’un travail mené en amont par les classes de Cycles 2 et 3\, à travers un tournoi.  \nToutefois\, nous pourrons adapter la formule de rencontre si votre classe n’a pas encore vécu de module d’apprentissage (ateliers le matin\, rencontres l’après-midi). \nAvant la rencontre :\n\nMettre à jour  ou créer sa fiche enseignant depuis la page d’accueil du site usep94.fr.\nSe concerter avec les collègues pour définir les horaires et organiser une mutualisation ou une éventuelle rotation de car (si possible au regard des horaires)\nInscrire sa classe à l’évènement en mettant en commentaire l’organisation des transports (car partagé avec…\, rotation prévue\, …) ;\nSignaler dans le formulaire le nombre d’élèves à besoins particuliers (PAI\, situation de handicap\, …) ;\n\nL’USEP 94 s’attache à l’inclusion de tous les élèves. Il vous appartient de nous solliciter pour envisager les adaptations nécessaires ! \n\nRéserver le car\, dès confirmation de la date retenue par l’USEP 94 ;\nInformer les familles sur la sortie (disposer d’un pique-nique\, d’une bouteille d’eau\, d’un sac à dos\, d’une tenue sportive adaptée\, d’une casquette\, …) ;\nTrouver des accompagnateurs (2 ou 3) qui prendront en charge une équipe dans ses déplacements  ;\n\n\nMettre en place un module d’apprentissage Rugby Toucher 2 secondes (outils disponibles en téléchargement ICI) en abordant les différents rôles sociaux présentés  (arbitres\, maître du temps\, responsable de la marque\, …) ;\nPréparer un HAKA qui sera présenté aux autres classes après la pause repas.\n\n																														 \nLe jour de la rencontre :\n9h00-10h00 : Accueil des classes au Stade d’honneur du Parc Interdépartemental des Sports du Tremblay à Champigny-sur-Marne Choisy (pour consulter l’itinéraire via GoogleMaps cliquer ICI) \n\nPrévoir\, une trousse de secours pour les “petits bobos”\, les PAI ainsi que les médicaments nécessaires\, les fiches d’urgence des enfants permettant de contacter les responsables légaux (exemple transmis en début d’année) ;\nPasser à l’accueil pour signaler votre arrivée. Afin de garantir la sécurité de tous\, les organisateurs porteront des chasubles rouges\, les enseignants des chasubles vertes et les accompagnateurs des chasubles jaunes (matériel remis à l’accueil\,dans le cadre du protocole Vigipirate) ;\n\nUne couverture sanitaire sera assurée par la Protection Civile ou la Croix Rouge Française en collaboration avec les services publics d’urgence. En cas de nécessité\, les enfants seront évacués sur les urgences pédiatriques de l’hôpital le plus proche (en général : Hôpital Saint-Camille à Bry-sur-Marne). Il est souhaitable qu’un enfant évacué soit accompagné d’un adulte autre que l’enseignant(e) qui doit rester avec sa classe en termes de responsabilité. Cela nécessite d’en informer vos accompagnateurs. \n\nSi vous le souhaitez\, réaliser un reportage photo ou vidéo avec un groupe de petits reporters.\n\n  \n																														 \nDéroulement de la journée :\n9h00-10h00 : Accueil des classes et remise des fiches de route et du matériel d’identification des adultes \n10h15-12h00 : 1ère série de matchs ou ateliers (si pas de module mis en place)\, avec le soutien d’éducateurs sportifs du Comité Départemental de Rugby \n12h00-13h15 : Pause déjeuner \n13h15-13h30 : Présentation des HAKAS \n13h30-15h00 : matchs \n15h15 : Remise des récompenses offertes par le Conseil Départemental (1 seule récompense sera remise par enfant présent\, sauf si la récompense a été remise à la classe dans le cadre d’une autre action Jeux du Val de Marne) . \nAprès la rencontre :\n\nFinaliser le reportage\, réaliser des productions écrites ou plastiques autour de la rencontre.\n\nSi vous réalisez un reportage ou une production autour de cette rencontre\, merci de le/la transmettre à Isabelle GROS : igros.usep94.ligue94@gmail.com . \n\nTransmettre la facture de car acquittée par vos soins (mention acquittée ou facture + photocopie du chèque correspondant au règlement) avant le 2 JUILLET 2023.\n\n																														 \nAide financière aux transports :\nUne participation financière de l’USEP est prévue\, dans les conditions suivantes :  \n– Les classes qui s’inscrivent s’engagent à gérer leurs transports :  \n\nchoix du cariste\,\norganisation des rotations\,\nassociation éventuelle avec d’autres écoles\, pour mutualiser le coût …\n\n– Présence sur le site le jour prévu\, \n– Envoi de la facture acquittée ou\, à défaut\, de la photocopie de la facture et du chèque de règlement avant le 2 juillet 2023. \nLe remboursement ne pourra être fait qu’au profit d’une coopérative d’école ou d’une association USEP\, exclusivement par virement (transmettre un IBAN). \nIl est soumis à l’accord de la commission des finances du Comité Départemental USEP sur les bases de 200 € maximum par classe. \n– Ce montant pourra être actualisé à la hausse à l’appui des devis reçus dans les délais et dans la limite de l’enveloppe budgétaire consacrée aux transports.  \nLes retardataires se verront attribuer une participation limitée\, dans la mesure du reliquat budgétaire. \nLes remboursements interviendront à la rentrée scolaire\, à condition que la facture acquittée soit parvenue dans les délais et sous réserve que l’USEP ait touché la subvention Conseil Départemental. \nProtocole sanitaire :\nSelon l’évolution du contexte sanitaire\, nous veillerons à adapter cette rencontre au protocole en vigueur. \nPour toutes précisions\, contactez : \nEric PIEDFER au 06 60 92 66 85 \nBruno GAILHAC au 06 82 05 63 19
URL:https://usep94.fr/evenement/scola-rugby-toucher-2-jeux-du-val-de-marne-a-champigny/
LOCATION:Parc Interdépartemental des Sports du Tremblay – Champigny-sur-Marne\, 161 Boulevard de Stalingrad\, Champigny-sur-Marne\, 94500\, France
CATEGORIES:CII,CIII,HTS,TS
ATTACH;FMTTYPE=image/png:https://usep94.fr/wp-content/uploads/Bandeau-Scola-Rugby-1020x450.001.png
ORGANIZER;CN="Comit%C3%A9 D%C3%A9partemental USEP 94":MAILTO:usep94.ligue94@gmail.com
GEO:48.8276041;2.4935315
X-APPLE-STRUCTURED-LOCATION;VALUE=URI;X-ADDRESS=Parc Interdépartemental des Sports du Tremblay – Champigny-sur-Marne 161 Boulevard de Stalingrad Champigny-sur-Marne 94500 France;X-APPLE-RADIUS=500;X-TITLE=161 Boulevard de Stalingrad:geo:2.4935315,48.8276041
END:VEVENT
BEGIN:VEVENT
DTSTART;VALUE=DATE:20230608
DTEND;VALUE=DATE:20230609
DTSTAMP:20260419T204115
CREATED:20230217T151818Z
LAST-MODIFIED:20230217T163826Z
UID:10000540-1686182400-1686268799@usep94.fr
SUMMARY:"Tous au bal" des Jeux du Val de Marne à Champigny
DESCRIPTION:L’USEP 94 s’associe à l’équipe de La Faribole pour vous proposer un bal de danses traditionnelles à destination des Cycles 2 et 3\, dans le cadre des Jeux du Val de Marne.  \nCette forme de collectif ne s’inscrit pas dans une performance mais dans le plaisir de se découvrir\, d’oser s’exprimer\, de partager des règles\, d’assumer des rôles et des responsabilités pour apprendre à vivre ensemble. \nCE BAL SERA LE DERNIER POUR LA FARIBOLE QUI ARRETERA DE SE PRODUIRE :  PREPAREZ LEUR UNE SURPRISE ET OFFREZ LEUR VOS PLUS BEAUX SOURIRES ! \nAlors\, venez et entrez dans la danse… \nAvant la rencontre : \n\nMettre à jour  ou créer sa fiche enseignant depuis la page d’accueil du site usep94.fr.\nSe concerter avec le\, la\, les collègue(s) partageant le car avant d’inscrire sa classe ;\nInscrire sa classe à l’évènement\, en précisant le mode transport ;\n\nL’USEP 94 s’attache à l’inclusion de tous les élèves. Il vous appartient de nous solliciter afin que nous puissions vous aider ! \n\nSignaler dans le formulaire le nombre d’élèves à besoins particuliers (PAI\, situation de handicap\, …) et les adaptations nécessaires.\n\n\nInformer les familles sur la sortie (disposer  d’une bouteille d’eau\, envisager une tenue…) ;\nTrouver des accompagnateurs les adultes pourront participer aux danses ;\nPréparer 4 danses parmi les 6 proposées : \n\nPour le Cycle 2 :\n\nJ’ai vu le loup et le renard (Berry) ; \nPlume tes oies(Berry) ;\n Contredanse à 6 ; \nLa chèvre (Berry) ;\nHavermeuleke (Flandres) ;\nYesh (Israël) \n\n\nPour le Cycle 3 :\n\nBig set Mixer  (Angleterre) ;\nHavermeuleke (Flandres) ;\n Alargai vos Raparigas (Portugal)  ;\n Stern polka (Allemagne) ;\n Yesh (Israël) ;\n La boulangère de Bretagne (France). \n\n\n\n\nPréparer 1 création en utilisant ou non les cartes à danser disponibles en téléchargement ICI\, sur la musique transmise après les formations de novembre 2022. \n\nPour vous aider dans votre préparation\, vous pouvez retrouver des vidéos de ces danses sur le site de la La Faribole : CLIQUER ICI.\nLe jour de la rencontre : Rendez-vous au Parc Interdépartemental des Sports du Tremblay à Champigny-sur-Marne (lien vers itinéraire Google Maps ICI  (en respectant les horaires du planning qui vous sera transmis)\n\nPrévoir\, une trousse de secours pour les “petits bobos”\, les PAI ainsi que les médicaments nécessaires\, les fiches d’urgence des enfants permettant de contacter les responsables légaux (exemple transmis en début d’année) ;\nPasser à l’accueil pour signaler votre arrivée. Afin de garantir la sécurité de tous\, les organisateurs porteront des chasubles rouges\, les enseignants des chasubles vertes et les accompagnateurs des chasubles jaunes (matériel remis à l’accueil\, dans le cadre du protocole Vigipirate) .\n\nUne couverture sanitaire sera assurée par la Protection Civile ou la Croix Rouge Française en collaboration avec les services publics d’urgence. En cas de nécessité\, les enfants seront évacués sur les urgences pédiatriques de l’hôpital le plus proche (en général : Hôpital Saint-Camille à Bry-sur-Marne). Il est souhaitable qu’un enfant évacué soit accompagné d’un adulte autre que l’enseignant(e) qui doit rester avec sa classe en termes de responsabilité. Cela nécessite d’en informer vos accompagnateurs. \n																														 \nDéroulement du bal :\n\n2 créneaux par demi-journée (9h00-10h30\, 10h30-12h00\, 13h30-15h00\, 15h00-16h15) ;\nParticipation aux danses apprises avec de nouveaux partenaires des autres classes\, ou uniquement avec leurs camarades de classe (selon les conditions sanitaires) ;\nPrésentation des créations de chaque classe ;\nPrésentation des instruments par les musiciens de La Faribole.\nSi vous le souhaitez\, réalisation avec les enfants (“Petits Reporters”) d’un reportage photos et/ou vidéo.\nA la fin de chaque bal : Remise des récompenses offertes par le Conseil Départemental (1 seule récompense sera remise par enfant présent\, sauf si la récompense a été remise à la classe dans le cadre d’une autre action Jeux du Val de Marne) .\n\nAprès la rencontre :\n\nFinaliser le reportage sur la rencontre (productions d’écrits\, productions plastiques…). Ces productions pourront nous être transmises par voie numérique à Isabelle GROS igros.usep94.ligue94@gmail.com\nTransmettre la facture de car acquittée par vos soins (mention acquittée ou facture + photocopie du chèque correspondant au règlement) avant le 2 JUILLET 2023.\n\n															\n																														 \nAide financière aux transports :\nUne participation financière de l’USEP est prévue\, dans les conditions suivantes : \n– Les classes qui s’inscrivent s’engagent à gérer leurs transports :  \n\nchoix du cariste\,\norganisation des rotations\,\nassociation éventuelle avec d’autres écoles\, pour mutualiser le coût …\n\n– Présence sur le site le jour prévu\, \n– Envoi de la facture acquittée ou\, à défaut\, de la photocopie de la facture et du chèque de règlement avant le 2 juillet 2023. \nLe remboursement ne pourra être fait qu’au profit d’une coopérative d’école ou d’une association USEP\, exclusivement par virement (transmettre un IBAN). \nIl est soumis à l’accord de la commission des finances du Comité Départemental USEP sur les bases de 200 € maximum par classe. \n– Ce montant pourra être actualisé à la hausse à l’appui des devis reçus dans les délais et dans la limite de l’enveloppe budgétaire consacrée aux transports.  \nLes retardataires se verront attribuer une participation limitée\, dans la mesure du reliquat budgétaire. \nLes remboursements interviendront à la rentrée scolaire\, à condition que la facture acquittée soit parvenue dans les délais et sous réserve que l’USEP ait touché la subvention du Conseil Départemental. \nProtocole sanitaire :\nDes adaptations pourront être mises en place en fonction de l’évolution du contexte sanitaire. \nPour toutes précisions\, contactez : \nEric PIEDFER au 06 60 92 66 85 \nBruno GAILHAC au 06 82 05 63 19
URL:https://usep94.fr/evenement/tous-au-bal-des-jeux-du-val-de-marne-a-champigny/
LOCATION:Parc Interdépartemental des Sports du Tremblay – Champigny-sur-Marne\, 161 Boulevard de Stalingrad\, Champigny-sur-Marne\, 94500\, France
CATEGORIES:CII,CIII,TS
ATTACH;FMTTYPE=image/png:https://usep94.fr/wp-content/uploads/Bandeau-TOUS-AU-BAL-JVM-1020x450.001.png
ORGANIZER;CN="Comit%C3%A9 D%C3%A9partemental USEP 94":MAILTO:usep94.ligue94@gmail.com
GEO:48.8276041;2.4935315
X-APPLE-STRUCTURED-LOCATION;VALUE=URI;X-ADDRESS=Parc Interdépartemental des Sports du Tremblay – Champigny-sur-Marne 161 Boulevard de Stalingrad Champigny-sur-Marne 94500 France;X-APPLE-RADIUS=500;X-TITLE=161 Boulevard de Stalingrad:geo:2.4935315,48.8276041
END:VEVENT
END:VCALENDAR