BEGIN:VCALENDAR
VERSION:2.0
PRODID:-//USEP94 - ECPv6.10.1.1//NONSGML v1.0//EN
CALSCALE:GREGORIAN
METHOD:PUBLISH
X-ORIGINAL-URL:https://usep94.fr
X-WR-CALDESC:Évènements pour USEP94
REFRESH-INTERVAL;VALUE=DURATION:PT1H
X-Robots-Tag:noindex
X-PUBLISHED-TTL:PT1H
BEGIN:VTIMEZONE
TZID:Europe/Paris
BEGIN:DAYLIGHT
TZOFFSETFROM:+0100
TZOFFSETTO:+0200
TZNAME:CEST
DTSTART:20230326T010000
END:DAYLIGHT
BEGIN:STANDARD
TZOFFSETFROM:+0200
TZOFFSETTO:+0100
TZNAME:CET
DTSTART:20231029T010000
END:STANDARD
END:VTIMEZONE
BEGIN:VEVENT
DTSTART;VALUE=DATE:20230626
DTEND;VALUE=DATE:20230627
DTSTAMP:20260419T190122
CREATED:20230625T170657Z
LAST-MODIFIED:20230625T171920Z
UID:10000692-1687737600-1687823999@usep94.fr
SUMMARY:"Tous au petit bal des maternelles"
DESCRIPTION:L’USEP 94  vous propose un bal de danses traditionnelles à destination des licenciés des écoles Maternelles de Villecresnes.  \nCette forme de collectif ne s’inscrit pas dans une performance mais dans le plaisir de se découvrir\, d’oser s’exprimer\, de partager des règles\, d’assumer des rôles et des responsabilités pour apprendre à vivre ensemble. \nAlors\, venez et entrez dans la danse… \nAvant la rencontre : \n\nMettre à jour  ou créer sa fiche enseignant depuis la page d’accueil du site usep94.fr.\nInscrire sa classe à l’évènement\, en précisant le mode transport ;\n\nL’USEP 94 s’attache à l’inclusion de tous les élèves. Il vous appartient de nous solliciter afin que nous puissions vous aider ! \n\nSignaler dans le formulaire le nombre d’élèves à besoins particuliers (PAI\, situation de handicap\, …) et les adaptations nécessaires.\n\n\nInformer les familles sur la sortie (disposer  d’une bouteille d’eau\, envisager une tenue…) ;\nTrouver des accompagnateurs les adultes pourront participer aux danses ;\nPréparer 4 ou 5 danses (répertoire défini en début d’année) \n\nPour vous aider dans votre préparation\, vous pouvez retrouver des vidéos de ces danses sur le site de la La Faribole : CLIQUER ICI.\nDéroulement du bal :\nRendez-vous au Gymnase Didier Pironi\, 10 rue du Réveillon (en respectant les horaires définis : 9h00-10h00 ; 10h00-11h00 ; 14h00-15h00 ; 15h00-16h00) \n\nParticipation aux danses apprises avec de nouveaux partenaires des autres classes et les parents ;\nSi vous le souhaitez\, réalisation avec les enfants (“Petits Reporters”) d’un reportage photos et/ou vidéo.\n\nAprès la rencontre :\n\nFinaliser le reportage sur la rencontre (productions d’écrits\, productions plastiques…). Ces productions pourront nous être transmises par voie numérique à usep94.materiel@gmail.com\n\n \nProtocole sanitaire :\nDes adaptations pourront être mises en place en fonction de l’évolution du contexte sanitaire. \nPour toutes précisions\, contactez : \nBruno GAILHAC au 06 82 05 63 19
URL:https://usep94.fr/evenement/tous-au-petit-bal-des-maternelles/
LOCATION:Gymnase Didier Pironi – Villecresnes\, 10 rue du Réveillon\, Villecresnes\, 94440\, France
CATEGORIES:CI,TS
ATTACH;FMTTYPE=image/png:https://usep94.fr/wp-content/uploads/Bandeau-Tous-au-bal-1020x450.001.png
ORGANIZER;CN="Comit%C3%A9 D%C3%A9partemental USEP 94":MAILTO:usep94.ligue94@gmail.com
GEO:48.7217836;2.5361976
X-APPLE-STRUCTURED-LOCATION;VALUE=URI;X-ADDRESS=Gymnase Didier Pironi – Villecresnes 10 rue du Réveillon Villecresnes 94440 France;X-APPLE-RADIUS=500;X-TITLE=10 rue du Réveillon:geo:2.5361976,48.7217836
END:VEVENT
END:VCALENDAR